BEGIN:VCALENDAR
VERSION:2.0
PRODID:-//NaturFreunde Bochum Langendreer - ECPv6.15.20//NONSGML v1.0//EN
CALSCALE:GREGORIAN
METHOD:PUBLISH
X-WR-CALNAME:NaturFreunde Bochum Langendreer
X-ORIGINAL-URL:https://naturfreunde-langendreer.de
X-WR-CALDESC:Veranstaltungen für NaturFreunde Bochum Langendreer
REFRESH-INTERVAL;VALUE=DURATION:PT1H
X-Robots-Tag:noindex
X-PUBLISHED-TTL:PT1H
BEGIN:VTIMEZONE
TZID:Europe/Berlin
BEGIN:DAYLIGHT
TZOFFSETFROM:+0100
TZOFFSETTO:+0200
TZNAME:CEST
DTSTART:20230326T010000
END:DAYLIGHT
BEGIN:STANDARD
TZOFFSETFROM:+0200
TZOFFSETTO:+0100
TZNAME:CET
DTSTART:20231029T010000
END:STANDARD
BEGIN:DAYLIGHT
TZOFFSETFROM:+0100
TZOFFSETTO:+0200
TZNAME:CEST
DTSTART:20240331T010000
END:DAYLIGHT
BEGIN:STANDARD
TZOFFSETFROM:+0200
TZOFFSETTO:+0100
TZNAME:CET
DTSTART:20241027T010000
END:STANDARD
BEGIN:DAYLIGHT
TZOFFSETFROM:+0100
TZOFFSETTO:+0200
TZNAME:CEST
DTSTART:20250330T010000
END:DAYLIGHT
BEGIN:STANDARD
TZOFFSETFROM:+0200
TZOFFSETTO:+0100
TZNAME:CET
DTSTART:20251026T010000
END:STANDARD
END:VTIMEZONE
BEGIN:VEVENT
DTSTART;TZID=Europe/Berlin:20240913T180000
DTEND;TZID=Europe/Berlin:20240913T214500
DTSTAMP:20260420T011634
CREATED:20240712T095051Z
LAST-MODIFIED:20240712T101259Z
UID:10000389-1726250400-1726263900@naturfreunde-langendreer.de
SUMMARY:Offener Treff
DESCRIPTION:Freitagabend im NaturFreundeZentrum – Hoch die Hände\, Wochenende!\nJeden Freitag verwandeln wir unsere Räumlichkeiten in einen lebendigen Treffpunkt für Jung und Alt.\nJeder ist Willkommen
URL:https://naturfreunde-langendreer.de/event/offener-treff-10/
LOCATION:NaturFreundeZentrum\, Hohe Eiche 20\, Bochum\, NRW\, 44892\, Germany
CATEGORIES:NaturFreundeZentrum,Offener Treff
END:VEVENT
END:VCALENDAR