BEGIN:VCALENDAR
VERSION:2.0
PRODID:-//NaturFreunde Bochum Langendreer - ECPv6.15.20//NONSGML v1.0//EN
CALSCALE:GREGORIAN
METHOD:PUBLISH
X-WR-CALNAME:NaturFreunde Bochum Langendreer
X-ORIGINAL-URL:https://naturfreunde-langendreer.de
X-WR-CALDESC:Veranstaltungen für NaturFreunde Bochum Langendreer
REFRESH-INTERVAL;VALUE=DURATION:PT1H
X-Robots-Tag:noindex
X-PUBLISHED-TTL:PT1H
BEGIN:VTIMEZONE
TZID:Europe/Berlin
BEGIN:DAYLIGHT
TZOFFSETFROM:+0100
TZOFFSETTO:+0200
TZNAME:CEST
DTSTART:20230326T010000
END:DAYLIGHT
BEGIN:STANDARD
TZOFFSETFROM:+0200
TZOFFSETTO:+0100
TZNAME:CET
DTSTART:20231029T010000
END:STANDARD
BEGIN:DAYLIGHT
TZOFFSETFROM:+0100
TZOFFSETTO:+0200
TZNAME:CEST
DTSTART:20240331T010000
END:DAYLIGHT
BEGIN:STANDARD
TZOFFSETFROM:+0200
TZOFFSETTO:+0100
TZNAME:CET
DTSTART:20241027T010000
END:STANDARD
BEGIN:DAYLIGHT
TZOFFSETFROM:+0100
TZOFFSETTO:+0200
TZNAME:CEST
DTSTART:20250330T010000
END:DAYLIGHT
BEGIN:STANDARD
TZOFFSETFROM:+0200
TZOFFSETTO:+0100
TZNAME:CET
DTSTART:20251026T010000
END:STANDARD
END:VTIMEZONE
BEGIN:VEVENT
DTSTART;TZID=Europe/Berlin:20240914T110000
DTEND;TZID=Europe/Berlin:20240914T160000
DTSTAMP:20260419T234154
CREATED:20240712T143711Z
LAST-MODIFIED:20240906T101429Z
UID:10000407-1726311600-1726329600@naturfreunde-langendreer.de
SUMMARY:RuhrCleanUp vom Boot aus
DESCRIPTION:Die NaturFreunde Bochum Langendreer beteiligen sich auch in diesem Jahr an der Aktion RuhrCleanUp\, einer Aktion\, bei der viele Gruppen gemeinsam Müll an der Ruhr suchen. \nMehr Informationen sind unter: https://www.ruhrcleanup.org/de zu finden. \n 
URL:https://naturfreunde-langendreer.de/event/kanutour-10/
LOCATION:Bochumer Kanu-Club e. V.\, An der Kost 13\, Hattingen\, NRW\, 45527\, Deutschland
CATEGORIES:Aktivitäten,Kanutour
ATTACH;FMTTYPE=image/jpeg:https://naturfreunde-langendreer.de/wp-content/uploads/2023/09/RuhrcleanUp_IMG_5293.jpg
END:VEVENT
BEGIN:VEVENT
DTSTART;TZID=Europe/Berlin:20240914T110000
DTEND;TZID=Europe/Berlin:20240914T180000
DTSTAMP:20260419T234154
CREATED:20240908T172116Z
LAST-MODIFIED:20240914T080140Z
UID:10000515-1726311600-1726336800@naturfreunde-langendreer.de
SUMMARY:Kanutour (mangels Interessenten abgesagt - Vorschlag im Text)
DESCRIPTION:Wir starten wieder eine Tagestour! \nJe nach Anmeldestand wird diese Tour u.U. gekürzt. Wir brauchen mindestens 3 Autos.\nAlternativ wird auch der 15.09.2024 angeboten. \nMein Vorschlag: LIPPE von Selm zur Maifähre Flaesheim\, vorbei an den Renaturierungs Stellen. ca. 25km \n \nKonkreter Zeitplan nach Rückmeldung potentieller Teilnehmer. \nWenn du Lust hast mit zu paddeln melde dich.
URL:https://naturfreunde-langendreer.de/event/kanutour-tourverlauf-noch-offen-vorschlag-im-text/
CATEGORIES:Aktivitäten,Kanutour
ATTACH;FMTTYPE=image/jpeg:https://naturfreunde-langendreer.de/wp-content/uploads/2024/09/Share-Pic-Kanugruppe-Tagestour.jpg
END:VEVENT
END:VCALENDAR