BEGIN:VCALENDAR
VERSION:2.0
PRODID:-//NaturFreunde Bochum Langendreer - ECPv6.15.20//NONSGML v1.0//EN
CALSCALE:GREGORIAN
METHOD:PUBLISH
X-WR-CALNAME:NaturFreunde Bochum Langendreer
X-ORIGINAL-URL:https://naturfreunde-langendreer.de
X-WR-CALDESC:Veranstaltungen für NaturFreunde Bochum Langendreer
REFRESH-INTERVAL;VALUE=DURATION:PT1H
X-Robots-Tag:noindex
X-PUBLISHED-TTL:PT1H
BEGIN:VTIMEZONE
TZID:Europe/Berlin
BEGIN:DAYLIGHT
TZOFFSETFROM:+0100
TZOFFSETTO:+0200
TZNAME:CEST
DTSTART:20230326T010000
END:DAYLIGHT
BEGIN:STANDARD
TZOFFSETFROM:+0200
TZOFFSETTO:+0100
TZNAME:CET
DTSTART:20231029T010000
END:STANDARD
BEGIN:DAYLIGHT
TZOFFSETFROM:+0100
TZOFFSETTO:+0200
TZNAME:CEST
DTSTART:20240331T010000
END:DAYLIGHT
BEGIN:STANDARD
TZOFFSETFROM:+0200
TZOFFSETTO:+0100
TZNAME:CET
DTSTART:20241027T010000
END:STANDARD
BEGIN:DAYLIGHT
TZOFFSETFROM:+0100
TZOFFSETTO:+0200
TZNAME:CEST
DTSTART:20250330T010000
END:DAYLIGHT
BEGIN:STANDARD
TZOFFSETFROM:+0200
TZOFFSETTO:+0100
TZNAME:CET
DTSTART:20251026T010000
END:STANDARD
END:VTIMEZONE
BEGIN:VEVENT
DTSTART;TZID=Europe/Berlin:20240915T103000
DTEND;TZID=Europe/Berlin:20240915T170000
DTSTAMP:20260419T214448
CREATED:20240908T170514Z
LAST-MODIFIED:20240910T052549Z
UID:10000514-1726396200-1726419600@naturfreunde-langendreer.de
SUMMARY:Wanderung durch das Tal der Volme (Etappe 1)
DESCRIPTION:Wir wollen nun erst mal „vor der Haustür“ wandern\, nämlich den Rundweg rund um Bochum.\nAuch diesen natürlich in kleinen Etappen\, da der Rundweg insgesamt 73\nKilometer lang ist.\nMit der ersten Etappe wollen wir am Sonntag den 15.\nSeptember beginnen. \nTreffpunkt ist um 10:30 Uhr am Naturfreundezentrum\nin Langendreer (Hohe Eiche 20\, Ecke Lünsender Straße). \nVon dort gehen wir dann durch den Volkspark und an den Ruinen von Haus Langendreer\nvorbei\, bis wir an der Stadtgrenze zu Dortmund auf den eigentlichen\nRundweg um Bochum stoßen und diesem dann folgen. Gewandert wird wie\nüblich so lange wie die Teilnehmenden Lust haben\, danach fahren wir von\nder nächst möglichen Haltestelle aus zurück nach Langendreer.\nLiebe Grüße und Berg frei\nWolfgang Quere \nHintergrund:\nAls die Wanderung der Naturfreunde Langendreer entlang der „Geo-Route-Ruhr“\nist nun abgeschlossen wurde – vorigen Monat legten wir die letzte Etappe zurück\nund kamen in Schwerte an – hatten wir als neue Wanderung  eigentlich den Volmetalweg\nangedacht. Jedoch gibt es derzeit eine Sperrung auf der Bahnlinie durch das Tal der Volme\,\ndort gibt es nur Schienenersatzverkehr mit Bussen und dadurch natürlich\ndeutlich längere Fahrzeiten. Es ist daher gerade schwierig dort zu\nStartpunkten der einzelnen Wanderetappen zu kommen und auch hinterher\nwieder zurück zu kommen.\nVor diesem Hintergrund haben wir uns entschieden die Wanderung durch das\nTal der Volme zu verschieben.
URL:https://naturfreunde-langendreer.de/event/wandern/
LOCATION:NaturFreundeZentrum\, Hohe Eiche 20\, Bochum\, NRW\, 44892\, Germany
CATEGORIES:Aktivitäten,Wandern
END:VEVENT
BEGIN:VEVENT
DTSTART;TZID=Europe/Berlin:20240915T110000
DTEND;TZID=Europe/Berlin:20240915T180000
DTSTAMP:20260419T214448
CREATED:20240908T174956Z
LAST-MODIFIED:20240914T080228Z
UID:10000516-1726398000-1726423200@naturfreunde-langendreer.de
SUMMARY:Kanutour (mangels Interessenten abgesagt.)
DESCRIPTION:siehe Kanutour vom 14.09.
URL:https://naturfreunde-langendreer.de/event/kanutour-alternative-zum-14-09/
CATEGORIES:Aktivitäten,Kanutour
END:VEVENT
END:VCALENDAR