BEGIN:VCALENDAR
VERSION:2.0
PRODID:-//NaturFreunde Bochum Langendreer - ECPv6.15.20//NONSGML v1.0//EN
CALSCALE:GREGORIAN
METHOD:PUBLISH
X-ORIGINAL-URL:https://naturfreunde-langendreer.de
X-WR-CALDESC:Veranstaltungen für NaturFreunde Bochum Langendreer
REFRESH-INTERVAL;VALUE=DURATION:PT1H
X-Robots-Tag:noindex
X-PUBLISHED-TTL:PT1H
BEGIN:VTIMEZONE
TZID:Europe/Berlin
BEGIN:DAYLIGHT
TZOFFSETFROM:+0100
TZOFFSETTO:+0200
TZNAME:CEST
DTSTART:20240331T010000
END:DAYLIGHT
BEGIN:STANDARD
TZOFFSETFROM:+0200
TZOFFSETTO:+0100
TZNAME:CET
DTSTART:20241027T010000
END:STANDARD
BEGIN:DAYLIGHT
TZOFFSETFROM:+0100
TZOFFSETTO:+0200
TZNAME:CEST
DTSTART:20250330T010000
END:DAYLIGHT
BEGIN:STANDARD
TZOFFSETFROM:+0200
TZOFFSETTO:+0100
TZNAME:CET
DTSTART:20251026T010000
END:STANDARD
BEGIN:DAYLIGHT
TZOFFSETFROM:+0100
TZOFFSETTO:+0200
TZNAME:CEST
DTSTART:20260329T010000
END:DAYLIGHT
BEGIN:STANDARD
TZOFFSETFROM:+0200
TZOFFSETTO:+0100
TZNAME:CET
DTSTART:20261025T010000
END:STANDARD
END:VTIMEZONE
BEGIN:VEVENT
DTSTART;TZID=Europe/Berlin:20250316T103000
DTEND;TZID=Europe/Berlin:20250316T170000
DTSTAMP:20260422T192006
CREATED:20250209T143039Z
LAST-MODIFIED:20250308T102941Z
UID:10000574-1742121000-1742144400@naturfreunde-langendreer.de
SUMMARY:Wanderung
DESCRIPTION:Bei unserer Wanderung rund um Bochum sind wir bei der letzten Etappe von dem eigentlichen Wanderweg abgewichen\, weil wir eine alternative Route schöner fanden. Als wir an der Kosterstraße ankamen sind wir dort nicht weiter direkt an der Ruhr entlang gegangen\, sondern wechselten auf die andere Seite der Ruhr und sind dort durch den Wald herauf gewandert bis\nnach Burg Blankenstein\, wo nun die nächste Etappe beginnen wird. Dazu treffen wir uns am Sonntag den 16. März um 10:30 Uhr an der Straßenbahn-Haltestelle „Am Neggenborn“\, von wo wir dann um 10:41 Uhr die Straßenbahn 310 bis Bochum Hauptbahnhof nehmen werden. Von der Burg Blankenstein wandern wir dann über den Katzenstein\, an Haus Kemnade vorbei und entlang des Kemnader Sees. Es ist zwar gar nicht mehr so weit bis wir an unserem ursprünglichen Startpunkt in Langendreer wieder ankommen\, aber doch etwas zu weit für eine einzige Etappe. Deshalb wollen wir daraus lieber zwei kleinere gemütliche Etappen machen. Nach dem Kemnader-See werden wir noch durch das Ölbach-Tal laufen und dann an der Kleinherbeder Straße diese Etappe beenden. Von dort können wir den Bus 378 zurück nach Langendreer nehmen.
URL:https://naturfreunde-langendreer.de/event/wanderung-2/
ATTACH;FMTTYPE=image/jpeg:https://naturfreunde-langendreer.de/wp-content/uploads/2025/02/481465688_1017765377050895_7239716812352756041_n.jpg
END:VEVENT
END:VCALENDAR