BEGIN:VCALENDAR
VERSION:2.0
PRODID:-//NaturFreunde Bochum Langendreer - ECPv6.15.20//NONSGML v1.0//EN
CALSCALE:GREGORIAN
METHOD:PUBLISH
X-ORIGINAL-URL:https://naturfreunde-langendreer.de
X-WR-CALDESC:Veranstaltungen für NaturFreunde Bochum Langendreer
REFRESH-INTERVAL;VALUE=DURATION:PT1H
X-Robots-Tag:noindex
X-PUBLISHED-TTL:PT1H
BEGIN:VTIMEZONE
TZID:Europe/Berlin
BEGIN:DAYLIGHT
TZOFFSETFROM:+0100
TZOFFSETTO:+0200
TZNAME:CEST
DTSTART:20240331T010000
END:DAYLIGHT
BEGIN:STANDARD
TZOFFSETFROM:+0200
TZOFFSETTO:+0100
TZNAME:CET
DTSTART:20241027T010000
END:STANDARD
BEGIN:DAYLIGHT
TZOFFSETFROM:+0100
TZOFFSETTO:+0200
TZNAME:CEST
DTSTART:20250330T010000
END:DAYLIGHT
BEGIN:STANDARD
TZOFFSETFROM:+0200
TZOFFSETTO:+0100
TZNAME:CET
DTSTART:20251026T010000
END:STANDARD
BEGIN:DAYLIGHT
TZOFFSETFROM:+0100
TZOFFSETTO:+0200
TZNAME:CEST
DTSTART:20260329T010000
END:DAYLIGHT
BEGIN:STANDARD
TZOFFSETFROM:+0200
TZOFFSETTO:+0100
TZNAME:CET
DTSTART:20261025T010000
END:STANDARD
END:VTIMEZONE
BEGIN:VEVENT
DTSTART;TZID=Europe/Berlin:20250320T183000
DTEND;TZID=Europe/Berlin:20250320T213000
DTSTAMP:20260424T121635
CREATED:20250105T190629Z
LAST-MODIFIED:20250318T181054Z
UID:10000538-1742495400-1742506200@naturfreunde-langendreer.de
SUMMARY:Bildungsabend zum Thema Gebäudesanierung: Teil 2
DESCRIPTION:Mit Blick auf die Energiepreise und die Klimakrise kommen viele Eigentümer:innen zu dem Schluss: \nEs ist Zeit für eine energetische Sanierung.\nDer Vortrag beschäftigt sich unter anderem mit der Frage wie sich sinnvollen Maßnahmen für die eigene Immobilie und die Zielsetzungen herausfiltern lassen. \nIm zweiten Teil der Veranstaltung beschäftigen wir uns mit Fragen rund um \ndas Thema  \nFenstersanierung\nsowie möglichen \nFördermitteln für Einzelmaßnahmen an der Gebäudehülle.\nWann: 20. März 2025\nUhrzeit: 18:30 Uhr\nWo: in unserem NaturFreundeZentrum Hohe Eiche 20 \nThema: Gebäudesanierung: Teil 2
URL:https://naturfreunde-langendreer.de/event/ba-verbraucherzentrale-gebaeudesanierung-ii/
LOCATION:NaturFreundeZentrum\, Hohe Eiche 20\, Bochum\, NRW\, 44892\, Germany
CATEGORIES:Bildungsabend,NaturFreundeZentrum
ATTACH;FMTTYPE=image/jpeg:https://naturfreunde-langendreer.de/wp-content/uploads/2025/01/BA-Gebaeudesanierung-II.jpg
END:VEVENT
END:VCALENDAR