BEGIN:VCALENDAR
VERSION:2.0
PRODID:-//NaturFreunde Bochum Langendreer - ECPv6.15.20//NONSGML v1.0//EN
CALSCALE:GREGORIAN
METHOD:PUBLISH
X-WR-CALNAME:NaturFreunde Bochum Langendreer
X-ORIGINAL-URL:https://naturfreunde-langendreer.de
X-WR-CALDESC:Veranstaltungen für NaturFreunde Bochum Langendreer
REFRESH-INTERVAL;VALUE=DURATION:PT1H
X-Robots-Tag:noindex
X-PUBLISHED-TTL:PT1H
BEGIN:VTIMEZONE
TZID:Europe/Berlin
BEGIN:DAYLIGHT
TZOFFSETFROM:+0100
TZOFFSETTO:+0200
TZNAME:CEST
DTSTART:20240331T010000
END:DAYLIGHT
BEGIN:STANDARD
TZOFFSETFROM:+0200
TZOFFSETTO:+0100
TZNAME:CET
DTSTART:20241027T010000
END:STANDARD
BEGIN:DAYLIGHT
TZOFFSETFROM:+0100
TZOFFSETTO:+0200
TZNAME:CEST
DTSTART:20250330T010000
END:DAYLIGHT
BEGIN:STANDARD
TZOFFSETFROM:+0200
TZOFFSETTO:+0100
TZNAME:CET
DTSTART:20251026T010000
END:STANDARD
BEGIN:DAYLIGHT
TZOFFSETFROM:+0100
TZOFFSETTO:+0200
TZNAME:CEST
DTSTART:20260329T010000
END:DAYLIGHT
BEGIN:STANDARD
TZOFFSETFROM:+0200
TZOFFSETTO:+0100
TZNAME:CET
DTSTART:20261025T010000
END:STANDARD
END:VTIMEZONE
BEGIN:VEVENT
DTSTART;TZID=Europe/Berlin:20250327T193000
DTEND;TZID=Europe/Berlin:20250327T213000
DTSTAMP:20260424T121018
CREATED:20250209T145554Z
LAST-MODIFIED:20250314T115839Z
UID:10000575-1743103800-1743111000@naturfreunde-langendreer.de
SUMMARY:Es ist eine Minute vor zwölf - Diskussion mit Michael Müller
DESCRIPTION:Die Klimaveränderung schreitet voran. Der Krieg in der Ukraine nimmt kein Ende. Wie können wir einen Untergang der Welt verhindern? Wie können wir eine Klimawende und eine Friedenswende erreichen? Michael Müller\, ehemaliger Umweltstaatssekretär\, ist der Bundesvorsitzende der NaturFreude Deutschlands und gehört zu den 38 Personen\, die den Berliner Appell erstellt haben.
URL:https://naturfreunde-langendreer.de/event/es-ist-eine-minute-vor-zwoelf-diskussion-mit-michael-mueller/
CATEGORIES:Bildungsabend
ATTACH;FMTTYPE=image/jpeg:https://naturfreunde-langendreer.de/wp-content/uploads/2025/02/Michael-Mueller.jpg
END:VEVENT
BEGIN:VEVENT
DTSTART;TZID=Europe/Berlin:20250327T193000
DTEND;TZID=Europe/Berlin:20250327T220000
DTSTAMP:20260424T121018
CREATED:20250309T131019Z
LAST-MODIFIED:20250309T131019Z
UID:10000601-1743103800-1743112800@naturfreunde-langendreer.de
SUMMARY:Kreativabend
DESCRIPTION:Wir laden dich ein\, einmal im Monat mit uns kreativ zu werden. In gemütlicher Runde malen\, stricken oder töpfern wir beispielsweise zusammen. Es kommen gelegentlich auch ganz neue Angebote dazu. In Planung sind Seidenmalerei\, Seifensieden und Siebdruck… Unser Programm wechselt immer ganz nach Bedarf\, Wünschen und Lust und Laune. Genaues findest du in der Regel kurzfristig auf der Homepage oder auf Anfrage. Die Teilnahme ist kostenlos\, gegebenenfalls wird aber Materialgeld eingesammelt.
URL:https://naturfreunde-langendreer.de/event/kreativabend-4/
CATEGORIES:Kreativgruppe
ATTACH;FMTTYPE=image/jpeg:https://naturfreunde-langendreer.de/wp-content/uploads/2025/03/Kreativabend.jpg
END:VEVENT
END:VCALENDAR