BEGIN:VCALENDAR
VERSION:2.0
PRODID:-//NaturFreunde Bochum Langendreer - ECPv6.15.20//NONSGML v1.0//EN
CALSCALE:GREGORIAN
METHOD:PUBLISH
X-WR-CALNAME:NaturFreunde Bochum Langendreer
X-ORIGINAL-URL:https://naturfreunde-langendreer.de
X-WR-CALDESC:Veranstaltungen für NaturFreunde Bochum Langendreer
REFRESH-INTERVAL;VALUE=DURATION:PT1H
X-Robots-Tag:noindex
X-PUBLISHED-TTL:PT1H
BEGIN:VTIMEZONE
TZID:Europe/Berlin
BEGIN:DAYLIGHT
TZOFFSETFROM:+0100
TZOFFSETTO:+0200
TZNAME:CEST
DTSTART:20240331T010000
END:DAYLIGHT
BEGIN:STANDARD
TZOFFSETFROM:+0200
TZOFFSETTO:+0100
TZNAME:CET
DTSTART:20241027T010000
END:STANDARD
BEGIN:DAYLIGHT
TZOFFSETFROM:+0100
TZOFFSETTO:+0200
TZNAME:CEST
DTSTART:20250330T010000
END:DAYLIGHT
BEGIN:STANDARD
TZOFFSETFROM:+0200
TZOFFSETTO:+0100
TZNAME:CET
DTSTART:20251026T010000
END:STANDARD
BEGIN:DAYLIGHT
TZOFFSETFROM:+0100
TZOFFSETTO:+0200
TZNAME:CEST
DTSTART:20260329T010000
END:DAYLIGHT
BEGIN:STANDARD
TZOFFSETFROM:+0200
TZOFFSETTO:+0100
TZNAME:CET
DTSTART:20261025T010000
END:STANDARD
END:VTIMEZONE
BEGIN:VEVENT
DTSTART;TZID=Europe/Berlin:20250328T193000
DTEND;TZID=Europe/Berlin:20250328T213000
DTSTAMP:20260422T191448
CREATED:20250218T182202Z
LAST-MODIFIED:20250219T164212Z
UID:10000579-1743190200-1743197400@naturfreunde-langendreer.de
SUMMARY:Hutkonzert: Groove & Snoop groovin' de blues
DESCRIPTION:Dieses Blues & Boogie Duo interpretiert bekannte Blues-Standards in einer interessanten Besetzung: Piano/Gesang und Mundharmonika! Das umfangreiche Repertoire der erfahrenen Musiker bietet für jeden Blues-Fan etwas: Blues-Evergreens\, Boogies und Jazz&Blues-Songs – auch Eigenkompositionen werden eigenwillig interpretiert\, die Improvisationen lassen erkennen\, wie lange GROOVE & SNOOP schon den Blues spielen\, fühlen und leben und warum die beiden Vollblutmusiker zu den angesagten Blues-Duos in Deutschland zählen. GROOVE & SNOOP – von konzertant bis partywütig – quasi konzertanz! \nGroove McPearth ab dem 5. Lebensjahr klass. Klavierausbildung am Konservatorium Kaiserslautern\, Musikschulen Hattingen und Karlsruhe. Komponist von Radio- und Werbejingles\, Leitung und Betreuung verschiedener Blues- und Jazz-Combos\, unzählige Auftritte als Solo-Blues Pianist. Organisation und Leitung von Workshops und Kursen (Keyboards\, Rockförderung\, Gesang). Gründungs-Mitglied der Gruppen BURGER QUEEN und GROOVE & SNOOP BLUESBAND\, viele Studioprojekte und Plattenproduktionen. Herausgeber des BLUESER-RUNDBRIEFES\, Redakteur der Zeitschriften UNITED JAZZ SOCIETY\, MARABO\, BLUES NEWS GERMANY. Hier ist ein Boogie-Pianist mit Blues-Feeling am Werk!\nBigfoot Snoop\, Meister der Blues-Mundharmonika\, mehrere Platten- und Radioproduktionen\, gefragter Session- und Begleitmusiker\, Mitglied der GROOVE & SNOOP BLUESBAND. Bigfoot Snoop holte sich seine Inspirationen u.a. auf Sessions mit Cajun- und Blues-Bands in New Orleans. \nOb Slow-Blues oder Hard‘n‘Boogie – die Improvisationen sind perfekt und reißen das Publikum mit in den Sog des Boogie Woogie und Blues. Snoop holt aus seinen Mundharmonikas alles heraus\, was dieses Instrument normalerweise bietet – und evtl. einige ungewöhnliche Sounds mehr!
URL:https://naturfreunde-langendreer.de/event/hutkonzert-groove-snoop-groovin-de-blues/
LOCATION:NaturFreundeZentrum\, Hohe Eiche 20\, Bochum\, NRW\, 44892\, Germany
CATEGORIES:Hutkonzert,NaturFreundeZentrum,Offener Treff
ATTACH;FMTTYPE=image/png:https://naturfreunde-langendreer.de/wp-content/uploads/2025/02/Ralle.png
END:VEVENT
END:VCALENDAR