BEGIN:VCALENDAR
VERSION:2.0
PRODID:-//NaturFreunde Bochum Langendreer - ECPv6.15.20//NONSGML v1.0//EN
CALSCALE:GREGORIAN
METHOD:PUBLISH
X-WR-CALNAME:NaturFreunde Bochum Langendreer
X-ORIGINAL-URL:https://naturfreunde-langendreer.de
X-WR-CALDESC:Veranstaltungen für NaturFreunde Bochum Langendreer
REFRESH-INTERVAL;VALUE=DURATION:PT1H
X-Robots-Tag:noindex
X-PUBLISHED-TTL:PT1H
BEGIN:VTIMEZONE
TZID:Europe/Berlin
BEGIN:DAYLIGHT
TZOFFSETFROM:+0100
TZOFFSETTO:+0200
TZNAME:CEST
DTSTART:20240331T010000
END:DAYLIGHT
BEGIN:STANDARD
TZOFFSETFROM:+0200
TZOFFSETTO:+0100
TZNAME:CET
DTSTART:20241027T010000
END:STANDARD
BEGIN:DAYLIGHT
TZOFFSETFROM:+0100
TZOFFSETTO:+0200
TZNAME:CEST
DTSTART:20250330T010000
END:DAYLIGHT
BEGIN:STANDARD
TZOFFSETFROM:+0200
TZOFFSETTO:+0100
TZNAME:CET
DTSTART:20251026T010000
END:STANDARD
BEGIN:DAYLIGHT
TZOFFSETFROM:+0100
TZOFFSETTO:+0200
TZNAME:CEST
DTSTART:20260329T010000
END:DAYLIGHT
BEGIN:STANDARD
TZOFFSETFROM:+0200
TZOFFSETTO:+0100
TZNAME:CET
DTSTART:20261025T010000
END:STANDARD
END:VTIMEZONE
BEGIN:VEVENT
DTSTART;TZID=Europe/Berlin:20250421T000000
DTEND;TZID=Europe/Berlin:20250425T235959
DTSTAMP:20260422T161402
CREATED:20250224T202414Z
LAST-MODIFIED:20250404T063209Z
UID:10000583-1745193600-1745625599@naturfreunde-langendreer.de
SUMMARY:Oster-Kinder- und Jugendfreizeit
DESCRIPTION:Auch in diesem Jahr geht es für uns ins Naturfreundehaus Stimmstamm\, um dort neue Abenteuer zu erleben. Euch erwarten viele\, tolle neue Programmpunkte von verschiedenen Bastelangeboten\, Waldrallye\, Waldhütten bauen\, Lagerfeuer mit Stockbrot und einem  „großen Ausflug“. Wenn du Lust hast\, mit uns gemeinsam eine Woche lang spiele zu spielen\, zu basteln\, Spaß zu haben\, melde dich bis zum 13.04.2025 an.\nWer? : Kinder 10 – 15 Jahre\nWann?: 21.04.2025 – 25.04.2025\nWo? : Narurfreundehaus Stimmstamm\, Meschede\nWie teuer? 60 € zuzüglich Fahrkarte\nAnmeldefrist: 13. 04. 2025\nMehr Infos und Anmelde-Möglichkeiten hier: osterfreizeit 2025 \nDer Arnsberger Wald ist eines der größten zusammenhängenden Waldgebiete in Nordrhein-Westfalen. Unser NaturFreunde-Haus steht auf dem Stimmstamm\, einem Gebirgspass auf 540 Meter Höhe.\nUnterkunft\nUntergebracht sind wir im Natur­Freunde­Haus Stimmstamm. Das Haus gehört den Natur­Freunden. Mit 26 Betten und 6 Zimmern bietet es Platz damit wir als Gruppe niemanden stören und niemand uns stört.\nVerpflegung\nIm NaturFreundeHaus Stimm­stamm gibt es eine voll­ständig eingerichtete Küche. Die Betreuer und die Kinder kochen zusammen. Es wird mit Bio-Produkten gekocht (Kein Schweinefleisch). Die teil­neh­menden Kinder sollen beim ge­mein­samen Kochen Spaß haben und auch etwas über die Le­bens­mittel lernen.\nAnreise\nVon Langendreer fahren wir gemeinsam mit dem Zug nach Meschede und von dort aus mit dem Bus hoch zum Stimmstamm.
URL:https://naturfreunde-langendreer.de/event/oster-kinder-und-jugendfreizeit/
ATTACH;FMTTYPE=image/jpeg:https://naturfreunde-langendreer.de/wp-content/uploads/2025/02/Kinder-Baum-scaled.jpg
END:VEVENT
BEGIN:VEVENT
DTSTART;TZID=Europe/Berlin:20250421T123000
DTEND;TZID=Europe/Berlin:20250421T163000
DTSTAMP:20260422T161402
CREATED:20250308T105857Z
LAST-MODIFIED:20250416T170942Z
UID:10000598-1745238600-1745253000@naturfreunde-langendreer.de
SUMMARY:Ostermarsch Ruhr - Friedensmarsch in Dortmund
DESCRIPTION:„Friedensfähig statt kriegstüchtig! Kriege beenden\, Aufrüstung stoppen! Keine neuen Mittelstreckenwaffen in unserem Land!“ so lautet das Motto des OM Rhein Ruhr 25. Friedensgruppen aus den Orten zwischen Duisburg und Dortmund rufen auf zur Beteiligung. Das Programm der 3 Tage ist vielversprechend.\nWir treffen uns um 12:30 Uhr am NaturFreundeZentrum und fahren anschließend gemeinsam mit der S-Bahn nach Dortmund. \nMehr Infos unter: http://s9y.ostermarsch-ruhr.de/ \n13:30 DO-Dorstfeld\, Wilhelmplatz: „Antifaschismus und Friedenskampf gehören zusammen!“\nBegrüßung: Joachim Schramm (DFG-VK NRW)\nRede: Pfarrer Friedrich Laker (Pauluskirche)\, N.N. (DKP Dortmund)\nMusik: Markus Böse \n15:00 Dortmund\, Hansaplatz: „Friedensfähig statt kriegstüchtig!“\nRede: Michael v. d. Schulenburg (ehm. UN-Diplomat\, MdEP BSW)\, Andrea Hornung (SDAJ-Bundesvorsitzende)\, Musik: Dortmunder Klezmer Band\, Trommelund Tanzgruppe DJOLO\nDurch das Programm des Abschlussfestes führt Anke Georges (VVN-BdA Dortmund)
URL:https://naturfreunde-langendreer.de/event/ostermarsch-ruhr-friedensmarsch-in-dortmund/
CATEGORIES:Frieden,Politik,Wandern
ATTACH;FMTTYPE=image/jpeg:https://naturfreunde-langendreer.de/wp-content/uploads/2025/03/Ostermarsch.jpg
END:VEVENT
END:VCALENDAR