BEGIN:VCALENDAR
VERSION:2.0
PRODID:-//NaturFreunde Bochum Langendreer - ECPv6.15.20//NONSGML v1.0//EN
CALSCALE:GREGORIAN
METHOD:PUBLISH
X-WR-CALNAME:NaturFreunde Bochum Langendreer
X-ORIGINAL-URL:https://naturfreunde-langendreer.de
X-WR-CALDESC:Veranstaltungen für NaturFreunde Bochum Langendreer
REFRESH-INTERVAL;VALUE=DURATION:PT1H
X-Robots-Tag:noindex
X-PUBLISHED-TTL:PT1H
BEGIN:VTIMEZONE
TZID:Europe/Berlin
BEGIN:DAYLIGHT
TZOFFSETFROM:+0100
TZOFFSETTO:+0200
TZNAME:CEST
DTSTART:20240331T010000
END:DAYLIGHT
BEGIN:STANDARD
TZOFFSETFROM:+0200
TZOFFSETTO:+0100
TZNAME:CET
DTSTART:20241027T010000
END:STANDARD
BEGIN:DAYLIGHT
TZOFFSETFROM:+0100
TZOFFSETTO:+0200
TZNAME:CEST
DTSTART:20250330T010000
END:DAYLIGHT
BEGIN:STANDARD
TZOFFSETFROM:+0200
TZOFFSETTO:+0100
TZNAME:CET
DTSTART:20251026T010000
END:STANDARD
BEGIN:DAYLIGHT
TZOFFSETFROM:+0100
TZOFFSETTO:+0200
TZNAME:CEST
DTSTART:20260329T010000
END:DAYLIGHT
BEGIN:STANDARD
TZOFFSETFROM:+0200
TZOFFSETTO:+0100
TZNAME:CET
DTSTART:20261025T010000
END:STANDARD
END:VTIMEZONE
BEGIN:VEVENT
DTSTART;TZID=Europe/Berlin:20250606T180000
DTEND;TZID=Europe/Berlin:20250606T220000
DTSTAMP:20260424T152926
CREATED:20250526T161454Z
LAST-MODIFIED:20250601T173348Z
UID:10000641-1749232800-1749247200@naturfreunde-langendreer.de
SUMMARY:Offener Treff - Cocktails
DESCRIPTION:Nach dem Erfolg wird der Cocktail-Abend noch einmal am 6. Juni wiederholt.
URL:https://naturfreunde-langendreer.de/event/offener-treff-cocktails/
CATEGORIES:Offener Treff
ATTACH;FMTTYPE=image/jpeg:https://naturfreunde-langendreer.de/wp-content/uploads/2025/04/IMG-20250506-WA0005.jpg
END:VEVENT
END:VCALENDAR