BEGIN:VCALENDAR
VERSION:2.0
PRODID:-//NaturFreunde Bochum Langendreer - ECPv6.15.20//NONSGML v1.0//EN
CALSCALE:GREGORIAN
METHOD:PUBLISH
X-ORIGINAL-URL:https://naturfreunde-langendreer.de
X-WR-CALDESC:Veranstaltungen für NaturFreunde Bochum Langendreer
REFRESH-INTERVAL;VALUE=DURATION:PT1H
X-Robots-Tag:noindex
X-PUBLISHED-TTL:PT1H
BEGIN:VTIMEZONE
TZID:Europe/Berlin
BEGIN:DAYLIGHT
TZOFFSETFROM:+0100
TZOFFSETTO:+0200
TZNAME:CEST
DTSTART:20240331T010000
END:DAYLIGHT
BEGIN:STANDARD
TZOFFSETFROM:+0200
TZOFFSETTO:+0100
TZNAME:CET
DTSTART:20241027T010000
END:STANDARD
BEGIN:DAYLIGHT
TZOFFSETFROM:+0100
TZOFFSETTO:+0200
TZNAME:CEST
DTSTART:20250330T010000
END:DAYLIGHT
BEGIN:STANDARD
TZOFFSETFROM:+0200
TZOFFSETTO:+0100
TZNAME:CET
DTSTART:20251026T010000
END:STANDARD
BEGIN:DAYLIGHT
TZOFFSETFROM:+0100
TZOFFSETTO:+0200
TZNAME:CEST
DTSTART:20260329T010000
END:DAYLIGHT
BEGIN:STANDARD
TZOFFSETFROM:+0200
TZOFFSETTO:+0100
TZNAME:CET
DTSTART:20261025T010000
END:STANDARD
END:VTIMEZONE
BEGIN:VEVENT
DTSTART;TZID=Europe/Berlin:20250618T000000
DTEND;TZID=Europe/Berlin:20250623T000000
DTSTAMP:20260424T153717
CREATED:20250105T190714Z
LAST-MODIFIED:20250218T195441Z
UID:10000549-1750204800-1750636800@naturfreunde-langendreer.de
SUMMARY:Freizeit an der Lahn - Kanu oder Rad
DESCRIPTION:Für unsere Freizeit haben wir das NaturFreundeHaus Lahntalhaus gemietet. Wir wollen mit unseren Kanadier die Lahn befahren. Die Lahn ist ein toller Kanu-Fluß. An drei Tagen fahren wir durch das Tal und die Orte entlang des ehemals wichtigen Wasserwegs. Wenn du aber keine Lust auf eine Kanutour hast\, kannst du alternativ mit dem Rad die Umgebung erkunden. Abends kochen wir zusammen und tauschen uns über unsere Abenteuer aus. Neben der Übernachtung im Haus gibt es auch die Möglichkeit neben dem Haus in einerm Zelt zu übernachten. Die Übernachtung im Haus kostet im Mehrbettzimmer 80 € für 4 Nächte\, im Zelt kostet es 32 €. Dazu kommen die Kosten für das Essen\, dass wir gemeinsame einkaufen und aufteilen. Wenn du Interesse hast\, melde dich schnell an\, weil die Plätze im Haus und in den Booten beschränkt sind.
URL:https://naturfreunde-langendreer.de/event/kanu-lahn-freizeit/
LOCATION:Lahntalhaus\, Wilhelmsmühle\, Villmar
CATEGORIES:Aktivitäten,Kanutour
ATTACH;FMTTYPE=image/jpeg:https://naturfreunde-langendreer.de/wp-content/uploads/2020/02/Tag-3-Kanutour-Lippe-2019-130052-Fotos-von-Achim.jpg
END:VEVENT
END:VCALENDAR