BEGIN:VCALENDAR
VERSION:2.0
PRODID:-//NaturFreunde Bochum Langendreer - ECPv6.15.20//NONSGML v1.0//EN
CALSCALE:GREGORIAN
METHOD:PUBLISH
X-ORIGINAL-URL:https://naturfreunde-langendreer.de
X-WR-CALDESC:Veranstaltungen für NaturFreunde Bochum Langendreer
REFRESH-INTERVAL;VALUE=DURATION:PT1H
X-Robots-Tag:noindex
X-PUBLISHED-TTL:PT1H
BEGIN:VTIMEZONE
TZID:Europe/Berlin
BEGIN:DAYLIGHT
TZOFFSETFROM:+0100
TZOFFSETTO:+0200
TZNAME:CEST
DTSTART:20240331T010000
END:DAYLIGHT
BEGIN:STANDARD
TZOFFSETFROM:+0200
TZOFFSETTO:+0100
TZNAME:CET
DTSTART:20241027T010000
END:STANDARD
BEGIN:DAYLIGHT
TZOFFSETFROM:+0100
TZOFFSETTO:+0200
TZNAME:CEST
DTSTART:20250330T010000
END:DAYLIGHT
BEGIN:STANDARD
TZOFFSETFROM:+0200
TZOFFSETTO:+0100
TZNAME:CET
DTSTART:20251026T010000
END:STANDARD
BEGIN:DAYLIGHT
TZOFFSETFROM:+0100
TZOFFSETTO:+0200
TZNAME:CEST
DTSTART:20260329T010000
END:DAYLIGHT
BEGIN:STANDARD
TZOFFSETFROM:+0200
TZOFFSETTO:+0100
TZNAME:CET
DTSTART:20261025T010000
END:STANDARD
END:VTIMEZONE
BEGIN:VEVENT
DTSTART;TZID=Europe/Berlin:20250624T193000
DTEND;TZID=Europe/Berlin:20250624T220000
DTSTAMP:20260424T153716
CREATED:20250309T132237Z
LAST-MODIFIED:20250309T132237Z
UID:10000608-1750793400-1750802400@naturfreunde-langendreer.de
SUMMARY:Musikalischer Abend
DESCRIPTION:Einmal monatlich wird es bei uns musikalisch. Wer Lust hat\, mit anderen Musik zu machen\, kann mit seinem Instrument und Noten (falls vorhanden) einfach vorbeikommen und mitmachen. Wir sind lauter Laien\, die Lust darauf haben\, gemeinsam zu musizieren und probieren einfach etwas aus. Es ist bisher noch ziemlich chaotisch\, macht aber trotzdem Spaß. Die Teilnahme ist kostenlos. Getränke gibt es gegen Spende.
URL:https://naturfreunde-langendreer.de/event/musikalischer-abend-4/
CATEGORIES:Musik machen
ATTACH;FMTTYPE=image/jpeg:https://naturfreunde-langendreer.de/wp-content/uploads/2025/03/Musikalischer-Abend.jpg
END:VEVENT
END:VCALENDAR