BEGIN:VCALENDAR
VERSION:2.0
PRODID:-//NaturFreunde Bochum Langendreer - ECPv6.15.20//NONSGML v1.0//EN
CALSCALE:GREGORIAN
METHOD:PUBLISH
X-ORIGINAL-URL:https://naturfreunde-langendreer.de
X-WR-CALDESC:Veranstaltungen für NaturFreunde Bochum Langendreer
REFRESH-INTERVAL;VALUE=DURATION:PT1H
X-Robots-Tag:noindex
X-PUBLISHED-TTL:PT1H
BEGIN:VTIMEZONE
TZID:Europe/Berlin
BEGIN:DAYLIGHT
TZOFFSETFROM:+0100
TZOFFSETTO:+0200
TZNAME:CEST
DTSTART:20240331T010000
END:DAYLIGHT
BEGIN:STANDARD
TZOFFSETFROM:+0200
TZOFFSETTO:+0100
TZNAME:CET
DTSTART:20241027T010000
END:STANDARD
BEGIN:DAYLIGHT
TZOFFSETFROM:+0100
TZOFFSETTO:+0200
TZNAME:CEST
DTSTART:20250330T010000
END:DAYLIGHT
BEGIN:STANDARD
TZOFFSETFROM:+0200
TZOFFSETTO:+0100
TZNAME:CET
DTSTART:20251026T010000
END:STANDARD
BEGIN:DAYLIGHT
TZOFFSETFROM:+0100
TZOFFSETTO:+0200
TZNAME:CEST
DTSTART:20260329T010000
END:DAYLIGHT
BEGIN:STANDARD
TZOFFSETFROM:+0200
TZOFFSETTO:+0100
TZNAME:CET
DTSTART:20261025T010000
END:STANDARD
END:VTIMEZONE
BEGIN:VEVENT
DTSTART;TZID=Europe/Berlin:20250708T163000
DTEND;TZID=Europe/Berlin:20250708T173000
DTSTAMP:20260424T184819
CREATED:20250707T110316Z
LAST-MODIFIED:20250707T110316Z
UID:10000677-1751992200-1751995800@naturfreunde-langendreer.de
SUMMARY:Reichtum schafft Klimakrise
DESCRIPTION:Wir sind beim Klimacamp (Grabenstraße 9\, Bochum-Innenstadt) mit einer Veranstaltung dabei. \nWenn Bezos mal eben mit seinen Hochzeitsgästen nach Venedig jettet\, dann kann Hertha Müller zu Fuß das Klima nicht retten. Superreiche nehmen die Zerstörung der Erde für ihr Privatvergnügen und ihre Profite in Kauf und beteiligen sich an den Kosten des Klimawandels nur gering. Belastet werden durch den Klimawandel hier und im globalen Süden die schwächsten der Gesellschaft. Gleichzeitig wird die Gesellschaft für die Profite der Reichen manipuliert und Rechte verrichten die „Drecksarbeit“ der Verbrennerindustrie. Im Vortrag soll es um Fakten und Alternativen gehen. Referent: Michael Post\, NaturFreunde Langendreer
URL:https://naturfreunde-langendreer.de/event/reichtum-schafft-klimakrise/
ATTACH;FMTTYPE=image/jpeg:https://naturfreunde-langendreer.de/wp-content/uploads/2025/07/REichtum-Klimawandel.jpg
END:VEVENT
BEGIN:VEVENT
DTSTART;TZID=Europe/Berlin:20250708T190000
DTEND;TZID=Europe/Berlin:20250708T210000
DTSTAMP:20260424T184819
CREATED:20250424T100902Z
LAST-MODIFIED:20250424T102137Z
UID:10000634-1752001200-1752008400@naturfreunde-langendreer.de
SUMMARY:Friedensinitiative Langendreer
DESCRIPTION:Wir bereiten gemeinsam Aktivitäten gegen die Aufrüstung vor. Mach mit!
URL:https://naturfreunde-langendreer.de/event/friedensinitiative-langendreer-2/
ATTACH;FMTTYPE=image/png:https://naturfreunde-langendreer.de/wp-content/uploads/2024/04/Friedensflagge_Version1.png
END:VEVENT
BEGIN:VEVENT
DTSTART;TZID=Europe/Berlin:20250708T190000
DTEND;TZID=Europe/Berlin:20250708T213000
DTSTAMP:20260424T184819
CREATED:20250526T185113Z
LAST-MODIFIED:20250627T190149Z
UID:10000647-1752001200-1752010200@naturfreunde-langendreer.de
SUMMARY:Fantasy Pen&Paper
DESCRIPTION:Hast du schon einmal davon geträumt\, in die Rolle eines geschickten Diebes\, mächtigen Magiers\, tapferen Heilers oder mutigen Kriegers zu schlüpfen? Möchtest du als Elf durch die Wälder streifen\, als Zwerg dunkle Höhlen erkunden oder als Halbling listige Pläne schmieden? \nDann schließe dich unserer Runde an! \nPen & Paper Rollenspielabend \nAusnahmsweise wegen den Sommerferien heute am 2. Dienstag im Monat!\nJeden 3. Dienstag im Monat\nAb 19:00 Uhr\nim NFZ \nWir spielen ein spannendes Abenteuer basierend auf den Regeln von D&D\, AD&D und Pathfinder. Neue und erfahrene Spielerinnen sind herzlich willkommen – wir suchen aktuell noch 1 bis 3 Mitspielerinnen!
URL:https://naturfreunde-langendreer.de/event/fantasy-penpaper-3/
LOCATION:NaturFreundeZentrum\, Hohe Eiche 20\, Bochum\, NRW\, 44892\, Germany
CATEGORIES:Aktivitäten,NaturFreundeZentrum,Spieleabend
ATTACH;FMTTYPE=image/jpeg:https://naturfreunde-langendreer.de/wp-content/uploads/2025/05/Dices.jpg
END:VEVENT
END:VCALENDAR