BEGIN:VCALENDAR
VERSION:2.0
PRODID:-//NaturFreunde Bochum Langendreer - ECPv6.15.20//NONSGML v1.0//EN
CALSCALE:GREGORIAN
METHOD:PUBLISH
X-WR-CALNAME:NaturFreunde Bochum Langendreer
X-ORIGINAL-URL:https://naturfreunde-langendreer.de
X-WR-CALDESC:Veranstaltungen für NaturFreunde Bochum Langendreer
REFRESH-INTERVAL;VALUE=DURATION:PT1H
X-Robots-Tag:noindex
X-PUBLISHED-TTL:PT1H
BEGIN:VTIMEZONE
TZID:Europe/Berlin
BEGIN:DAYLIGHT
TZOFFSETFROM:+0100
TZOFFSETTO:+0200
TZNAME:CEST
DTSTART:20240331T010000
END:DAYLIGHT
BEGIN:STANDARD
TZOFFSETFROM:+0200
TZOFFSETTO:+0100
TZNAME:CET
DTSTART:20241027T010000
END:STANDARD
BEGIN:DAYLIGHT
TZOFFSETFROM:+0100
TZOFFSETTO:+0200
TZNAME:CEST
DTSTART:20250330T010000
END:DAYLIGHT
BEGIN:STANDARD
TZOFFSETFROM:+0200
TZOFFSETTO:+0100
TZNAME:CET
DTSTART:20251026T010000
END:STANDARD
BEGIN:DAYLIGHT
TZOFFSETFROM:+0100
TZOFFSETTO:+0200
TZNAME:CEST
DTSTART:20260329T010000
END:DAYLIGHT
BEGIN:STANDARD
TZOFFSETFROM:+0200
TZOFFSETTO:+0100
TZNAME:CET
DTSTART:20261025T010000
END:STANDARD
END:VTIMEZONE
BEGIN:VEVENT
DTSTART;TZID=Europe/Berlin:20251010T180000
DTEND;TZID=Europe/Berlin:20251010T213000
DTSTAMP:20260421T135143
CREATED:20250831T200426Z
LAST-MODIFIED:20250907T134102Z
UID:10000698-1760119200-1760131800@naturfreunde-langendreer.de
SUMMARY:Offener Treff: Achim Bigus singt Arbeiter- und Friedenslieder
DESCRIPTION:Lieder der Arbeiterbewegung und des Widerstands zum Mitsingen. Achim Bigus ist Interpret politischer Lieder. Im Zuge seiner Politisierung hat der aktive Gewerkschafter und ehemalige Betriebsrat bei Karman/VW Osnabrück auf dem Umweg über Protestsongs und Politrock-Bands auch die alten Arbeiterlieder wiederentdeckt.\nAb 18:00 Einlass. Beginn des Konzerts um 19:30 Uhr.
URL:https://naturfreunde-langendreer.de/event/offener-treff-achim-bigus-singt-arbeiter-und-friedenslieder/
ATTACH;FMTTYPE=image/jpeg:https://naturfreunde-langendreer.de/wp-content/uploads/2025/08/bigus.jpg
END:VEVENT
END:VCALENDAR