BEGIN:VCALENDAR
VERSION:2.0
PRODID:-//NaturFreunde Bochum Langendreer - ECPv6.15.20//NONSGML v1.0//EN
CALSCALE:GREGORIAN
METHOD:PUBLISH
X-ORIGINAL-URL:https://naturfreunde-langendreer.de
X-WR-CALDESC:Veranstaltungen für NaturFreunde Bochum Langendreer
REFRESH-INTERVAL;VALUE=DURATION:PT1H
X-Robots-Tag:noindex
X-PUBLISHED-TTL:PT1H
BEGIN:VTIMEZONE
TZID:Europe/Berlin
BEGIN:DAYLIGHT
TZOFFSETFROM:+0100
TZOFFSETTO:+0200
TZNAME:CEST
DTSTART:20240331T010000
END:DAYLIGHT
BEGIN:STANDARD
TZOFFSETFROM:+0200
TZOFFSETTO:+0100
TZNAME:CET
DTSTART:20241027T010000
END:STANDARD
BEGIN:DAYLIGHT
TZOFFSETFROM:+0100
TZOFFSETTO:+0200
TZNAME:CEST
DTSTART:20250330T010000
END:DAYLIGHT
BEGIN:STANDARD
TZOFFSETFROM:+0200
TZOFFSETTO:+0100
TZNAME:CET
DTSTART:20251026T010000
END:STANDARD
BEGIN:DAYLIGHT
TZOFFSETFROM:+0100
TZOFFSETTO:+0200
TZNAME:CEST
DTSTART:20260329T010000
END:DAYLIGHT
BEGIN:STANDARD
TZOFFSETFROM:+0200
TZOFFSETTO:+0100
TZNAME:CET
DTSTART:20261025T010000
END:STANDARD
END:VTIMEZONE
BEGIN:VEVENT
DTSTART;TZID=Europe/Berlin:20251013T080000
DTEND;TZID=Europe/Berlin:20251017T170000
DTSTAMP:20260421T203129
CREATED:20250218T193531Z
LAST-MODIFIED:20250311T133637Z
UID:10000580-1760342400-1760720400@naturfreunde-langendreer.de
SUMMARY:Fahrt nach Krakau und Auschwitz
DESCRIPTION:Wir besuchen die Stadt Krakau\, das ehemalige Ghetto in Kazimierz und das Krakauer Ghetto mit dem Schindler-Museum. Anmeldungen müssen bis zum 31.3. erfolgen. Die Kosten werden um 600 € liegen.\nMehr Informationen dazu: Informationen zur Krakau-Fahrt
URL:https://naturfreunde-langendreer.de/event/fahrt-nach-krakau-und-auschwitz/
ATTACH;FMTTYPE=image/jpeg:https://naturfreunde-langendreer.de/wp-content/uploads/2025/02/WhatsApp-Bild-2025-02-18-um-20.31.44_89dd6962.jpg
END:VEVENT
END:VCALENDAR