BEGIN:VCALENDAR
VERSION:2.0
PRODID:-//NaturFreunde Bochum Langendreer - ECPv6.15.20//NONSGML v1.0//EN
CALSCALE:GREGORIAN
METHOD:PUBLISH
X-WR-CALNAME:NaturFreunde Bochum Langendreer
X-ORIGINAL-URL:https://naturfreunde-langendreer.de
X-WR-CALDESC:Veranstaltungen für NaturFreunde Bochum Langendreer
REFRESH-INTERVAL;VALUE=DURATION:PT1H
X-Robots-Tag:noindex
X-PUBLISHED-TTL:PT1H
BEGIN:VTIMEZONE
TZID:Europe/Berlin
BEGIN:DAYLIGHT
TZOFFSETFROM:+0100
TZOFFSETTO:+0200
TZNAME:CEST
DTSTART:20240331T010000
END:DAYLIGHT
BEGIN:STANDARD
TZOFFSETFROM:+0200
TZOFFSETTO:+0100
TZNAME:CET
DTSTART:20241027T010000
END:STANDARD
BEGIN:DAYLIGHT
TZOFFSETFROM:+0100
TZOFFSETTO:+0200
TZNAME:CEST
DTSTART:20250330T010000
END:DAYLIGHT
BEGIN:STANDARD
TZOFFSETFROM:+0200
TZOFFSETTO:+0100
TZNAME:CET
DTSTART:20251026T010000
END:STANDARD
BEGIN:DAYLIGHT
TZOFFSETFROM:+0100
TZOFFSETTO:+0200
TZNAME:CEST
DTSTART:20260329T010000
END:DAYLIGHT
BEGIN:STANDARD
TZOFFSETFROM:+0200
TZOFFSETTO:+0100
TZNAME:CET
DTSTART:20261025T010000
END:STANDARD
END:VTIMEZONE
BEGIN:VEVENT
DTSTART;TZID=Europe/Berlin:20251028T090000
DTEND;TZID=Europe/Berlin:20251028T110000
DTSTAMP:20260421T172607
CREATED:20251022T131848Z
LAST-MODIFIED:20260125T143114Z
UID:10000709-1761642000-1761649200@naturfreunde-langendreer.de
SUMMARY:Ansprech-Bar
DESCRIPTION:Offene Beratung der Kita-Sozialarbeit bei Kaffee und Tee\nfür Mütter und Väter von Kindern im Alter von 0-6 Jahren\, unabhängig vom Besuch einer Kita\nzu Themen wie z.B.  \n\nFreizeit und Kontakt\nBehörden und Anträgen\nAlltagssorgen und Austausch\n\nDienstags von 09:00 bis 11:00 Uhr im NFZ Bochum\, Hohe Eiche 20 \nAnsprechpartnerin \nAnke Bhatti \nStadt Bochum Jugendamt\n-Kita Sozialarbeit-\nTel: 0234 9109331\nmobil: 0152 54981520\ne-mail: ABhatti@bochum.de
URL:https://naturfreunde-langendreer.de/event/ansprech-bar/2025-10-28/
LOCATION:NaturFreundeZentrum\, Hohe Eiche 20\, Bochum\, 44892\, Germany
CATEGORIES:NaturFreundeZentrum
END:VEVENT
BEGIN:VEVENT
DTSTART;TZID=Europe/Berlin:20251028T193000
DTEND;TZID=Europe/Berlin:20251028T213000
DTSTAMP:20260421T172607
CREATED:20250831T194750Z
LAST-MODIFIED:20250831T194750Z
UID:10000693-1761679800-1761687000@naturfreunde-langendreer.de
SUMMARY:Musikalischer Abend
DESCRIPTION:Einmal monatlich wird es bei uns musikalisch. Wer Lust hat\, mit anderen Musik zu machen\, kann mit seinem Instrument und Noten (falls vorhanden) einfach vorbeikommen und mitmachen. Wir sind lauter Laien\, die Lust darauf haben\, gemeinsam zu musizieren und probieren einfach etwas aus. Es ist bisher noch ziemlich chaotisch\, macht aber trotzdem Spaß. Die Teilnahme ist kostenlos. Getränke gibt es gegen Spende.
URL:https://naturfreunde-langendreer.de/event/musikalischer-abend-7/
CATEGORIES:Musik machen
ATTACH;FMTTYPE=image/jpeg:https://naturfreunde-langendreer.de/wp-content/uploads/2025/08/250923-Musikalischer-Abend.jpg
END:VEVENT
END:VCALENDAR