BEGIN:VCALENDAR
VERSION:2.0
PRODID:-//NaturFreunde Bochum Langendreer - ECPv6.15.20//NONSGML v1.0//EN
CALSCALE:GREGORIAN
METHOD:PUBLISH
X-ORIGINAL-URL:https://naturfreunde-langendreer.de
X-WR-CALDESC:Veranstaltungen für NaturFreunde Bochum Langendreer
REFRESH-INTERVAL;VALUE=DURATION:PT1H
X-Robots-Tag:noindex
X-PUBLISHED-TTL:PT1H
BEGIN:VTIMEZONE
TZID:Europe/Berlin
BEGIN:DAYLIGHT
TZOFFSETFROM:+0100
TZOFFSETTO:+0200
TZNAME:CEST
DTSTART:20240331T010000
END:DAYLIGHT
BEGIN:STANDARD
TZOFFSETFROM:+0200
TZOFFSETTO:+0100
TZNAME:CET
DTSTART:20241027T010000
END:STANDARD
BEGIN:DAYLIGHT
TZOFFSETFROM:+0100
TZOFFSETTO:+0200
TZNAME:CEST
DTSTART:20250330T010000
END:DAYLIGHT
BEGIN:STANDARD
TZOFFSETFROM:+0200
TZOFFSETTO:+0100
TZNAME:CET
DTSTART:20251026T010000
END:STANDARD
BEGIN:DAYLIGHT
TZOFFSETFROM:+0100
TZOFFSETTO:+0200
TZNAME:CEST
DTSTART:20260329T010000
END:DAYLIGHT
BEGIN:STANDARD
TZOFFSETFROM:+0200
TZOFFSETTO:+0100
TZNAME:CET
DTSTART:20261025T010000
END:STANDARD
END:VTIMEZONE
BEGIN:VEVENT
DTSTART;TZID=Europe/Berlin:20251030T193000
DTEND;TZID=Europe/Berlin:20251030T193000
DTSTAMP:20260425T143437
CREATED:20250627T204054Z
LAST-MODIFIED:20251023T133105Z
UID:10000674-1761852600-1761852600@naturfreunde-langendreer.de
SUMMARY:Diskussionsabend: Wie können wir unsere Demokratie noch retten?
DESCRIPTION:Die Intiative „überLEBEN“ hat sich unter dem Dach der plattform.PRO zusammengefunden und will an der Erzählung\, dass wir uns den wirtschaftlichen und politischen Notwendigkeiten beugen müssen\, rütteln. Wir wollen Politik- und Machtinteressen einordnen\, Zusammenhänge darstellen\, die in der Medienwelt zu wenig Beachtung finden aber auch positive Begeisterung für das Leben und unsere Mitwelt schaffen. Wir wollen über Leben reden und die Diskrepanz zwischen Wissen und Handeln durchbrechen. Und dafür brauchen wir euch\, denn wir denken dies funktioniert nur gemeinsam\, als riesiges Netzwerk aus großen und kleinen NGO\, Initiativen\, Bündnissen\, Einzelpersonen\, Unternehmen und Forschenden\, die ihre Kräfte bündeln\, gemeinsam eine andere Erzählung etablieren und sich Zerstörung\, Ausbeutung und Ungerechtigkeit entgegensetzen. Für ein gutes Überleben für Alle!
URL:https://naturfreunde-langendreer.de/event/diskussion-ueberleben/
ATTACH;FMTTYPE=image/jpeg:https://naturfreunde-langendreer.de/wp-content/uploads/2025/06/DA-Ueberleben-1.jpg
END:VEVENT
END:VCALENDAR