BEGIN:VCALENDAR
VERSION:2.0
PRODID:-//NaturFreunde Bochum Langendreer - ECPv6.15.20//NONSGML v1.0//EN
CALSCALE:GREGORIAN
METHOD:PUBLISH
X-ORIGINAL-URL:https://naturfreunde-langendreer.de
X-WR-CALDESC:Veranstaltungen für NaturFreunde Bochum Langendreer
REFRESH-INTERVAL;VALUE=DURATION:PT1H
X-Robots-Tag:noindex
X-PUBLISHED-TTL:PT1H
BEGIN:VTIMEZONE
TZID:Europe/Berlin
BEGIN:DAYLIGHT
TZOFFSETFROM:+0100
TZOFFSETTO:+0200
TZNAME:CEST
DTSTART:20240331T010000
END:DAYLIGHT
BEGIN:STANDARD
TZOFFSETFROM:+0200
TZOFFSETTO:+0100
TZNAME:CET
DTSTART:20241027T010000
END:STANDARD
BEGIN:DAYLIGHT
TZOFFSETFROM:+0100
TZOFFSETTO:+0200
TZNAME:CEST
DTSTART:20250330T010000
END:DAYLIGHT
BEGIN:STANDARD
TZOFFSETFROM:+0200
TZOFFSETTO:+0100
TZNAME:CET
DTSTART:20251026T010000
END:STANDARD
BEGIN:DAYLIGHT
TZOFFSETFROM:+0100
TZOFFSETTO:+0200
TZNAME:CEST
DTSTART:20260329T010000
END:DAYLIGHT
BEGIN:STANDARD
TZOFFSETFROM:+0200
TZOFFSETTO:+0100
TZNAME:CET
DTSTART:20261025T010000
END:STANDARD
END:VTIMEZONE
BEGIN:VEVENT
DTSTART;TZID=Europe/Berlin:20251114T170000
DTEND;TZID=Europe/Berlin:20251114T180000
DTSTAMP:20260421T190452
CREATED:20250606T145341Z
LAST-MODIFIED:20251013T100606Z
UID:10000657-1763139600-1763143200@naturfreunde-langendreer.de
SUMMARY:Arbeitseinsatz im NaturFreundeZentrum
DESCRIPTION:Aufräumen und Reparaturen im NaturFreundeZentrum \n\nGrundreinigung\,\nBriefkästen\,\nAufräumen –\nkram entsorgen\nDeko\nGarten\nZaun
URL:https://naturfreunde-langendreer.de/event/arbeitseinsatz-im-naturfreundezentrum-2/
LOCATION:NaturFreundeZentrum\, Hohe Eiche 20\, Bochum\, NRW\, 44892\, Germany
CATEGORIES:Arbeitseinsatz,NaturFreundeZentrum
ATTACH;FMTTYPE=image/jpeg:https://naturfreunde-langendreer.de/wp-content/uploads/2023/11/NFZ-2-1-e1699816015159.jpg
END:VEVENT
BEGIN:VEVENT
DTSTART;TZID=Europe/Berlin:20251114T180000
DTEND;TZID=Europe/Berlin:20251114T213000
DTSTAMP:20260421T190452
CREATED:20251017T151020Z
LAST-MODIFIED:20251022T130616Z
UID:10000708-1763143200-1763155800@naturfreunde-langendreer.de
SUMMARY:Offener Treff - Gärbar 2.0 🍻
DESCRIPTION:Es startet wieder die zweite Runde der Gärbar im NFZ. \nEs wird wieder leckere Biere verschiedener Brauarten aus nah und fern geben. \nKEINE ANMELDUNG ERFORDERLICH \nPS: Natürlich sind auch alkoholfreie Biere dabei! \nKommt vorbei
URL:https://naturfreunde-langendreer.de/event/offener-treff-gaerbar-2-0/
LOCATION:NaturFreundeZentrum\, Hohe Eiche 20\, Bochum\, 44892\, Germany
CATEGORIES:NaturFreundeZentrum,Offener Treff
ATTACH;FMTTYPE=image/jpeg:https://naturfreunde-langendreer.de/wp-content/uploads/2025/10/SharePic-Gaerbar-2-0.jpg
END:VEVENT
END:VCALENDAR