BEGIN:VCALENDAR
VERSION:2.0
PRODID:-//NaturFreunde Bochum Langendreer - ECPv6.15.20//NONSGML v1.0//EN
CALSCALE:GREGORIAN
METHOD:PUBLISH
X-ORIGINAL-URL:https://naturfreunde-langendreer.de
X-WR-CALDESC:Veranstaltungen für NaturFreunde Bochum Langendreer
REFRESH-INTERVAL;VALUE=DURATION:PT1H
X-Robots-Tag:noindex
X-PUBLISHED-TTL:PT1H
BEGIN:VTIMEZONE
TZID:Europe/Berlin
BEGIN:DAYLIGHT
TZOFFSETFROM:+0100
TZOFFSETTO:+0200
TZNAME:CEST
DTSTART:20240331T010000
END:DAYLIGHT
BEGIN:STANDARD
TZOFFSETFROM:+0200
TZOFFSETTO:+0100
TZNAME:CET
DTSTART:20241027T010000
END:STANDARD
BEGIN:DAYLIGHT
TZOFFSETFROM:+0100
TZOFFSETTO:+0200
TZNAME:CEST
DTSTART:20250330T010000
END:DAYLIGHT
BEGIN:STANDARD
TZOFFSETFROM:+0200
TZOFFSETTO:+0100
TZNAME:CET
DTSTART:20251026T010000
END:STANDARD
BEGIN:DAYLIGHT
TZOFFSETFROM:+0100
TZOFFSETTO:+0200
TZNAME:CEST
DTSTART:20260329T010000
END:DAYLIGHT
BEGIN:STANDARD
TZOFFSETFROM:+0200
TZOFFSETTO:+0100
TZNAME:CET
DTSTART:20261025T010000
END:STANDARD
END:VTIMEZONE
BEGIN:VEVENT
DTSTART;TZID=Europe/Berlin:20251120T193000
DTEND;TZID=Europe/Berlin:20251120T213000
DTSTAMP:20260421T184052
CREATED:20250627T204803Z
LAST-MODIFIED:20251030T154645Z
UID:10000675-1763667000-1763674200@naturfreunde-langendreer.de
SUMMARY:Diskussionsabend mit Serdar Yüksel
DESCRIPTION:Rekordausgaben in Aufrüstung\, schwindende Entspannungspolitik\, Abschaffung des Bürgergelds\, angespannte Wohnungsmärkte\, Rekordzustimmungen für die AfD und eine stockende Energiewende – die Liste aktueller Herausforderungen in Deutschland ist lang.\nVor diesem Hintergrund stellt sich die Frage\, wie eine fortschrittliche Politik in dieser Zeit aussehen kann. Wie lassen sich soziale Sicherheit\, Frieden und Klimaschutz in einem neuen politischen Zeitgeist miteinander verbinden? Wie kann unter diesen Bedingungen fortschrittliche Politik aussehen? Kann man eine solche Politik mittragen? Fragen an den Bundestagsabgeordneten und NaturFreund Serdar Yüksel.“
URL:https://naturfreunde-langendreer.de/event/diskussionsabend-mit-serdar-yueksel/
CATEGORIES:Bildungsabend
ATTACH;FMTTYPE=image/jpeg:https://naturfreunde-langendreer.de/wp-content/uploads/2025/06/DA-Yueksel-1.jpg
END:VEVENT
END:VCALENDAR