BEGIN:VCALENDAR
VERSION:2.0
PRODID:-//NaturFreunde Bochum Langendreer - ECPv6.15.20//NONSGML v1.0//EN
CALSCALE:GREGORIAN
METHOD:PUBLISH
X-WR-CALNAME:NaturFreunde Bochum Langendreer
X-ORIGINAL-URL:https://naturfreunde-langendreer.de
X-WR-CALDESC:Veranstaltungen für NaturFreunde Bochum Langendreer
REFRESH-INTERVAL;VALUE=DURATION:PT1H
X-Robots-Tag:noindex
X-PUBLISHED-TTL:PT1H
BEGIN:VTIMEZONE
TZID:Europe/Berlin
BEGIN:DAYLIGHT
TZOFFSETFROM:+0100
TZOFFSETTO:+0200
TZNAME:CEST
DTSTART:20240331T010000
END:DAYLIGHT
BEGIN:STANDARD
TZOFFSETFROM:+0200
TZOFFSETTO:+0100
TZNAME:CET
DTSTART:20241027T010000
END:STANDARD
BEGIN:DAYLIGHT
TZOFFSETFROM:+0100
TZOFFSETTO:+0200
TZNAME:CEST
DTSTART:20250330T010000
END:DAYLIGHT
BEGIN:STANDARD
TZOFFSETFROM:+0200
TZOFFSETTO:+0100
TZNAME:CET
DTSTART:20251026T010000
END:STANDARD
BEGIN:DAYLIGHT
TZOFFSETFROM:+0100
TZOFFSETTO:+0200
TZNAME:CEST
DTSTART:20260329T010000
END:DAYLIGHT
BEGIN:STANDARD
TZOFFSETFROM:+0200
TZOFFSETTO:+0100
TZNAME:CET
DTSTART:20261025T010000
END:STANDARD
END:VTIMEZONE
BEGIN:VEVENT
DTSTART;TZID=Europe/Berlin:20251123T100000
DTEND;TZID=Europe/Berlin:20251123T170000
DTSTAMP:20260421T135212
CREATED:20251029T185708Z
LAST-MODIFIED:20251106T201629Z
UID:10000716-1763892000-1763917200@naturfreunde-langendreer.de
SUMMARY:Wanderung
DESCRIPTION:Liebe Wanderfreundinnen und Wanderfreunde\, \neigentlich wollten wir am Sonntag den 23. November die nächste Etappe durch das Tal der Volme erwandern. Nachdem uns im Oktober das Wetter einen Strich durch die Rechnung gemacht hatte\, ist es nun die Bogestra mit Bauarbeiten an der Straßenbahnlinie zwischen Langendreer und Witten. \nDeshalb verschieben wir die weitere Wanderung durch das Volmetal\, und fügen nun einfach eine Wanderung mal wieder direkt vor unserer Haustür ein: \nTreffpunkt ist am Sonntag\, den 23. November\, um 10 Uhr direkt an unserem Naturfreundezentrum (Hohe Eiche 20\, 44892 Bochum-Lamgendreer). \nDirekt dort starten wir dann zu einer Wanderung entlang des Rundwegs um Langendreer. Naja\, nennt sich zwar Rundweg um Langendreer\, aber der Weg führt uns unter anderem auch durch den Park Werne. \nLiebe Grüße und Berg frei\nWolfgang Quere
URL:https://naturfreunde-langendreer.de/event/wanderung-3/
CATEGORIES:Wandern
ATTACH;FMTTYPE=image/jpeg:https://naturfreunde-langendreer.de/wp-content/uploads/2025/02/Flyer_Wandern_2025.jpg
END:VEVENT
END:VCALENDAR