BEGIN:VCALENDAR
VERSION:2.0
PRODID:-//NaturFreunde Bochum Langendreer - ECPv6.15.20//NONSGML v1.0//EN
CALSCALE:GREGORIAN
METHOD:PUBLISH
X-WR-CALNAME:NaturFreunde Bochum Langendreer
X-ORIGINAL-URL:https://naturfreunde-langendreer.de
X-WR-CALDESC:Veranstaltungen für NaturFreunde Bochum Langendreer
REFRESH-INTERVAL;VALUE=DURATION:PT1H
X-Robots-Tag:noindex
X-PUBLISHED-TTL:PT1H
BEGIN:VTIMEZONE
TZID:Europe/Berlin
BEGIN:DAYLIGHT
TZOFFSETFROM:+0100
TZOFFSETTO:+0200
TZNAME:CEST
DTSTART:20250330T010000
END:DAYLIGHT
BEGIN:STANDARD
TZOFFSETFROM:+0200
TZOFFSETTO:+0100
TZNAME:CET
DTSTART:20251026T010000
END:STANDARD
BEGIN:DAYLIGHT
TZOFFSETFROM:+0100
TZOFFSETTO:+0200
TZNAME:CEST
DTSTART:20260329T010000
END:DAYLIGHT
BEGIN:STANDARD
TZOFFSETFROM:+0200
TZOFFSETTO:+0100
TZNAME:CET
DTSTART:20261025T010000
END:STANDARD
BEGIN:DAYLIGHT
TZOFFSETFROM:+0100
TZOFFSETTO:+0200
TZNAME:CEST
DTSTART:20270328T010000
END:DAYLIGHT
BEGIN:STANDARD
TZOFFSETFROM:+0200
TZOFFSETTO:+0100
TZNAME:CET
DTSTART:20271031T010000
END:STANDARD
END:VTIMEZONE
BEGIN:VEVENT
DTSTART;TZID=Europe/Berlin:20260111T100000
DTEND;TZID=Europe/Berlin:20260111T150000
DTSTAMP:20260421T171738
CREATED:20251013T094019Z
LAST-MODIFIED:20251210T081809Z
UID:10000705-1768125600-1768143600@naturfreunde-langendreer.de
SUMMARY:Frühstücken und Programmplanung
DESCRIPTION:Zur schönen Tradition ist es geworden\, dass wir uns am zweiten Sonntag im neuen Jahr treffen und gemeinsam über die Freizeiten und das Programm für das anstehende Jahr diskutieren. Zuvor gibt es ein ausführliches Frühstück\, damit man ein wenig zusammen quatschen kann. Alle\, die beim Programm mitmachen wollen\, sind eingeladen mitzuwirken. Für das Frühstück bitten wir um eine Anmeldung.
URL:https://naturfreunde-langendreer.de/event/fruehstuecken-und-programmplanung/
CATEGORIES:Mitgliedertreff
ATTACH;FMTTYPE=image/jpeg:https://naturfreunde-langendreer.de/wp-content/uploads/2025/10/Planungsfruehstueck.jpeg
END:VEVENT
END:VCALENDAR