BEGIN:VCALENDAR
VERSION:2.0
PRODID:-//NaturFreunde Bochum Langendreer - ECPv6.15.20//NONSGML v1.0//EN
CALSCALE:GREGORIAN
METHOD:PUBLISH
X-WR-CALNAME:NaturFreunde Bochum Langendreer
X-ORIGINAL-URL:https://naturfreunde-langendreer.de
X-WR-CALDESC:Veranstaltungen für NaturFreunde Bochum Langendreer
REFRESH-INTERVAL;VALUE=DURATION:PT1H
X-Robots-Tag:noindex
X-PUBLISHED-TTL:PT1H
BEGIN:VTIMEZONE
TZID:Europe/Berlin
BEGIN:DAYLIGHT
TZOFFSETFROM:+0100
TZOFFSETTO:+0200
TZNAME:CEST
DTSTART:20250330T010000
END:DAYLIGHT
BEGIN:STANDARD
TZOFFSETFROM:+0200
TZOFFSETTO:+0100
TZNAME:CET
DTSTART:20251026T010000
END:STANDARD
BEGIN:DAYLIGHT
TZOFFSETFROM:+0100
TZOFFSETTO:+0200
TZNAME:CEST
DTSTART:20260329T010000
END:DAYLIGHT
BEGIN:STANDARD
TZOFFSETFROM:+0200
TZOFFSETTO:+0100
TZNAME:CET
DTSTART:20261025T010000
END:STANDARD
BEGIN:DAYLIGHT
TZOFFSETFROM:+0100
TZOFFSETTO:+0200
TZNAME:CEST
DTSTART:20270328T010000
END:DAYLIGHT
BEGIN:STANDARD
TZOFFSETFROM:+0200
TZOFFSETTO:+0100
TZNAME:CET
DTSTART:20271031T010000
END:STANDARD
END:VTIMEZONE
BEGIN:VEVENT
DTSTART;TZID=Europe/Berlin:20260213T180000
DTEND;TZID=Europe/Berlin:20260213T220000
DTSTAMP:20260421T185618
CREATED:20260112T152300Z
LAST-MODIFIED:20260112T154210Z
UID:10001451-1771005600-1771020000@naturfreunde-langendreer.de
SUMMARY:Hutkonzert: Bluesprojekt Jay Bee und Lou Gee - mit anschließender Karnevalsparty
DESCRIPTION:In dem Bluesprojekt Jay Bee und Lou Gee haben sich die beiden Musiker Jochen Bauer (Gitarre\, Gesang) und Thomas Luig (Harmonica\, Saxophon) dem klassischen Chicago.Blues verschrieben. Sie präsentieren den Blues auf eine Weise\, wie man ihn in den amerikanischen Industriestädten Ende der 40er/Anfang der 50er Jahre zu sehen bekam\, als die Musiker mit den ersten elektrischen Miniverstärkern als Straßenmusiker auftraten. Der Strom wurde mit einem Verlängerungskabel aus einer Wohnung geholt … und ab ging die Post.\nDas Repertoire der beiden Musiker setzt sich folgerichtig aus Klassikern zusammen\, die von Elmore James\, Muddy Waters und John Lee Hooker präsentiert wurden. Da das Ruhrgebiet und der Blues gut zueinander passen\, passen die beiden Musiker mit dieser zeitlosen Musik gut in die Umgebung der ehemaligen Stahlwerke und Kohlezechen. \nEinlass ab 18:00 Uhr\, Konzertbeginn um 19:30 Uhr. \nAnschließend feiern wir noch ein bisschen Karneval. – Also man kann auch verkleidet kommen.
URL:https://naturfreunde-langendreer.de/event/offener-treff-im-naturfreundezentrum-2-4/
CATEGORIES:NaturFreundeZentrum,Offener Treff
ATTACH;FMTTYPE=image/jpeg:https://naturfreunde-langendreer.de/wp-content/uploads/2026/01/Konzert-Bee-und-Gee-1.jpg
END:VEVENT
END:VCALENDAR