BEGIN:VCALENDAR
VERSION:2.0
PRODID:-//NaturFreunde Bochum Langendreer - ECPv6.15.20//NONSGML v1.0//EN
CALSCALE:GREGORIAN
METHOD:PUBLISH
X-WR-CALNAME:NaturFreunde Bochum Langendreer
X-ORIGINAL-URL:https://naturfreunde-langendreer.de
X-WR-CALDESC:Veranstaltungen für NaturFreunde Bochum Langendreer
REFRESH-INTERVAL;VALUE=DURATION:PT1H
X-Robots-Tag:noindex
X-PUBLISHED-TTL:PT1H
BEGIN:VTIMEZONE
TZID:Europe/Berlin
BEGIN:DAYLIGHT
TZOFFSETFROM:+0100
TZOFFSETTO:+0200
TZNAME:CEST
DTSTART:20250330T010000
END:DAYLIGHT
BEGIN:STANDARD
TZOFFSETFROM:+0200
TZOFFSETTO:+0100
TZNAME:CET
DTSTART:20251026T010000
END:STANDARD
BEGIN:DAYLIGHT
TZOFFSETFROM:+0100
TZOFFSETTO:+0200
TZNAME:CEST
DTSTART:20260329T010000
END:DAYLIGHT
BEGIN:STANDARD
TZOFFSETFROM:+0200
TZOFFSETTO:+0100
TZNAME:CET
DTSTART:20261025T010000
END:STANDARD
BEGIN:DAYLIGHT
TZOFFSETFROM:+0100
TZOFFSETTO:+0200
TZNAME:CEST
DTSTART:20270328T010000
END:DAYLIGHT
BEGIN:STANDARD
TZOFFSETFROM:+0200
TZOFFSETTO:+0100
TZNAME:CET
DTSTART:20271031T010000
END:STANDARD
END:VTIMEZONE
BEGIN:VEVENT
DTSTART;TZID=Europe/Berlin:20260219T173000
DTEND;TZID=Europe/Berlin:20260219T190000
DTSTAMP:20260423T135256
CREATED:20260122T171801Z
LAST-MODIFIED:20260122T171801Z
UID:10001847-1771522200-1771527600@naturfreunde-langendreer.de
SUMMARY:Besuch in der Biogasanlage - Exkursion nach Witten zur AHE
DESCRIPTION:Wir wollen uns in diesem Jahr mehr mit dem Thema Kreislaufwirtschaft beschäftigen. Die Biomülltonne ist in Bochum ein Problem. Weniger 10 % der Haushalte nutzen sie. Das möchten wir gerne ändern. Um mehr darüber zu wissen\, wollen wir sehen\, wohin der Bochumer Biomüll transportiert wird und was mit ihm geschieht. Dazu besuchen wir die Biogasanlage in Witten. Wir werden durch die Anlage geführt und bekommen anschließend einen Vortrag über die Funktion und die Vor- und Nachteile der Anlage.\nDie Anlage liegt direkt am Rheinischen Esel\, gut mit dem Fahrrad zu erreichen. Wir können uns entweder um 16:45 Uhr mit dem Fahrrad am NFZ oder um 17:30 Uhr direkt an der Anlage treffen. Eine Anmeldung ist notwendig\, da die Teilnehmerzahl begrenzt ist.
URL:https://naturfreunde-langendreer.de/event/besuch-in-der-biogasanlage-exkursion-nach-witten-zur-ahe/
CATEGORIES:Aktivitäten,Bildungsabend,Politik
ATTACH;FMTTYPE=image/jpeg:https://naturfreunde-langendreer.de/wp-content/uploads/2026/01/OIP.jpg
END:VEVENT
END:VCALENDAR