BEGIN:VCALENDAR
VERSION:2.0
PRODID:-//NaturFreunde Bochum Langendreer - ECPv6.15.20//NONSGML v1.0//EN
CALSCALE:GREGORIAN
METHOD:PUBLISH
X-ORIGINAL-URL:https://naturfreunde-langendreer.de
X-WR-CALDESC:Veranstaltungen für NaturFreunde Bochum Langendreer
REFRESH-INTERVAL;VALUE=DURATION:PT1H
X-Robots-Tag:noindex
X-PUBLISHED-TTL:PT1H
BEGIN:VTIMEZONE
TZID:Europe/Berlin
BEGIN:DAYLIGHT
TZOFFSETFROM:+0100
TZOFFSETTO:+0200
TZNAME:CEST
DTSTART:20250330T010000
END:DAYLIGHT
BEGIN:STANDARD
TZOFFSETFROM:+0200
TZOFFSETTO:+0100
TZNAME:CET
DTSTART:20251026T010000
END:STANDARD
BEGIN:DAYLIGHT
TZOFFSETFROM:+0100
TZOFFSETTO:+0200
TZNAME:CEST
DTSTART:20260329T010000
END:DAYLIGHT
BEGIN:STANDARD
TZOFFSETFROM:+0200
TZOFFSETTO:+0100
TZNAME:CET
DTSTART:20261025T010000
END:STANDARD
BEGIN:DAYLIGHT
TZOFFSETFROM:+0100
TZOFFSETTO:+0200
TZNAME:CEST
DTSTART:20270328T010000
END:DAYLIGHT
BEGIN:STANDARD
TZOFFSETFROM:+0200
TZOFFSETTO:+0100
TZNAME:CET
DTSTART:20271031T010000
END:STANDARD
END:VTIMEZONE
BEGIN:VEVENT
DTSTART;TZID=Europe/Berlin:20260228T000000
DTEND;TZID=Europe/Berlin:20260228T235959
DTSTAMP:20260421T190334
CREATED:20260225T141536Z
LAST-MODIFIED:20260225T141536Z
UID:10001849-1772236800-1772323199@naturfreunde-langendreer.de
SUMMARY:Waldspaziergänge
DESCRIPTION:Wir gehen samstagsnachmittags für 2 Stunden in und um Langendreer in den Wald und schauen\, welche Pilze und andere Naturwunder uns dort erwarten. \nKostenfreies Angebot\, Menschen unter 12 Jahren in Begleitung Erwachsener\, bitte keine Hunde \nAnmeldung unter carola.mallek@naturfreunde-langendreer.de \nTreffpunkt und Uhrzeit wird nach Anmeldung versandt
URL:https://naturfreunde-langendreer.de/event/waldspaziergaenge-2/
CATEGORIES:Aktivitäten,Garten und Pflanzen,Wandern
ATTACH;FMTTYPE=image/jpeg:https://naturfreunde-langendreer.de/wp-content/uploads/2026/01/Bild.jpeg
END:VEVENT
BEGIN:VEVENT
DTSTART;TZID=Europe/Berlin:20260228T104500
DTEND;TZID=Europe/Berlin:20260228T180000
DTSTAMP:20260421T190334
CREATED:20260213T173846Z
LAST-MODIFIED:20260213T173846Z
UID:10002113-1772275500-1772301600@naturfreunde-langendreer.de
SUMMARY:Ausflug zur Kamelien-Austellung in der Flora in Köln
DESCRIPTION:Die Naturfreunde Bochum-Langendreer laden herzlich ein an unserem Ausflug nach Köln teilzunehmen um dort die Kamelien-Ausstellung in der Flora (botanischer Garten Köln) zu besichtigen. Es handelt sich um die größte Kamelien-Sammlung Deutschlands\, die jetzt in voller Blütenpracht zu bestaunen ist. Mehr zu der Kamelien-Ausstellung hier:\nhttps://www.stadt-koeln.de/leben-in-koeln/veranstaltungen/daten/34710/index.html \nWir treffen uns am Bochumer Hauptbahnhof auf dem Bahnsteig der Gleise 3 und 4\, von wo wir um 10:55 Uhr mit dem Zug RE-1 in Richtung Aachen bis nach Köln fahren werden.\nEine Anmeldung ist nicht erforderlich\, alle Interessierten können mitfahren. Um die Zugfahrkarte nach Köln und zurück muss sich allerdings jede/r selbst kümmern!\nWir kommen mit dem Zug um 12:11 Uhr in Köln an. Bei schönem Wetter werden wir dann zu Fuß entlang der Rhein-Promenade bis zur Flora wandern (etwa 2\,5km)\, bei schlechtem Wetter nehmen wir die U-Bahn U-18 bis zur Haltestelle Zoo/Flora. \nGegen 16 Uhr werden wir uns dann wieder am Ausgang der Flora sammeln um mit der U-18 zurück zum Kölner Hauptbahnhof zu fahren\, von wo wir dann um 16:49 Uhr von Gleis 5 den Zug RE-1 zurück nach Bochum nehmen. Um 18:02 Uhr werden wir dann wieder in Bochum ankommen.
URL:https://naturfreunde-langendreer.de/event/ausflug-zur-kamelien-austellung-in-der-flora-in-koeln/
CATEGORIES:Ausflug,Garten und Pflanzen
ATTACH;FMTTYPE=image/jpeg:https://naturfreunde-langendreer.de/wp-content/uploads/2026/02/260206-Offener-Treff.jpeg
END:VEVENT
END:VCALENDAR