BEGIN:VCALENDAR
VERSION:2.0
PRODID:-//NaturFreunde Bochum Langendreer - ECPv6.15.20//NONSGML v1.0//EN
CALSCALE:GREGORIAN
METHOD:PUBLISH
X-ORIGINAL-URL:https://naturfreunde-langendreer.de
X-WR-CALDESC:Veranstaltungen für NaturFreunde Bochum Langendreer
REFRESH-INTERVAL;VALUE=DURATION:PT1H
X-Robots-Tag:noindex
X-PUBLISHED-TTL:PT1H
BEGIN:VTIMEZONE
TZID:Europe/Berlin
BEGIN:DAYLIGHT
TZOFFSETFROM:+0100
TZOFFSETTO:+0200
TZNAME:CEST
DTSTART:20250330T010000
END:DAYLIGHT
BEGIN:STANDARD
TZOFFSETFROM:+0200
TZOFFSETTO:+0100
TZNAME:CET
DTSTART:20251026T010000
END:STANDARD
BEGIN:DAYLIGHT
TZOFFSETFROM:+0100
TZOFFSETTO:+0200
TZNAME:CEST
DTSTART:20260329T010000
END:DAYLIGHT
BEGIN:STANDARD
TZOFFSETFROM:+0200
TZOFFSETTO:+0100
TZNAME:CET
DTSTART:20261025T010000
END:STANDARD
BEGIN:DAYLIGHT
TZOFFSETFROM:+0100
TZOFFSETTO:+0200
TZNAME:CEST
DTSTART:20270328T010000
END:DAYLIGHT
BEGIN:STANDARD
TZOFFSETFROM:+0200
TZOFFSETTO:+0100
TZNAME:CET
DTSTART:20271031T010000
END:STANDARD
END:VTIMEZONE
BEGIN:VEVENT
DTSTART;TZID=Europe/Berlin:20260308T110000
DTEND;TZID=Europe/Berlin:20260308T123000
DTSTAMP:20260422T010728
CREATED:20250308T101226Z
LAST-MODIFIED:20260306T144758Z
UID:10000595-1772967600-1772973000@naturfreunde-langendreer.de
SUMMARY:Internationaler Frauentag - Secco-Empfang
DESCRIPTION:Wir laden alle Frauen zu einem Glas Secco ins NaturFreundeZentrum ein. Außerdem gibt es Infos zum Frauenstreik am 9. März und Vorbereitungen dazu. Siehe Sharepic.
URL:https://naturfreunde-langendreer.de/event/internationaler-frauentag-secco-empfang/
LOCATION:NaturFreundeZentrum\, Hohe Eiche 20\, Bochum\, NRW\, 44892\, Germany
CATEGORIES:Feminismus
ATTACH;FMTTYPE=image/jpeg:https://naturfreunde-langendreer.de/wp-content/uploads/2025/03/260308-Frauentag.jpeg
END:VEVENT
BEGIN:VEVENT
DTSTART;TZID=Europe/Berlin:20260308T140000
DTEND;TZID=Europe/Berlin:20260308T180000
DTSTAMP:20260422T010728
CREATED:20251212T184339Z
LAST-MODIFIED:20260114T115453Z
UID:10001704-1772978400-1772992800@naturfreunde-langendreer.de
SUMMARY:Mitgliederversammlung - Jahreshauptversammlung
DESCRIPTION:Jedes Jahr sitzen wir zusammen\, berichten über die Aktivitäten und legen fest\, was wir in den nächsten 12 Monaten weiter machen wollen. Jeder der mitmachen möchte\, mitbestimmen möchte\, sollte dabei sein: Kanu fahren\, wandern\, Diskussionsthemen\, NFH Stimmstamm\, NaturFreundeZentrum\, Kindergruppen\, Jugendgruppen\, Friedensgruppe\, Gartengruppe\, Musikgruppe\, Kreativgruppe\, Freizeiten\, politische Aktivitäten\, …
URL:https://naturfreunde-langendreer.de/event/mitgliederversammlung-jahreshauptversammlung/
LOCATION:NaturFreundeZentrum\, Hohe Eiche 20\, Bochum\, 44892\, Germany
CATEGORIES:Jahreshauptversammlung,Mitgliedertreff
ATTACH;FMTTYPE=image/jpeg:https://naturfreunde-langendreer.de/wp-content/uploads/2025/01/Logo_NF_Langendreer.jpg
END:VEVENT
END:VCALENDAR