BEGIN:VCALENDAR
VERSION:2.0
PRODID:-//NaturFreunde Bochum Langendreer - ECPv6.15.20//NONSGML v1.0//EN
CALSCALE:GREGORIAN
METHOD:PUBLISH
X-WR-CALNAME:NaturFreunde Bochum Langendreer
X-ORIGINAL-URL:https://naturfreunde-langendreer.de
X-WR-CALDESC:Veranstaltungen für NaturFreunde Bochum Langendreer
REFRESH-INTERVAL;VALUE=DURATION:PT1H
X-Robots-Tag:noindex
X-PUBLISHED-TTL:PT1H
BEGIN:VTIMEZONE
TZID:Europe/Berlin
BEGIN:DAYLIGHT
TZOFFSETFROM:+0100
TZOFFSETTO:+0200
TZNAME:CEST
DTSTART:20250330T010000
END:DAYLIGHT
BEGIN:STANDARD
TZOFFSETFROM:+0200
TZOFFSETTO:+0100
TZNAME:CET
DTSTART:20251026T010000
END:STANDARD
BEGIN:DAYLIGHT
TZOFFSETFROM:+0100
TZOFFSETTO:+0200
TZNAME:CEST
DTSTART:20260329T010000
END:DAYLIGHT
BEGIN:STANDARD
TZOFFSETFROM:+0200
TZOFFSETTO:+0100
TZNAME:CET
DTSTART:20261025T010000
END:STANDARD
BEGIN:DAYLIGHT
TZOFFSETFROM:+0100
TZOFFSETTO:+0200
TZNAME:CEST
DTSTART:20270328T010000
END:DAYLIGHT
BEGIN:STANDARD
TZOFFSETFROM:+0200
TZOFFSETTO:+0100
TZNAME:CET
DTSTART:20271031T010000
END:STANDARD
END:VTIMEZONE
BEGIN:VEVENT
DTSTART;TZID=Europe/Berlin:20260320T180000
DTEND;TZID=Europe/Berlin:20260322T140000
DTSTAMP:20260422T010540
CREATED:20260201T115831Z
LAST-MODIFIED:20260201T120608Z
UID:10002097-1774029600-1774188000@naturfreunde-langendreer.de
SUMMARY:Arbeitseinsatz Stimmstamm
DESCRIPTION:Wir reparieren\, reinigen und arbeiten an unserem Naturfreunde Haus Stimmstamm in Meschede
URL:https://naturfreunde-langendreer.de/event/arbeitseinsatz-stimmstamm-3/
LOCATION:Naturfreundehaus Stimmstamm\, Naturfreundehaus Stimmstamm\, Meschede
CATEGORIES:Arbeitseinsatz,NaturFreundeHaus Stimmstamm
ATTACH;FMTTYPE=image/jpeg:https://naturfreunde-langendreer.de/wp-content/uploads/2025/12/IMG_7897.jpeg
END:VEVENT
BEGIN:VEVENT
DTSTART;TZID=Europe/Berlin:20260322T100000
DTEND;TZID=Europe/Berlin:20260322T170000
DTSTAMP:20260422T010540
CREATED:20260306T151923Z
LAST-MODIFIED:20260319T173805Z
UID:10001388-1774173600-1774198800@naturfreunde-langendreer.de
SUMMARY:Wandern mit den NaturFreunden
DESCRIPTION:Gemeinsam brechen wir von Langendreer entweder mit Bus und Bahn oder zu Fuss auf und Wandern. Genaue Daten\, Ziele und Wege werden immer vorher bekannt gegeben. Pausen und Weglänge werden gemeinsam besprochen. Treffpunkt ist entweder das NFZ oder eine Haltestelle von Bus\, Straßen- oder S-Bahn.\nWir verstehen wandern als soziales Miteinander um gemeinsam Zeit zu verbringen und sich über vieles auszutauschen. Es gibt immer Informationen über die WhatsApp-Wandergruppe oder über den E-Mail-Verteiler der Wandergruppe. Wer also regelmäßig informiert werden möchte\, muss sich bitte mailden.\nDa wir die Wanderung im Februar wegen Dauerregen ausfallen lassen mussten\, wollen wir sie nun am Sonntag den 22. März nachholen. Da werden wir nun hoffentlich besseres Wetter haben. \n  \nEs bleibt wie unten ursprünglich für Februar beschrieben\, Treffpunkt ist am Sonntag dem 22. März um 10:45 Uhr an der Kreuzung Werner-Hellweg / Werner-Straße. \n  \n  \nBitte beachten:\nEinige der Wege über die wir wandern werden sind nicht befestigt\, also zum Beispiel nur Trampelpfade an Rande eines Feldes und ähnliches. Da es in den letzten Wochen recht viel Regen gab ist damit zu rechnen\, dass diese unbefestigten Wege sehr matschig / schlammig sein werden. Entsprechend festes Schuhwerk ist daher unbedingt erforderlich.
URL:https://naturfreunde-langendreer.de/event/wandern-mit-den-naturfreunden-3/
CATEGORIES:Aktivitäten,Wandern
ATTACH;FMTTYPE=image/jpeg:https://naturfreunde-langendreer.de/wp-content/uploads/2025/12/2026-Wandern.jpeg
END:VEVENT
END:VCALENDAR