BEGIN:VCALENDAR
VERSION:2.0
PRODID:-//NaturFreunde Bochum Langendreer - ECPv6.15.20//NONSGML v1.0//EN
CALSCALE:GREGORIAN
METHOD:PUBLISH
X-WR-CALNAME:NaturFreunde Bochum Langendreer
X-ORIGINAL-URL:https://naturfreunde-langendreer.de
X-WR-CALDESC:Veranstaltungen für NaturFreunde Bochum Langendreer
REFRESH-INTERVAL;VALUE=DURATION:PT1H
X-Robots-Tag:noindex
X-PUBLISHED-TTL:PT1H
BEGIN:VTIMEZONE
TZID:Europe/Berlin
BEGIN:DAYLIGHT
TZOFFSETFROM:+0100
TZOFFSETTO:+0200
TZNAME:CEST
DTSTART:20250330T010000
END:DAYLIGHT
BEGIN:STANDARD
TZOFFSETFROM:+0200
TZOFFSETTO:+0100
TZNAME:CET
DTSTART:20251026T010000
END:STANDARD
BEGIN:DAYLIGHT
TZOFFSETFROM:+0100
TZOFFSETTO:+0200
TZNAME:CEST
DTSTART:20260329T010000
END:DAYLIGHT
BEGIN:STANDARD
TZOFFSETFROM:+0200
TZOFFSETTO:+0100
TZNAME:CET
DTSTART:20261025T010000
END:STANDARD
BEGIN:DAYLIGHT
TZOFFSETFROM:+0100
TZOFFSETTO:+0200
TZNAME:CEST
DTSTART:20270328T010000
END:DAYLIGHT
BEGIN:STANDARD
TZOFFSETFROM:+0200
TZOFFSETTO:+0100
TZNAME:CET
DTSTART:20271031T010000
END:STANDARD
END:VTIMEZONE
BEGIN:VEVENT
DTSTART;TZID=Europe/Berlin:20260402T103000
DTEND;TZID=Europe/Berlin:20260402T150000
DTSTAMP:20260423T104538
CREATED:20260306T152217Z
LAST-MODIFIED:20260306T152607Z
UID:10002117-1775125800-1775142000@naturfreunde-langendreer.de
SUMMARY:Arbeiten am NFZ-Garten
DESCRIPTION:Wir arbeiten im Garten hinter dem NFZ. Die Zuwegung zum Garten wird hergestellt. Eine Hecke gepflanzt\, …
URL:https://naturfreunde-langendreer.de/event/arbeiten-am-nfz-garten/
CATEGORIES:Garten und Pflanzen
END:VEVENT
BEGIN:VEVENT
DTSTART;TZID=Europe/Berlin:20260402T193000
DTEND;TZID=Europe/Berlin:20260402T220000
DTSTAMP:20260423T104538
CREATED:20251112T185803Z
LAST-MODIFIED:20251125T163717Z
UID:10000879-1775158200-1775167200@naturfreunde-langendreer.de
SUMMARY:Vorstandssitzung der NaturFreunde Bochum-Langendreer
DESCRIPTION:Wir planen unsere Vereinsaktivitäten. Wir kümmern uns um unsere Kinder- und Jugendaktivitäten. Außerdem diskutieren und entscheiden wir über das NaturFreundeZentrum und unser NaturFreundeHaus Stimmstamm.
URL:https://naturfreunde-langendreer.de/event/vorstandssitzung-der-naturfreunde-bochum-langendreer/2026-04-02/
CATEGORIES:Vorstand,Vorstandssitzung
ATTACH;FMTTYPE=image/jpeg:https://naturfreunde-langendreer.de/wp-content/uploads/2025/01/Logo_NF_Langendreer.jpg
END:VEVENT
END:VCALENDAR