BEGIN:VCALENDAR
VERSION:2.0
PRODID:-//NaturFreunde Bochum Langendreer - ECPv6.15.20//NONSGML v1.0//EN
CALSCALE:GREGORIAN
METHOD:PUBLISH
X-WR-CALNAME:NaturFreunde Bochum Langendreer
X-ORIGINAL-URL:https://naturfreunde-langendreer.de
X-WR-CALDESC:Veranstaltungen für NaturFreunde Bochum Langendreer
REFRESH-INTERVAL;VALUE=DURATION:PT1H
X-Robots-Tag:noindex
X-PUBLISHED-TTL:PT1H
BEGIN:VTIMEZONE
TZID:Europe/Berlin
BEGIN:DAYLIGHT
TZOFFSETFROM:+0100
TZOFFSETTO:+0200
TZNAME:CEST
DTSTART:20250330T010000
END:DAYLIGHT
BEGIN:STANDARD
TZOFFSETFROM:+0200
TZOFFSETTO:+0100
TZNAME:CET
DTSTART:20251026T010000
END:STANDARD
BEGIN:DAYLIGHT
TZOFFSETFROM:+0100
TZOFFSETTO:+0200
TZNAME:CEST
DTSTART:20260329T010000
END:DAYLIGHT
BEGIN:STANDARD
TZOFFSETFROM:+0200
TZOFFSETTO:+0100
TZNAME:CET
DTSTART:20261025T010000
END:STANDARD
BEGIN:DAYLIGHT
TZOFFSETFROM:+0100
TZOFFSETTO:+0200
TZNAME:CEST
DTSTART:20270328T010000
END:DAYLIGHT
BEGIN:STANDARD
TZOFFSETFROM:+0200
TZOFFSETTO:+0100
TZNAME:CET
DTSTART:20271031T010000
END:STANDARD
END:VTIMEZONE
BEGIN:VEVENT
DTSTART;TZID=Europe/Berlin:20260424T180000
DTEND;TZID=Europe/Berlin:20260424T220000
DTSTAMP:20260424T013138
CREATED:20260328T174817Z
LAST-MODIFIED:20260328T174817Z
UID:10002133-1777053600-1777068000@naturfreunde-langendreer.de
SUMMARY:Offener Treff mit Pflanzentausch
DESCRIPTION:Im Rahmen des Offenen Treffs findet am 24.04.2026 bei uns im Naturfreund:innenzentrum ein geselliger Pflanzentausch mit Aufenthaltsqualität statt. Bringt zuviel vorgezogene Tomaten\, geteilte Stauden\, ungeliebte Zimmerpflanzen… damit alles ein neues zu Hause findet! Es dürfen gern auch Pflanzen gegen Spende mitgenommen werden. Der Erlös kommt dem Erhalt des Zentrums zu Gute.\nBringt Tüten oder Kartons zum Transport der Pflanzen mit.\nAuch Nichttauscher:innen sind herzlich Willkommen <3
URL:https://naturfreunde-langendreer.de/event/offener-treff-mit-pflanzentausch-2/
LOCATION:NaturFreundeZentrum\, Hohe Eiche 20\, Bochum\, NRW\, 44892\, Germany
CATEGORIES:Garten und Pflanzen,Offener Treff
ATTACH;FMTTYPE=image/jpeg:https://naturfreunde-langendreer.de/wp-content/uploads/2026/03/sharepic_Pflanzentausch_NFZ_26.jpg
END:VEVENT
BEGIN:VEVENT
DTSTART;TZID=Europe/Berlin:20260424T180000
DTEND;TZID=Europe/Berlin:20260426T110000
DTSTAMP:20260424T013138
CREATED:20260205T212307Z
LAST-MODIFIED:20260331T145627Z
UID:10002110-1777053600-1777201200@naturfreunde-langendreer.de
SUMMARY:Waldwochenende
DESCRIPTION:Freizeit am Stimmstamm – Mit einem Sauerland-Ranger gehen wir durch den Arnsberger Wald und gucken wir uns den Zustand des Waldes an. Außerdem gehen wir wandern. – Mehr Infos folgen\, Anmdeldungen schon jetzt.\nDie Teilnahme kostet für Nichtmitglieder 60 €\, für Kinder und Jugendliche 40 €\, Mitglieder der NaturFreunde erhalten 10 € Ermäßigung\, Mitglieder OG Langendreer 15 € Ermäßigung. Mehr Infos unter: 2026 Anmeldung Waldfreizeit
URL:https://naturfreunde-langendreer.de/event/waldwochenende/
CATEGORIES:Bildung,Freizeiten,Umweltpolitik
ATTACH;FMTTYPE=image/jpeg:https://naturfreunde-langendreer.de/wp-content/uploads/2026/02/260220-Winterfreizeit.jpg
END:VEVENT
END:VCALENDAR