BEGIN:VCALENDAR
VERSION:2.0
PRODID:-//NaturFreunde Bochum Langendreer - ECPv6.15.20//NONSGML v1.0//EN
CALSCALE:GREGORIAN
METHOD:PUBLISH
X-ORIGINAL-URL:https://naturfreunde-langendreer.de
X-WR-CALDESC:Veranstaltungen für NaturFreunde Bochum Langendreer
REFRESH-INTERVAL;VALUE=DURATION:PT1H
X-Robots-Tag:noindex
X-PUBLISHED-TTL:PT1H
BEGIN:VTIMEZONE
TZID:Europe/Berlin
BEGIN:DAYLIGHT
TZOFFSETFROM:+0100
TZOFFSETTO:+0200
TZNAME:CEST
DTSTART:20250330T010000
END:DAYLIGHT
BEGIN:STANDARD
TZOFFSETFROM:+0200
TZOFFSETTO:+0100
TZNAME:CET
DTSTART:20251026T010000
END:STANDARD
BEGIN:DAYLIGHT
TZOFFSETFROM:+0100
TZOFFSETTO:+0200
TZNAME:CEST
DTSTART:20260329T010000
END:DAYLIGHT
BEGIN:STANDARD
TZOFFSETFROM:+0200
TZOFFSETTO:+0100
TZNAME:CET
DTSTART:20261025T010000
END:STANDARD
BEGIN:DAYLIGHT
TZOFFSETFROM:+0100
TZOFFSETTO:+0200
TZNAME:CEST
DTSTART:20270328T010000
END:DAYLIGHT
BEGIN:STANDARD
TZOFFSETFROM:+0200
TZOFFSETTO:+0100
TZNAME:CET
DTSTART:20271031T010000
END:STANDARD
END:VTIMEZONE
BEGIN:VEVENT
DTSTART;TZID=Europe/Berlin:20260508T180000
DTEND;TZID=Europe/Berlin:20260508T220000
DTSTAMP:20260421T184133
CREATED:20260410T132641Z
LAST-MODIFIED:20260410T132810Z
UID:10001463-1778263200-1778277600@naturfreunde-langendreer.de
SUMMARY:Offener Treff: Hutkonzert - Mariposa
DESCRIPTION:Jeden Freitag ab 18:00 öffnet das NaturFreundeZentrum sind Tür. Man kann Menschen treffen\, miteinander spielen\, Musik hören und\, und\, und. Manchmal gibt es Konzerte\, Lesungen\, Tastings oder anderes.\nWir sind Mariposa!\nEin Jam-Kollektiv bestehend aus Freundinnen und Freunden aus Münster. Was uns verbindet ist die Liebe zur Musik und vor allem der Spaß daran\, gemeinsam zu singen. Unser Programm spiegelt genau das wieder: alles worauf wir Lust haben\, vieles zum gemeinsam Singen und dabei quer durch alle möglichen Genres. Wir freuen uns auf euch!\n18:00 Uhr Einlass\, 19.30 Uhr Konzertbeginn.\nDer Eintritt ist kostenlos. Für die Künstler geht der Hut rum.
URL:https://naturfreunde-langendreer.de/event/offener-treff-im-naturfreundezentrum-2-9/
CATEGORIES:Hutkonzert,NaturFreundeZentrum,Offener Treff
ATTACH;FMTTYPE=image/jpeg:https://naturfreunde-langendreer.de/wp-content/uploads/2026/04/260508-Mariposa.jpeg
END:VEVENT
END:VCALENDAR