BEGIN:VCALENDAR
VERSION:2.0
PRODID:-//NaturFreunde Bochum Langendreer - ECPv6.15.20//NONSGML v1.0//EN
CALSCALE:GREGORIAN
METHOD:PUBLISH
X-ORIGINAL-URL:https://naturfreunde-langendreer.de
X-WR-CALDESC:Veranstaltungen für NaturFreunde Bochum Langendreer
REFRESH-INTERVAL;VALUE=DURATION:PT1H
X-Robots-Tag:noindex
X-PUBLISHED-TTL:PT1H
BEGIN:VTIMEZONE
TZID:Europe/Berlin
BEGIN:DAYLIGHT
TZOFFSETFROM:+0100
TZOFFSETTO:+0200
TZNAME:CEST
DTSTART:20250330T010000
END:DAYLIGHT
BEGIN:STANDARD
TZOFFSETFROM:+0200
TZOFFSETTO:+0100
TZNAME:CET
DTSTART:20251026T010000
END:STANDARD
BEGIN:DAYLIGHT
TZOFFSETFROM:+0100
TZOFFSETTO:+0200
TZNAME:CEST
DTSTART:20260329T010000
END:DAYLIGHT
BEGIN:STANDARD
TZOFFSETFROM:+0200
TZOFFSETTO:+0100
TZNAME:CET
DTSTART:20261025T010000
END:STANDARD
BEGIN:DAYLIGHT
TZOFFSETFROM:+0100
TZOFFSETTO:+0200
TZNAME:CEST
DTSTART:20270328T010000
END:DAYLIGHT
BEGIN:STANDARD
TZOFFSETFROM:+0200
TZOFFSETTO:+0100
TZNAME:CET
DTSTART:20271031T010000
END:STANDARD
END:VTIMEZONE
BEGIN:VEVENT
DTSTART;TZID=Europe/Berlin:20260512T190000
DTEND;TZID=Europe/Berlin:20260512T210000
DTSTAMP:20260423T134757
CREATED:20251112T181759Z
LAST-MODIFIED:20251112T181759Z
UID:10000760-1778612400-1778619600@naturfreunde-langendreer.de
SUMMARY:Friedeninitiative Bochum-Ost
DESCRIPTION:Wir sind entsetzt über die Leichtfertigkeit\, mit der Politiker eine riesige Aufrüstung betreiben. Sie reden Kriege herbei\, ohne ernsthaft über Verständigung und Verhandlungs­lösungen nachzudenken. Wir fürchten\, dass mit der Hochrüstung in Deutschland ein Krieg nicht verhindert\, sondern sogar wahrscheinlicher wird. Wir vergessen nicht\, was Krieg bedeutet: Tod\, Verletzung\, Zerstörung. Wir stellen uns entschieden gegen die zunehmende Militarisierung Deutschlands. Wir lehnen Aufrüstung\, Waffenexporte und Waffenlieferungen ab – in In- und Ausland. Stattdessen setzen wir uns für eine friedliche Außenpolitik ein\, die auf Abrüstung\, Diplomatie und internationaler Zusammenarbeit basiert. Wir verstehen uns als Teil der Friedensbewegung und streben die Zusammenarbeit mit allen an\, die sich gegen militärische Konfliktlösungen einsetzen. Die Militärausgaben sind eine riesige Verschwendung von Steuergeldern\, die den Rüstungsaktionären zugute kommen. Die Schulden\, die dafür aufgenommen werden\, muss die Allgemeinheit bezahlen. Schon heute sind die NATO-Staaten der russischen Armee zahlenmäßig und technologisch deutlich überlegen. Eine weitere Aufrüstung schafft nicht Sicherheit\, sondern die Voraussetzung für weitere Kriege.\nUnser Engagement ist untrennbar mit dem Antifaschismus verbunden. In der Tradition des Schwurs von Buchenwald bekennen wir uns zu den Worten:\n„Nie wieder Krieg! Nie wieder Faschismus!“\nWir treffen uns jeden zweiten Dienstag im Monat.
URL:https://naturfreunde-langendreer.de/event/friedeninitiative-bochum-ost/2026-05-12/
CATEGORIES:Frieden
ATTACH;FMTTYPE=image/jpeg:https://naturfreunde-langendreer.de/wp-content/uploads/2025/08/Logo-FI-Bochum-Ost.jpg
END:VEVENT
END:VCALENDAR