BEGIN:VCALENDAR
VERSION:2.0
PRODID:-//NaturFreunde Bochum Langendreer - ECPv6.15.20//NONSGML v1.0//EN
CALSCALE:GREGORIAN
METHOD:PUBLISH
X-WR-CALNAME:NaturFreunde Bochum Langendreer
X-ORIGINAL-URL:https://naturfreunde-langendreer.de
X-WR-CALDESC:Veranstaltungen für NaturFreunde Bochum Langendreer
REFRESH-INTERVAL;VALUE=DURATION:PT1H
X-Robots-Tag:noindex
X-PUBLISHED-TTL:PT1H
BEGIN:VTIMEZONE
TZID:Europe/Berlin
BEGIN:DAYLIGHT
TZOFFSETFROM:+0100
TZOFFSETTO:+0200
TZNAME:CEST
DTSTART:20250330T010000
END:DAYLIGHT
BEGIN:STANDARD
TZOFFSETFROM:+0200
TZOFFSETTO:+0100
TZNAME:CET
DTSTART:20251026T010000
END:STANDARD
BEGIN:DAYLIGHT
TZOFFSETFROM:+0100
TZOFFSETTO:+0200
TZNAME:CEST
DTSTART:20260329T010000
END:DAYLIGHT
BEGIN:STANDARD
TZOFFSETFROM:+0200
TZOFFSETTO:+0100
TZNAME:CET
DTSTART:20261025T010000
END:STANDARD
BEGIN:DAYLIGHT
TZOFFSETFROM:+0100
TZOFFSETTO:+0200
TZNAME:CEST
DTSTART:20270328T010000
END:DAYLIGHT
BEGIN:STANDARD
TZOFFSETFROM:+0200
TZOFFSETTO:+0100
TZNAME:CET
DTSTART:20271031T010000
END:STANDARD
END:VTIMEZONE
BEGIN:VEVENT
DTSTART;TZID=Europe/Berlin:20260513T000000
DTEND;TZID=Europe/Berlin:20260517T235959
DTSTAMP:20260421T183837
CREATED:20260401T173311Z
LAST-MODIFIED:20260401T190420Z
UID:10002137-1778630400-1779062399@naturfreunde-langendreer.de
SUMMARY:Kulturelle Landpartie im Wendland
DESCRIPTION:Wir fahren gemeinsam zur kulturellen Landpartie.\nWenn du mitfahren möchtest\, melde dich. Wir wollen gemeinsam einen Fahrradtransport organisieren. Dafür brauchen wir rechtzeitige Anmeldungen. Eine spätere Anreise zum Beispiel am Donnerstag ist natürlich auch möglich. \nDie KLP ist ein Festival\, das im Wendland aus dem Widerstand gegen das atomare Endlager entstanden ist. In vielen Dörfern kann man Musik\, Kunst\, Kunsthandwerk\, Diskussionen\, Kuchen und vieles mehr erleben. Vor Ort campen wir\, kleine Wohnwagen und Wohnmobile können auch abgestellt werden. Mit dem Fahrrad oder dem Auto bewegen wir uns von Wunderpunkt zu Wunderpunkt. Unser Camp im Rundlingsdorf Prießeck ist so gut gelegen\, dass mehrere Wunderpunkte auch zu Fuß erwandert werden können. Mehr Infos unter: www.kulturelle-landpartie.de\nWegen der gemeinsamen Übernachtung mit einer begrenzten Personenanzahl ist eine Anmeldung nötig. Übernachtung gegen Spende – Empfehlungen: 10 EUR pro Nacht. Die Anreise muss jede und jeder selbst organisieren. Das Ziel ist per Bahn und Fahrrad erreichbar. Fahrgemeinschaften sind möglich.
URL:https://naturfreunde-langendreer.de/event/kulturelle-landpartie-im-wendland-2/
CATEGORIES:Ausflug,Freizeiten,RadFreizeit
ATTACH;FMTTYPE=image/jpeg:https://naturfreunde-langendreer.de/wp-content/uploads/2026/04/Sharepic-Wendland_2026.jpg
END:VEVENT
END:VCALENDAR