BEGIN:VCALENDAR
VERSION:2.0
PRODID:-//NaturFreunde Bochum Langendreer - ECPv6.15.20//NONSGML v1.0//EN
CALSCALE:GREGORIAN
METHOD:PUBLISH
X-ORIGINAL-URL:https://naturfreunde-langendreer.de
X-WR-CALDESC:Veranstaltungen für NaturFreunde Bochum Langendreer
REFRESH-INTERVAL;VALUE=DURATION:PT1H
X-Robots-Tag:noindex
X-PUBLISHED-TTL:PT1H
BEGIN:VTIMEZONE
TZID:Europe/Berlin
BEGIN:DAYLIGHT
TZOFFSETFROM:+0100
TZOFFSETTO:+0200
TZNAME:CEST
DTSTART:20250330T010000
END:DAYLIGHT
BEGIN:STANDARD
TZOFFSETFROM:+0200
TZOFFSETTO:+0100
TZNAME:CET
DTSTART:20251026T010000
END:STANDARD
BEGIN:DAYLIGHT
TZOFFSETFROM:+0100
TZOFFSETTO:+0200
TZNAME:CEST
DTSTART:20260329T010000
END:DAYLIGHT
BEGIN:STANDARD
TZOFFSETFROM:+0200
TZOFFSETTO:+0100
TZNAME:CET
DTSTART:20261025T010000
END:STANDARD
BEGIN:DAYLIGHT
TZOFFSETFROM:+0100
TZOFFSETTO:+0200
TZNAME:CEST
DTSTART:20270328T010000
END:DAYLIGHT
BEGIN:STANDARD
TZOFFSETFROM:+0200
TZOFFSETTO:+0100
TZNAME:CET
DTSTART:20271031T010000
END:STANDARD
END:VTIMEZONE
BEGIN:VEVENT
DTSTART;TZID=Europe/Berlin:20260424T180000
DTEND;TZID=Europe/Berlin:20260426T110000
DTSTAMP:20260421T151547
CREATED:20260205T212307Z
LAST-MODIFIED:20260331T145627Z
UID:10002110-1777053600-1777201200@naturfreunde-langendreer.de
SUMMARY:Waldwochenende
DESCRIPTION:Freizeit am Stimmstamm – Mit einem Sauerland-Ranger gehen wir durch den Arnsberger Wald und gucken wir uns den Zustand des Waldes an. Außerdem gehen wir wandern. – Mehr Infos folgen\, Anmdeldungen schon jetzt.\nDie Teilnahme kostet für Nichtmitglieder 60 €\, für Kinder und Jugendliche 40 €\, Mitglieder der NaturFreunde erhalten 10 € Ermäßigung\, Mitglieder OG Langendreer 15 € Ermäßigung. Mehr Infos unter: 2026 Anmeldung Waldfreizeit
URL:https://naturfreunde-langendreer.de/event/waldwochenende/
CATEGORIES:Bildung,Freizeiten,Umweltpolitik
ATTACH;FMTTYPE=image/jpeg:https://naturfreunde-langendreer.de/wp-content/uploads/2026/02/260220-Winterfreizeit.jpg
END:VEVENT
BEGIN:VEVENT
DTSTART;TZID=Europe/Berlin:20260718T000000
DTEND;TZID=Europe/Berlin:20260724T235959
DTSTAMP:20260421T151547
CREATED:20260309T152926Z
LAST-MODIFIED:20260309T152926Z
UID:10002126-1784332800-1784937599@naturfreunde-langendreer.de
SUMMARY:Sommerfreizeit im Hohen Venn (Belgien)
DESCRIPTION:Wir fahren in das Hochmoorgebiet „Hohes Venn“ und übernachten in preiswerten Mehrbettzimmern im charmanten Naturfreundehaus „Herberge d’Arimont“. Es gibt dort viel zu entdecken: Die tollen Wanderwege quer durch die Moorgegend\, plätschernde Bäche\, Burgen\, Talsperren\, belgische Spezialitäten\, ein Ausflug nach Lüttich. Auch für Sprachinteressierte ist es eine Reise wert. In der Region wird französisch gesprochen\, unsere Gastgeberinnen sprechen flämisch und englisch. Die Anreise kann jede und jeder selbst gestalten. Mit dem Auto sind es rund 200 km ab Langendreer. Empfehlenswert ist die Fahrt mit dem Zug bis Aachen und dann eine knusprige Radtour durch das Venn oder den beliebten Venn-Radweg.
URL:https://naturfreunde-langendreer.de/event/sommerfreizeit-im-hohen-venn-belgien/
LOCATION:Hoher Venn\, eupen\, 4700\, Belgium
CATEGORIES:Freizeiten,Sommerfreizeit
ATTACH;FMTTYPE=image/jpeg:https://naturfreunde-langendreer.de/wp-content/uploads/2026/03/PHOTO-2026-03-01-09-07-13.jpeg
END:VEVENT
BEGIN:VEVENT
DTSTART;TZID=Europe/Berlin:20260824T180000
DTEND;TZID=Europe/Berlin:20260826T150000
DTSTAMP:20260421T151547
CREATED:20260308T081259Z
LAST-MODIFIED:20260308T081259Z
UID:10002122-1787594400-1787756400@naturfreunde-langendreer.de
SUMMARY:Kinder Sommerfreizeit der Naturfreunde Bochum Langendreer
DESCRIPTION:Der Ankündigungstext folgt. Die Anmeldung kann gerne schon erfolgen.
URL:https://naturfreunde-langendreer.de/event/kinder-sommerfreizeit-der-naturfreunde-bochum-langendreer/
LOCATION:Naturfreundehaus Stimmstamm\, Naturfreundehaus Stimmstamm\, Meschede
CATEGORIES:Freizeiten,NaturFreundeHaus Stimmstamm,Sommerfreizeit
ATTACH;FMTTYPE=image/jpeg:https://naturfreunde-langendreer.de/wp-content/uploads/2025/05/Kinder-Baum-scaled.jpg
END:VEVENT
BEGIN:VEVENT
DTSTART;TZID=Europe/Berlin:20260925T160000
DTEND;TZID=Europe/Berlin:20260927T170000
DTSTAMP:20260421T151547
CREATED:20260308T082405Z
LAST-MODIFIED:20260310T112742Z
UID:10002123-1790352000-1790528400@naturfreunde-langendreer.de
SUMMARY:Pilzfreizeit
DESCRIPTION:Es lockt mal wieder unsere beliebte Pilzfreizeit alle Neugierigen in das idyllische NaturFreundeHaus Stimmstamm in Meschede. \nUnter der kundigen Leitung unserer Pilzexpertin Carola begeben wir uns auf eine spannende Entdeckungsreise durch die herbstlichen Wälder des Sauerlandes.\n60 € für Übernachtung und Verpflegung. Mitglieder der Ortsgruppe und Menschen unter 27 erhalten Ermäßigung.
URL:https://naturfreunde-langendreer.de/event/pilzfreizeit/
LOCATION:Naturfreundehaus Stimmstamm\, Naturfreundehaus Stimmstamm\, Meschede
CATEGORIES:Freizeiten,NaturFreundeHaus Stimmstamm,Pilzfreizeit
ATTACH;FMTTYPE=image/jpeg:https://naturfreunde-langendreer.de/wp-content/uploads/2026/03/260925-Pilzfreizeit.jpg
END:VEVENT
BEGIN:VEVENT
DTSTART;TZID=Europe/Berlin:20261113T170000
DTEND;TZID=Europe/Berlin:20261115T140000
DTSTAMP:20260421T151547
CREATED:20260308T084944Z
LAST-MODIFIED:20260308T084944Z
UID:10002125-1794589200-1794751200@naturfreunde-langendreer.de
SUMMARY:Arbeitsfreizeit Stimmstamm
DESCRIPTION:Diese Freizeit ist ein wichtiger Teil für den Erhalt des Hauses. \nWir kümmern uns mit viel Hingabe um unser Naturfreunde-Haus Stimmstamm in Meschede. Wir putzen\, reparieren und pflegen es\, damit es immer ein gemütlicher und einladender Ort für alle ist. Am Abend verbringen wir gemeinsam gesellige Stunden bei leckerem Essen und Trinken. Wir lassen den Tag mit Spiel und lustigen Gesprächen ausklingen.
URL:https://naturfreunde-langendreer.de/event/arbeitsfreizeit-stimmstamm/
LOCATION:Naturfreundehaus Stimmstamm\, Naturfreundehaus Stimmstamm\, Meschede
CATEGORIES:Arbeitseinsatz,NaturFreundeHaus Stimmstamm
ATTACH;FMTTYPE=image/jpeg:https://naturfreunde-langendreer.de/wp-content/uploads/2025/12/IMG_7897.jpeg
END:VEVENT
END:VCALENDAR