BEGIN:VCALENDAR
VERSION:2.0
PRODID:-//NaturFreunde Bochum Langendreer - ECPv6.15.20//NONSGML v1.0//EN
CALSCALE:GREGORIAN
METHOD:PUBLISH
X-WR-CALNAME:NaturFreunde Bochum Langendreer
X-ORIGINAL-URL:https://naturfreunde-langendreer.de
X-WR-CALDESC:Veranstaltungen für NaturFreunde Bochum Langendreer
REFRESH-INTERVAL;VALUE=DURATION:PT1H
X-Robots-Tag:noindex
X-PUBLISHED-TTL:PT1H
BEGIN:VTIMEZONE
TZID:Europe/Berlin
BEGIN:DAYLIGHT
TZOFFSETFROM:+0100
TZOFFSETTO:+0200
TZNAME:CEST
DTSTART:20240331T010000
END:DAYLIGHT
BEGIN:STANDARD
TZOFFSETFROM:+0200
TZOFFSETTO:+0100
TZNAME:CET
DTSTART:20241027T010000
END:STANDARD
BEGIN:DAYLIGHT
TZOFFSETFROM:+0100
TZOFFSETTO:+0200
TZNAME:CEST
DTSTART:20250330T010000
END:DAYLIGHT
BEGIN:STANDARD
TZOFFSETFROM:+0200
TZOFFSETTO:+0100
TZNAME:CET
DTSTART:20251026T010000
END:STANDARD
BEGIN:DAYLIGHT
TZOFFSETFROM:+0100
TZOFFSETTO:+0200
TZNAME:CEST
DTSTART:20260329T010000
END:DAYLIGHT
BEGIN:STANDARD
TZOFFSETFROM:+0200
TZOFFSETTO:+0100
TZNAME:CET
DTSTART:20261025T010000
END:STANDARD
END:VTIMEZONE
BEGIN:VEVENT
DTSTART;TZID=Europe/Berlin:20250401T183000
DTEND;TZID=Europe/Berlin:20250401T200000
DTSTAMP:20260422T161331
CREATED:20250225T200042Z
LAST-MODIFIED:20250225T200042Z
UID:10000585-1743532200-1743537600@naturfreunde-langendreer.de
SUMMARY:Kleidertausch
DESCRIPTION:Schuhe\, Kleider\, Ohrringe\, T-Shirts\, Pullis…  \nalles ist willkommen\, was noch gut erhalten ist.  \nDu musst aber nicht zwingend etwas mitbringen\, denn hier geht es darum\, möglichst ein neues Zuhause für alle Teile zu finden\, damit sie nicht auf dem Müll landen. \nHast du Ideen oder Lust\, den Kleidertausch aktiv mitzugestalten? Wir freuen uns über jede helfende Hand! Melde dich einfach über unser Kontaktformular oder komm beim nächsten Tausch vorbei.
URL:https://naturfreunde-langendreer.de/event/kleidertausch-15/
LOCATION:NaturFreundeZentrum\, Hohe Eiche 20\, Bochum\, NRW\, 44892\, Germany
CATEGORIES:Kleidertausch,NaturFreundeZentrum
ATTACH;FMTTYPE=image/jpeg:https://naturfreunde-langendreer.de/wp-content/uploads/2025/01/0d75223d-4693-4a0d-bc43-1bc58d532da3.jpg
END:VEVENT
BEGIN:VEVENT
DTSTART;TZID=Europe/Berlin:20250404T000000
DTEND;TZID=Europe/Berlin:20250407T000000
DTSTAMP:20260422T161331
CREATED:20250105T190645Z
LAST-MODIFIED:20250308T122103Z
UID:10000540-1743724800-1743984000@naturfreunde-langendreer.de
SUMMARY:Arbeitseinsatz am NaturFreundeHaus Stimmstamm
DESCRIPTION:Reparieren\, Aufräumen\, Putzen – Wir fahren zu unserem NaturFreundeHaus Stimmstamm. Fleißige Hände sind eingeladen mitzukommen und mit anzupacken. Essen\, Trinken und Übernachtung ist natürlich frei. Viele sagen\, dass das gemeinsame Arbeiten fast mehr Spaß macht\, als die Freizeiten am Stimmstamm. Die Nächte sind auf jeden Fall legendär. Meldet euch\, wenn ihr Teil des Teams sein möchtet.
URL:https://naturfreunde-langendreer.de/event/arbeitseinsatz-stimmstamm/
LOCATION:Naturfreundehaus Stimmstamm\, Naturfreundehaus Stimmstamm\, Meschede
ATTACH;FMTTYPE=image/jpeg:https://naturfreunde-langendreer.de/wp-content/uploads/2024/07/IMG_7909-scaled.jpeg
END:VEVENT
BEGIN:VEVENT
DTSTART;TZID=Europe/Berlin:20250405T110000
DTEND;TZID=Europe/Berlin:20250405T130000
DTSTAMP:20260422T161331
CREATED:20250306T194258Z
LAST-MODIFIED:20250403T192011Z
UID:10000586-1743850800-1743858000@naturfreunde-langendreer.de
SUMMARY:Stadtputz in Bochum
DESCRIPTION:Mit der Unterstützung des USB in Bochum helfen wir die Stadt lebenswerter zu machen. \nTreffpunkt ist im NFZ ab 11:00 Uhr
URL:https://naturfreunde-langendreer.de/event/stadtputz-in-bochum/
LOCATION:NaturFreundeZentrum\, Hohe Eiche 20\, Bochum\, NRW\, 44892\, Germany
CATEGORIES:Aktivitäten,NaturFreundeJugend,Stadtteilprojekte
ATTACH;FMTTYPE=image/jpeg:https://naturfreunde-langendreer.de/wp-content/uploads/2025/03/FRUeHJAHRS-Stadtputz.jpg
END:VEVENT
BEGIN:VEVENT
DTSTART;TZID=Europe/Berlin:20250407T180000
DTEND;TZID=Europe/Berlin:20250407T210000
DTSTAMP:20260422T161331
CREATED:20250306T194503Z
LAST-MODIFIED:20250308T104134Z
UID:10000587-1744048800-1744059600@naturfreunde-langendreer.de
SUMMARY:FeiertagsRadeln
DESCRIPTION:Wir drehen eine Runde mit dem Rad. Beim Treffen besprechen wir kurz mit allen Anwesenden\, wo wir hin fahren und dann radeln wir los. Nach Lust und Laune kehren wir vielleicht noch wo ein. Treffpunkt ist vor dem NaturFreundeZentrum\, Hohe Eiche 20.
URL:https://naturfreunde-langendreer.de/event/radfahren-im-bochumer-osten/
CATEGORIES:Aktivitäten,RadFreunde
ATTACH;FMTTYPE=image/jpeg:https://naturfreunde-langendreer.de/wp-content/uploads/2025/03/Maskottchen-Rad-fahren-scaled.jpg
END:VEVENT
BEGIN:VEVENT
DTSTART;TZID=Europe/Berlin:20250410T193000
DTEND;TZID=Europe/Berlin:20250410T220000
DTSTAMP:20260422T161331
CREATED:20250105T190645Z
LAST-MODIFIED:20250308T122352Z
UID:10000541-1744313400-1744322400@naturfreunde-langendreer.de
SUMMARY:Wie verhindern wir eine neue Aufrüstungsspirale - Diskussion mit Axel Schäfer
DESCRIPTION:2026 möchten die USA in Deutschland neue Waffensysteme stationieren\, die nach der Meldung der Tagesschau vom 12.7.2024\, weit nach Russland hinein Ziele angreifen können. Nur wenige Politiker der großen Parteien in Deutschland kritisieren dieses Vorhaben. Axel Schäfer gehört zu den Kritikern der Stationierung. Axel Schäfer ist seit 2002 Mitglied des deutschen Bundestags und hat dort den Wahlkreis Bochum 1 vertreten. Er war unter anderem stellvertretender Fraktionsvorsitzender. Mit ihm wollen wir diskutieren\, warum und wie die Stationierung aufgehalten werden kann.
URL:https://naturfreunde-langendreer.de/event/axel-schaefer/
LOCATION:NaturFreundeZentrum\, Hohe Eiche 20\, Bochum\, NRW\, 44892\, Germany
CATEGORIES:Bildungsabend,NaturFreundeZentrum
ATTACH;FMTTYPE=image/jpeg:https://naturfreunde-langendreer.de/wp-content/uploads/2025/01/Axel_Schaefer_BildNr1018_Photocredits_Emanuela_Danielewicz-_2_web-1024x683-1.jpg
END:VEVENT
BEGIN:VEVENT
DTSTART;TZID=Europe/Berlin:20250411T160000
DTEND;TZID=Europe/Berlin:20250411T173000
DTSTAMP:20260422T161331
CREATED:20250406T180751Z
LAST-MODIFIED:20250406T180751Z
UID:10000621-1744387200-1744392600@naturfreunde-langendreer.de
SUMMARY:Globaler Klimastreik
DESCRIPTION:Am Donnerstag\, den 11. April\, gehört der Bochumer Südring nicht den Autos\, sondern den Kindern! Gemeinsam demonstrieren wir mit unserer Bobby-Car-Demo im Rahmen des Globalen Klimastreiks für kindgerechte Städte\, sichere Straßen und echte Zukunftsperspektiven für die Kleinsten in unserer Gesellschaft.\nLos geht’s um 16 Uhr am Bochumer Hauptbahnhof. Von dort aus rollen\, fahren\, skaten und laufen wir über den Südring und die Alleestraße bis zum Drachenspielplatz. Dort erwartet euch eine Theateraufführung und zum Schluss eine Verlosung liebevoll bemalter Bobbycars! Die Erwachsenen dürfen natürlich auch zu Fuß gehen.\n➡️ Bringt eure Kinder mit!\n➡️ Packt Bobbycars\, Laufräder\, Inliner & kleine Fahrräder ein!\n➡️ Sagt es weiter an andere Eltern\, Kitas\, Initiativen und Gruppen! Im Anhang ist ein Flyer den Ihr gerne ausdrucken und auslegen könnt.\nDie Demo ist angemeldet und sicher – und setzt ein starkes Zeichen: Für Städte\, in denen Kinder Vorrang haben. Für Straßen\, auf denen sie sicher unterwegs sein können. Für eine klimagerechte Zukunft!\nWir freuen uns auf euch!
URL:https://naturfreunde-langendreer.de/event/globaler-klimastreik/
LOCATION:Kurt-Schumacher-Platz\, Bochum
CATEGORIES:Demonstration
ATTACH;FMTTYPE=image/png:https://naturfreunde-langendreer.de/wp-content/uploads/2025/04/Bobbycar.png
END:VEVENT
BEGIN:VEVENT
DTSTART;TZID=Europe/Berlin:20250411T180000
DTEND;TZID=Europe/Berlin:20250411T213000
DTSTAMP:20260422T161331
CREATED:20250406T182333Z
LAST-MODIFIED:20250406T182542Z
UID:10000623-1744394400-1744407000@naturfreunde-langendreer.de
SUMMARY:Offener Treff
DESCRIPTION:Kommt vorbei und seid nicht alleine.
URL:https://naturfreunde-langendreer.de/event/offener-treff-26/
LOCATION:NaturFreundeZentrum\, Hohe Eiche 20\, Bochum\, NRW\, 44892\, Germany
END:VEVENT
BEGIN:VEVENT
DTSTART;TZID=Europe/Berlin:20250412T103000
DTEND;TZID=Europe/Berlin:20250412T180000
DTSTAMP:20260422T161331
CREATED:20250308T101852Z
LAST-MODIFIED:20250308T101852Z
UID:10000596-1744453800-1744480800@naturfreunde-langendreer.de
SUMMARY:Kanu - Anpaddeln auf der Ruhr
DESCRIPTION:Wir starten zur ersten Kanu-Tagestour. Traditionell fahren wir von der Kosterbrücke mit unseren Kanadiern die Ruhr bis Dahlhausen. Für eine Teilnahme ist keine Erfahrung\, aber eine Anmeldung aufgrund der beschränkten Plätzen in den Booten wichtig.
URL:https://naturfreunde-langendreer.de/event/kanu-anpaddeln-auf-der-ruhr/
CATEGORIES:Aktivitäten,Kanutour
ATTACH;FMTTYPE=image/jpeg:https://naturfreunde-langendreer.de/wp-content/uploads/2020/02/Tag-3-Kanutour-Lippe-2019-130052-Fotos-von-Achim.jpg
END:VEVENT
BEGIN:VEVENT
DTSTART;TZID=Europe/Berlin:20250418T180000
DTEND;TZID=Europe/Berlin:20250418T213000
DTSTAMP:20260422T161331
CREATED:20250406T182133Z
LAST-MODIFIED:20250406T182440Z
UID:10000622-1744999200-1745011800@naturfreunde-langendreer.de
SUMMARY:Offener Treff: Halt's Maul Rübennase
DESCRIPTION:Offener Treff und zusätzlich schwelgen wir in filmischen Erinnerungen an den berühmtesten Monty Python-Filmm it Hilfe des Beamers. Jeder nur ein Kreuz.
URL:https://naturfreunde-langendreer.de/event/offener-treff-halts-maul-ruebennase/
LOCATION:NaturFreundeZentrum\, Hohe Eiche 20\, Bochum\, NRW\, 44892\, Germany
ATTACH;FMTTYPE=image/jpeg:https://naturfreunde-langendreer.de/wp-content/uploads/2025/04/Ruebennase.jpg
END:VEVENT
BEGIN:VEVENT
DTSTART;TZID=Europe/Berlin:20250419T100000
DTEND;TZID=Europe/Berlin:20250419T170000
DTSTAMP:20260422T161331
CREATED:20250406T180125Z
LAST-MODIFIED:20250406T180125Z
UID:10000620-1745056800-1745082000@naturfreunde-langendreer.de
SUMMARY:Ausflug: Venlo: Fischessen und Markttag
DESCRIPTION:Wer hat Lust gemeinsam zum Einkaufen nach Venlo zu fahren? Da leider zwei Zugstrecken auf dem Weg gesperrt sind\, fahren wir dieses Jahr mit dem Auto. Trotzdem können wir gemeinsam nach Venlo fahren\, Kibbeling und Matjes essen\, Lakritz und Käse kaufen. Wer würde mitkommen? Wegen der Mitfahrgelegenheiten ist eine Anmeldung notwendig.
URL:https://naturfreunde-langendreer.de/event/ausflug-venlo-fischessen-und-markttag/
LOCATION:NaturFreundeZentrum\, Hohe Eiche 20\, Bochum\, NRW\, 44892\, Germany
END:VEVENT
BEGIN:VEVENT
DTSTART;TZID=Europe/Berlin:20250420T093000
DTEND;TZID=Europe/Berlin:20250420T170000
DTSTAMP:20260422T161331
CREATED:20250308T105558Z
LAST-MODIFIED:20250416T170718Z
UID:10000597-1745141400-1745168400@naturfreunde-langendreer.de
SUMMARY:Ostermarsch-Radtour
DESCRIPTION:„Friedensfähig statt kriegstüchtig! Kriege beenden\, Aufrüstung stoppen! Keine neuen Mittelstreckenwaffen in unserem Land!“ so lautet das Motto des OM Rhein Ruhr 25. Friedensgruppen aus den Orten zwischen Duisburg und Dortmund rufen auf zur Beteiligung. Das Programm der 3 Tage ist vielversprechend. Am Sonntag wird von Essen nach Bochum geradelt.\n\nWir treffen uns mit den Fahrrädern um 8:30 an der Haltestelle Igelstraße an der Unterstraße in Bochum. \n10:00 Essen\, Hirschelandplatz: „Gegen die atomare Bedrohung gemeinsam vorgehen“\nBegrüßung: Monika Jennis (Essener Friedensforum EFF)\nReden: Christoph von Lieven (ICAN) \n11:40 Gelsenkirchen\, Stadtgarten: „Lasst uns laut sein!“\nGedichte und Musik mit Unterstützung von Norbert Labatzki \n13:10 Wattenscheid\, Friedenskirche am August Bebel Platz: „80 Jahre Schwur von Buchenwald“\nRede: Ulli Sander (Bundesausschuss der VVN-BdA) \n14:30 Herne\, Kreuzkirche: „Der Traum vom Frieden – nie war er so wertvoll wie heute“\nBegrüßung: Edith Grams (Herner Friedensinitiative)\nRede: Pfarrer Uwe Leising (Friedensbeauftragter Ev. Kirchenkreis Herne)\nKultur: Willi Karasch\, Krysztof Daletski \n16:00 Bochum\, KoFabrik Stühmeyerstraße: „Keine neuen Mittelstreckenwaffen in unserem Land!“\nReden: Tobias Pflüger (Informationsstelle Militarisierung IMI)
URL:https://naturfreunde-langendreer.de/event/ostermarsch-radtour/
CATEGORIES:Frieden,Politik,RadFreunde
ATTACH;FMTTYPE=image/jpeg:https://naturfreunde-langendreer.de/wp-content/uploads/2025/03/Ostermarsch.jpg
END:VEVENT
BEGIN:VEVENT
DTSTART;TZID=Europe/Berlin:20250421T000000
DTEND;TZID=Europe/Berlin:20250425T235959
DTSTAMP:20260422T161331
CREATED:20250224T202414Z
LAST-MODIFIED:20250404T063209Z
UID:10000583-1745193600-1745625599@naturfreunde-langendreer.de
SUMMARY:Oster-Kinder- und Jugendfreizeit
DESCRIPTION:Auch in diesem Jahr geht es für uns ins Naturfreundehaus Stimmstamm\, um dort neue Abenteuer zu erleben. Euch erwarten viele\, tolle neue Programmpunkte von verschiedenen Bastelangeboten\, Waldrallye\, Waldhütten bauen\, Lagerfeuer mit Stockbrot und einem  „großen Ausflug“. Wenn du Lust hast\, mit uns gemeinsam eine Woche lang spiele zu spielen\, zu basteln\, Spaß zu haben\, melde dich bis zum 13.04.2025 an.\nWer? : Kinder 10 – 15 Jahre\nWann?: 21.04.2025 – 25.04.2025\nWo? : Narurfreundehaus Stimmstamm\, Meschede\nWie teuer? 60 € zuzüglich Fahrkarte\nAnmeldefrist: 13. 04. 2025\nMehr Infos und Anmelde-Möglichkeiten hier: osterfreizeit 2025 \nDer Arnsberger Wald ist eines der größten zusammenhängenden Waldgebiete in Nordrhein-Westfalen. Unser NaturFreunde-Haus steht auf dem Stimmstamm\, einem Gebirgspass auf 540 Meter Höhe.\nUnterkunft\nUntergebracht sind wir im Natur­Freunde­Haus Stimmstamm. Das Haus gehört den Natur­Freunden. Mit 26 Betten und 6 Zimmern bietet es Platz damit wir als Gruppe niemanden stören und niemand uns stört.\nVerpflegung\nIm NaturFreundeHaus Stimm­stamm gibt es eine voll­ständig eingerichtete Küche. Die Betreuer und die Kinder kochen zusammen. Es wird mit Bio-Produkten gekocht (Kein Schweinefleisch). Die teil­neh­menden Kinder sollen beim ge­mein­samen Kochen Spaß haben und auch etwas über die Le­bens­mittel lernen.\nAnreise\nVon Langendreer fahren wir gemeinsam mit dem Zug nach Meschede und von dort aus mit dem Bus hoch zum Stimmstamm.
URL:https://naturfreunde-langendreer.de/event/oster-kinder-und-jugendfreizeit/
ATTACH;FMTTYPE=image/jpeg:https://naturfreunde-langendreer.de/wp-content/uploads/2025/02/Kinder-Baum-scaled.jpg
END:VEVENT
BEGIN:VEVENT
DTSTART;TZID=Europe/Berlin:20250421T123000
DTEND;TZID=Europe/Berlin:20250421T163000
DTSTAMP:20260422T161331
CREATED:20250308T105857Z
LAST-MODIFIED:20250416T170942Z
UID:10000598-1745238600-1745253000@naturfreunde-langendreer.de
SUMMARY:Ostermarsch Ruhr - Friedensmarsch in Dortmund
DESCRIPTION:„Friedensfähig statt kriegstüchtig! Kriege beenden\, Aufrüstung stoppen! Keine neuen Mittelstreckenwaffen in unserem Land!“ so lautet das Motto des OM Rhein Ruhr 25. Friedensgruppen aus den Orten zwischen Duisburg und Dortmund rufen auf zur Beteiligung. Das Programm der 3 Tage ist vielversprechend.\nWir treffen uns um 12:30 Uhr am NaturFreundeZentrum und fahren anschließend gemeinsam mit der S-Bahn nach Dortmund. \nMehr Infos unter: http://s9y.ostermarsch-ruhr.de/ \n13:30 DO-Dorstfeld\, Wilhelmplatz: „Antifaschismus und Friedenskampf gehören zusammen!“\nBegrüßung: Joachim Schramm (DFG-VK NRW)\nRede: Pfarrer Friedrich Laker (Pauluskirche)\, N.N. (DKP Dortmund)\nMusik: Markus Böse \n15:00 Dortmund\, Hansaplatz: „Friedensfähig statt kriegstüchtig!“\nRede: Michael v. d. Schulenburg (ehm. UN-Diplomat\, MdEP BSW)\, Andrea Hornung (SDAJ-Bundesvorsitzende)\, Musik: Dortmunder Klezmer Band\, Trommelund Tanzgruppe DJOLO\nDurch das Programm des Abschlussfestes führt Anke Georges (VVN-BdA Dortmund)
URL:https://naturfreunde-langendreer.de/event/ostermarsch-ruhr-friedensmarsch-in-dortmund/
CATEGORIES:Frieden,Politik,Wandern
ATTACH;FMTTYPE=image/jpeg:https://naturfreunde-langendreer.de/wp-content/uploads/2025/03/Ostermarsch.jpg
END:VEVENT
BEGIN:VEVENT
DTSTART;TZID=Europe/Berlin:20250424T193000
DTEND;TZID=Europe/Berlin:20250424T213000
DTSTAMP:20260422T161331
CREATED:20250406T175008Z
LAST-MODIFIED:20250406T175008Z
UID:10000619-1745523000-1745530200@naturfreunde-langendreer.de
SUMMARY:Kreativabend: Stricken und Häkeln
DESCRIPTION:Am Kreativabend wird diesen Monat wieder gestrickt und gehäkelt. Du kannst deine eigenen Nadeln und Wolle mitbringen. Wir haben aber auch beides vor Ort. Bei Interesse kannst du  einfach vorbeikommen und mitmachen.
URL:https://naturfreunde-langendreer.de/event/kreativabend-stricken-und-haekeln-2/
LOCATION:NaturFreundeZentrum\, Hohe Eiche 20\, Bochum\, NRW\, 44892\, Germany
CATEGORIES:Kreativgruppe
ATTACH;FMTTYPE=image/jpeg:https://naturfreunde-langendreer.de/wp-content/uploads/2025/03/Kreativabend.jpg
END:VEVENT
BEGIN:VEVENT
DTSTART;TZID=Europe/Berlin:20250425T180000
DTEND;TZID=Europe/Berlin:20250425T220000
DTSTAMP:20260422T161331
CREATED:20250314T111422Z
LAST-MODIFIED:20250314T111422Z
UID:10000618-1745604000-1745618400@naturfreunde-langendreer.de
SUMMARY:Offener Treff mit Pflanzentausch
DESCRIPTION:Im Rahmen des Offenen Treffs findet am 25.04.2025 bei uns im Naturfreund:innenzentrum ein geselliger Pflanzentausch mit Aufenthaltsqualität statt. Bringt zuviel vorgezogene Tomaten\, geteilte Stauden\, ungeliebte Zimmerpflanzen… damit alles ein neues zu Hause findet! Es dürfen gern auch Pflanzen gegen Spende mitgenommen werden. Der Erlös kommt dem Erhalt des Zentrums zu Gute.\nBringt Tüten oder Kartons zum Transport der Pflanzen mit.\nAuch Nichttauscher:innen sind herzlich Willkommen
URL:https://naturfreunde-langendreer.de/event/offener-treff-mit-pflanzentausch/
CATEGORIES:Garten und Pflanzen,Offener Treff,Stadtteilprojekte
ATTACH;FMTTYPE=image/jpeg:https://naturfreunde-langendreer.de/wp-content/uploads/2025/03/250425-Pflanzentausch.jpg
END:VEVENT
BEGIN:VEVENT
DTSTART;TZID=Europe/Berlin:20250427T103000
DTEND;TZID=Europe/Berlin:20250427T160000
DTSTAMP:20260422T161331
CREATED:20250307T180104Z
LAST-MODIFIED:20250406T175121Z
UID:10000591-1745749800-1745769600@naturfreunde-langendreer.de
SUMMARY:Wandern - letzte Etappe rund um Bochum
DESCRIPTION:🌲 Liebe Wanderfreundinnen und Wanderfreunde\, \n🗓️ Am 27. April findet die nächste Wanderung der Naturfreunde Bochum-Langendreer statt. Wir sind immer noch bei unserer Wanderung rund um Bochum\, aber dies wird nun wohl die letzte Etappe dieser Wanderung\, dann haben wir den kompletten Weg geschafft. 🥾🌳 \n🚏 Wir treffen uns am Sonntag\, den 27. April um 10:40 Uhr in Langendreer an der Haltestelle „Lessing-Schule“. Das ist an der Kreuzung Unterstraße / Alte Bahnhofstraße. Dort nehmen wir um 10:50 Uhr die Buslinie 378 in Richtung Ruhr-Universität. 🚌 Aussteigen werden wir an der Haltestelle „Kleinherbeder Straße“\, wo wir um 10:58 Uhrankommen. \n🌄 Bis dort sind wir bei der letzten Etappe unserer Wanderung gekommen\, und dort geht es jetzt wieder weiter. Wer aus anderen Richtungen anreist: Zum Treffpunkt an der Haltestelle „Lessing-Schule“ kommt man mit den Straßenbahnlinien 302 und 310\, und auch die Buslinien 345 und 355 halten dort. 🚋 \n🗺️ Wer aus Richtung Universität / Hustadt kommt\, kann auch von der Ruhr-Universität aus mit dem Bus 378 zur Ziel-Haltestelle „Kleinherbeder Straße“ fahren. \n🌿 Unsere Wanderung geht dann von der Kleinherbeder Straße über das Papenholz\, Langendreerholz / Bömmerdelle\, Herrensiepen. Dort kommen wir schließlich wieder an dem Punkt an\, wo vor Monaten unsere Wanderung rund um Bochum begann. Von da gehen wir dann noch wieder an Haus Langendreer vorbei und durch den Volkspark Langendreer zu unserem Naturfreunde-Zentrum\, wo wir die Wanderung gemütlich ausklingen lassen können. 🍃 \n❤️ Liebe Grüße und Berg frei\nWolfgang Quere
URL:https://naturfreunde-langendreer.de/event/wandern-2/
CATEGORIES:Wandern
ATTACH;FMTTYPE=image/jpeg:https://naturfreunde-langendreer.de/wp-content/uploads/2025/02/Flyer_Wandern_2025.jpg
END:VEVENT
BEGIN:VEVENT
DTSTART;TZID=Europe/Berlin:20250429T193000
DTEND;TZID=Europe/Berlin:20250429T220000
DTSTAMP:20260422T161331
CREATED:20250309T132000Z
LAST-MODIFIED:20250309T132000Z
UID:10000606-1745955000-1745964000@naturfreunde-langendreer.de
SUMMARY:Musikalischer Abend
DESCRIPTION:Einmal monatlich wird es bei uns musikalisch. Wer Lust hat\, mit anderen Musik zu machen\, kann mit seinem Instrument und Noten (falls vorhanden) einfach vorbeikommen und mitmachen. Wir sind lauter Laien\, die Lust darauf haben\, gemeinsam zu musizieren und probieren einfach etwas aus. Es ist bisher noch ziemlich chaotisch\, macht aber trotzdem Spaß. Die Teilnahme ist kostenlos. Getränke gibt es gegen Spende.
URL:https://naturfreunde-langendreer.de/event/musikalischer-abend-2/
CATEGORIES:Musik machen
ATTACH;FMTTYPE=image/jpeg:https://naturfreunde-langendreer.de/wp-content/uploads/2025/03/Musikalischer-Abend.jpg
END:VEVENT
END:VCALENDAR