BEGIN:VCALENDAR
VERSION:2.0
PRODID:-//NaturFreunde Bochum Langendreer - ECPv6.15.20//NONSGML v1.0//EN
CALSCALE:GREGORIAN
METHOD:PUBLISH
X-ORIGINAL-URL:https://naturfreunde-langendreer.de
X-WR-CALDESC:Veranstaltungen für NaturFreunde Bochum Langendreer
REFRESH-INTERVAL;VALUE=DURATION:PT1H
X-Robots-Tag:noindex
X-PUBLISHED-TTL:PT1H
BEGIN:VTIMEZONE
TZID:Europe/Berlin
BEGIN:DAYLIGHT
TZOFFSETFROM:+0100
TZOFFSETTO:+0200
TZNAME:CEST
DTSTART:20240331T010000
END:DAYLIGHT
BEGIN:STANDARD
TZOFFSETFROM:+0200
TZOFFSETTO:+0100
TZNAME:CET
DTSTART:20241027T010000
END:STANDARD
BEGIN:DAYLIGHT
TZOFFSETFROM:+0100
TZOFFSETTO:+0200
TZNAME:CEST
DTSTART:20250330T010000
END:DAYLIGHT
BEGIN:STANDARD
TZOFFSETFROM:+0200
TZOFFSETTO:+0100
TZNAME:CET
DTSTART:20251026T010000
END:STANDARD
BEGIN:DAYLIGHT
TZOFFSETFROM:+0100
TZOFFSETTO:+0200
TZNAME:CEST
DTSTART:20260329T010000
END:DAYLIGHT
BEGIN:STANDARD
TZOFFSETFROM:+0200
TZOFFSETTO:+0100
TZNAME:CET
DTSTART:20261025T010000
END:STANDARD
END:VTIMEZONE
BEGIN:VEVENT
DTSTART;TZID=Europe/Berlin:20251202T090000
DTEND;TZID=Europe/Berlin:20251202T110000
DTSTAMP:20260424T104611
CREATED:20251201T084711Z
LAST-MODIFIED:20251201T084711Z
UID:10000724-1764666000-1764673200@naturfreunde-langendreer.de
SUMMARY:Ansprech-Bar
DESCRIPTION:Offene Beratung der Kita-Sozialarbeit bei Kaffee und Tee\nfür Mütter und Väter von Kindern im Alter von 0-6 Jahren\, unabhängig vom Besuch einer Kita\nzu Themen wie z.B.  \n\nFreizeit und Kontakt\nBehörden und Anträgen\nAlltagssorgen und Austausch\n\nDienstags von 09:00 bis 11:00 Uhr im NFZ Bochum\, Hohe Eiche 20 \nStart: 28.10.2025 \nAnsprechpartnerin \nAnke Bhatti \nStadt Bochum Jugendamt\n-Kita Sozialarbeit-\nTel: 0234 9109331\nmobil: 0152 54981520\ne-mail: ABhatti@bochum
URL:https://naturfreunde-langendreer.de/event/ansprech-bar-4/
LOCATION:NaturFreundeZentrum\, Hohe Eiche 20\, Bochum\, 44892\, Germany
CATEGORIES:NaturFreundeZentrum
END:VEVENT
BEGIN:VEVENT
DTSTART;TZID=Europe/Berlin:20251204T193000
DTEND;TZID=Europe/Berlin:20251204T220000
DTSTAMP:20260424T104611
CREATED:20251112T185803Z
LAST-MODIFIED:20251125T163717Z
UID:10000875-1764876600-1764885600@naturfreunde-langendreer.de
SUMMARY:Vorstandssitzung der NaturFreunde Bochum-Langendreer
DESCRIPTION:Wir planen unsere Vereinsaktivitäten. Wir kümmern uns um unsere Kinder- und Jugendaktivitäten. Außerdem diskutieren und entscheiden wir über das NaturFreundeZentrum und unser NaturFreundeHaus Stimmstamm.
URL:https://naturfreunde-langendreer.de/event/vorstandssitzung-der-naturfreunde-bochum-langendreer/2025-12-04/
CATEGORIES:Vorstand,Vorstandssitzung
ATTACH;FMTTYPE=image/jpeg:https://naturfreunde-langendreer.de/wp-content/uploads/2025/01/Logo_NF_Langendreer.jpg
END:VEVENT
BEGIN:VEVENT
DTSTART;TZID=Europe/Berlin:20251209T090000
DTEND;TZID=Europe/Berlin:20251209T110000
DTSTAMP:20260424T104611
CREATED:20251125T163602Z
LAST-MODIFIED:20251125T163604Z
UID:10000725-1765270800-1765278000@naturfreunde-langendreer.de
SUMMARY:Ansprech-Bar
DESCRIPTION:Offene Beratung der Kita-Sozialarbeit bei Kaffee und Tee\nfür Mütter und Väter von Kindern im Alter von 0-6 Jahren\, unabhängig vom Besuch einer Kita\nzu Themen wie z.B.  \n\nFreizeit und Kontakt\nBehörden und Anträgen\nAlltagssorgen und Austausch\n\nDienstags von 09:00 bis 11:00 Uhr im NFZ Bochum\, Hohe Eiche 20 \nStart: 28.10.2025 \nAnsprechpartnerin \nAnke Bhatti \nStadt Bochum Jugendamt\n-Kita Sozialarbeit-\nTel: 0234 9109331\nmobil: 0152 54981520\ne-mail: ABhatti@bochum
URL:https://naturfreunde-langendreer.de/event/ansprech-bar-3/
LOCATION:NaturFreundeZentrum\, Hohe Eiche 20\, Bochum\, 44892\, Germany
CATEGORIES:NaturFreundeZentrum
END:VEVENT
BEGIN:VEVENT
DTSTART;TZID=Europe/Berlin:20251216T090000
DTEND;TZID=Europe/Berlin:20251216T110000
DTSTAMP:20260424T104611
CREATED:20251209T084625Z
LAST-MODIFIED:20251209T084626Z
UID:10000726-1765875600-1765882800@naturfreunde-langendreer.de
SUMMARY:Ansprech-Bar
DESCRIPTION:Offene Beratung der Kita-Sozialarbeit bei Kaffee und Tee\nfür Mütter und Väter von Kindern im Alter von 0-6 Jahren\, unabhängig vom Besuch einer Kita\nzu Themen wie z.B.  \n\nFreizeit und Kontakt\nBehörden und Anträgen\nAlltagssorgen und Austausch\n\nDienstags von 09:00 bis 11:00 Uhr im NFZ Bochum\, Hohe Eiche 20 \nAnsprechpartnerin \nAnke Bhatti \nStadt Bochum Jugendamt\n-Kita Sozialarbeit-\nTel: 0234 9109331\nmobil: 0152 54981520\ne-mail: ABhatti@bochum
URL:https://naturfreunde-langendreer.de/event/ansprech-bar-5/
LOCATION:NaturFreundeZentrum\, Hohe Eiche 20\, Bochum\, 44892\, Germany
CATEGORIES:NaturFreundeZentrum
END:VEVENT
BEGIN:VEVENT
DTSTART;TZID=Europe/Berlin:20251223T090000
DTEND;TZID=Europe/Berlin:20251223T110000
DTSTAMP:20260424T104611
CREATED:20251209T084737Z
LAST-MODIFIED:20251209T084738Z
UID:10000727-1766480400-1766487600@naturfreunde-langendreer.de
SUMMARY:Ansprech-Bar
DESCRIPTION:Offene Beratung der Kita-Sozialarbeit bei Kaffee und Tee\nfür Mütter und Väter von Kindern im Alter von 0-6 Jahren\, unabhängig vom Besuch einer Kita\nzu Themen wie z.B.  \n\nFreizeit und Kontakt\nBehörden und Anträgen\nAlltagssorgen und Austausch\n\nDienstags von 09:00 bis 11:00 Uhr im NFZ Bochum\, Hohe Eiche 20 \nAnsprechpartnerin \nAnke Bhatti \nStadt Bochum Jugendamt\n-Kita Sozialarbeit-\nTel: 0234 9109331\nmobil: 0152 54981520\ne-mail: ABhatti@bochum
URL:https://naturfreunde-langendreer.de/event/ansprech-bar-6/
LOCATION:NaturFreundeZentrum\, Hohe Eiche 20\, Bochum\, 44892\, Germany
CATEGORIES:NaturFreundeZentrum
END:VEVENT
BEGIN:VEVENT
DTSTART;TZID=Europe/Berlin:20251230T090000
DTEND;TZID=Europe/Berlin:20251230T110000
DTSTAMP:20260424T104611
CREATED:20251209T084814Z
LAST-MODIFIED:20251209T084815Z
UID:10000728-1767085200-1767092400@naturfreunde-langendreer.de
SUMMARY:Ansprech-Bar
DESCRIPTION:Offene Beratung der Kita-Sozialarbeit bei Kaffee und Tee\nfür Mütter und Väter von Kindern im Alter von 0-6 Jahren\, unabhängig vom Besuch einer Kita\nzu Themen wie z.B.  \n\nFreizeit und Kontakt\nBehörden und Anträgen\nAlltagssorgen und Austausch\n\nDienstags von 09:00 bis 11:00 Uhr im NFZ Bochum\, Hohe Eiche 20 \nAnsprechpartnerin \nAnke Bhatti \nStadt Bochum Jugendamt\n-Kita Sozialarbeit-\nTel: 0234 9109331\nmobil: 0152 54981520\ne-mail: ABhatti@bochum
URL:https://naturfreunde-langendreer.de/event/ansprech-bar-7/
LOCATION:NaturFreundeZentrum\, Hohe Eiche 20\, Bochum\, 44892\, Germany
CATEGORIES:NaturFreundeZentrum
END:VEVENT
END:VCALENDAR