BEGIN:VCALENDAR
VERSION:2.0
PRODID:-//NaturFreunde Bochum Langendreer - ECPv6.15.20//NONSGML v1.0//EN
CALSCALE:GREGORIAN
METHOD:PUBLISH
X-ORIGINAL-URL:https://naturfreunde-langendreer.de
X-WR-CALDESC:Veranstaltungen für NaturFreunde Bochum Langendreer
REFRESH-INTERVAL;VALUE=DURATION:PT1H
X-Robots-Tag:noindex
X-PUBLISHED-TTL:PT1H
BEGIN:VTIMEZONE
TZID:Europe/Berlin
BEGIN:DAYLIGHT
TZOFFSETFROM:+0100
TZOFFSETTO:+0200
TZNAME:CEST
DTSTART:20250330T010000
END:DAYLIGHT
BEGIN:STANDARD
TZOFFSETFROM:+0200
TZOFFSETTO:+0100
TZNAME:CET
DTSTART:20251026T010000
END:STANDARD
BEGIN:DAYLIGHT
TZOFFSETFROM:+0100
TZOFFSETTO:+0200
TZNAME:CEST
DTSTART:20260329T010000
END:DAYLIGHT
BEGIN:STANDARD
TZOFFSETFROM:+0200
TZOFFSETTO:+0100
TZNAME:CET
DTSTART:20261025T010000
END:STANDARD
BEGIN:DAYLIGHT
TZOFFSETFROM:+0100
TZOFFSETTO:+0200
TZNAME:CEST
DTSTART:20270328T010000
END:DAYLIGHT
BEGIN:STANDARD
TZOFFSETFROM:+0200
TZOFFSETTO:+0100
TZNAME:CET
DTSTART:20271031T010000
END:STANDARD
END:VTIMEZONE
BEGIN:VEVENT
DTSTART;TZID=Europe/Berlin:20260102T180000
DTEND;TZID=Europe/Berlin:20260102T220000
DTSTAMP:20260425T143557
CREATED:20251210T082309Z
LAST-MODIFIED:20260328T174030Z
UID:10001445-1767376800-1767391200@naturfreunde-langendreer.de
SUMMARY:Offener Treff im NaturFreundeZentrum
DESCRIPTION:Jeden Freitag ab 18:00 öffnet das NaturFreundeZentrum sind Tür. Man kann Menschen treffen\, miteinander spielen\, Musik hören und\, und\, und. Manchmal gibt es Konzerte\, Lesungen\, Tastings oder anderes.
URL:https://naturfreunde-langendreer.de/event/offener-treff-im-naturfreundezentrum-2/2026-01-02/
CATEGORIES:NaturFreundeZentrum,Offener Treff
ATTACH;FMTTYPE=image/jpeg:https://naturfreunde-langendreer.de/wp-content/uploads/2025/10/DA-Offener-Treff-1.jpg
END:VEVENT
BEGIN:VEVENT
DTSTART;TZID=Europe/Berlin:20260106T090000
DTEND;TZID=Europe/Berlin:20260106T110000
DTSTAMP:20260425T143557
CREATED:20251209T084857Z
LAST-MODIFIED:20251209T084858Z
UID:10000729-1767690000-1767697200@naturfreunde-langendreer.de
SUMMARY:Ansprech-Bar
DESCRIPTION:Offene Beratung der Kita-Sozialarbeit bei Kaffee und Tee\nfür Mütter und Väter von Kindern im Alter von 0-6 Jahren\, unabhängig vom Besuch einer Kita\nzu Themen wie z.B.  \n\nFreizeit und Kontakt\nBehörden und Anträgen\nAlltagssorgen und Austausch\n\nDienstags von 09:00 bis 11:00 Uhr im NFZ Bochum\, Hohe Eiche 20 \nAnsprechpartnerin \nAnke Bhatti \nStadt Bochum Jugendamt\n-Kita Sozialarbeit-\nTel: 0234 9109331\nmobil: 0152 54981520\ne-mail: ABhatti@bochum
URL:https://naturfreunde-langendreer.de/event/ansprech-bar-8/
LOCATION:NaturFreundeZentrum\, Hohe Eiche 20\, Bochum\, 44892\, Germany
CATEGORIES:NaturFreundeZentrum
END:VEVENT
BEGIN:VEVENT
DTSTART;TZID=Europe/Berlin:20260108T193000
DTEND;TZID=Europe/Berlin:20260108T213000
DTSTAMP:20260425T143557
CREATED:20251125T164022Z
LAST-MODIFIED:20251125T164022Z
UID:10001316-1767900600-1767907800@naturfreunde-langendreer.de
SUMMARY:Vorstand der NaturFreunde Langendreer
DESCRIPTION:Wir planen unsere Vereinsaktivitäten. Wir kümmern uns um unsere Kinder- und Jugendaktivitäten. Außerdem diskutieren und entscheiden wir über das NaturFreundeZentrum und unser NaturFreundeHaus Stimmstamm.
URL:https://naturfreunde-langendreer.de/event/vorstand-der-naturfreunde-langendreer/
CATEGORIES:Vorstand
ATTACH;FMTTYPE=image/jpeg:https://naturfreunde-langendreer.de/wp-content/uploads/2025/01/Logo_NF_Langendreer.jpg
END:VEVENT
BEGIN:VEVENT
DTSTART;TZID=Europe/Berlin:20260109T180000
DTEND;TZID=Europe/Berlin:20260109T193000
DTSTAMP:20260425T143557
CREATED:20251211T160223Z
LAST-MODIFIED:20251211T160223Z
UID:10001703-1767981600-1767987000@naturfreunde-langendreer.de
SUMMARY:Fachgruppe Kanu - Absprachen
DESCRIPTION:Aktive aus der Fachgruppe Kanu treffen sich\, um Ideen und Planungen für das Jahr 2026 zu entwickeln und zu überlegen\, wie man effiktiver zusammen arbeiten kann.
URL:https://naturfreunde-langendreer.de/event/fachgruppe-kanu-absprachen/
CATEGORIES:Kanutour
ATTACH;FMTTYPE=image/jpeg:https://naturfreunde-langendreer.de/wp-content/uploads/2015/11/P1070337-Kopie.jpg
END:VEVENT
BEGIN:VEVENT
DTSTART;TZID=Europe/Berlin:20260109T180000
DTEND;TZID=Europe/Berlin:20260109T220000
DTSTAMP:20260425T143557
CREATED:20251221T171229Z
LAST-MODIFIED:20251221T171608Z
UID:10001446-1767981600-1767996000@naturfreunde-langendreer.de
SUMMARY:Puzzleabend im NaturFreundeZentrum
DESCRIPTION:Puzzle raus und los geht’s. Wir haben ein paar Puzzle da und ihr könnte gerne Puzzle mitbringen.\nEs gibt Suppe und Tee.\nAlter: 0 bis 121\nSchwierigkeit: 0 bis 10
URL:https://naturfreunde-langendreer.de/event/offener-treff-im-naturfreundezentrum-3/
CATEGORIES:NaturFreundeZentrum,Offener Treff
ATTACH;FMTTYPE=image/jpeg:https://naturfreunde-langendreer.de/wp-content/uploads/2025/12/sharepic_Puzzleabend_NFZ.jpg
END:VEVENT
BEGIN:VEVENT
DTSTART;TZID=Europe/Berlin:20260111T100000
DTEND;TZID=Europe/Berlin:20260111T150000
DTSTAMP:20260425T143557
CREATED:20251013T094019Z
LAST-MODIFIED:20251210T081809Z
UID:10000705-1768125600-1768143600@naturfreunde-langendreer.de
SUMMARY:Frühstücken und Programmplanung
DESCRIPTION:Zur schönen Tradition ist es geworden\, dass wir uns am zweiten Sonntag im neuen Jahr treffen und gemeinsam über die Freizeiten und das Programm für das anstehende Jahr diskutieren. Zuvor gibt es ein ausführliches Frühstück\, damit man ein wenig zusammen quatschen kann. Alle\, die beim Programm mitmachen wollen\, sind eingeladen mitzuwirken. Für das Frühstück bitten wir um eine Anmeldung.
URL:https://naturfreunde-langendreer.de/event/fruehstuecken-und-programmplanung/
CATEGORIES:Mitgliedertreff
ATTACH;FMTTYPE=image/jpeg:https://naturfreunde-langendreer.de/wp-content/uploads/2025/10/Planungsfruehstueck.jpeg
END:VEVENT
BEGIN:VEVENT
DTSTART;TZID=Europe/Berlin:20260113T090000
DTEND;TZID=Europe/Berlin:20260113T110000
DTSTAMP:20260425T143557
CREATED:20251022T131848Z
LAST-MODIFIED:20260125T143114Z
UID:10000730-1768294800-1768302000@naturfreunde-langendreer.de
SUMMARY:Ansprech-Bar
DESCRIPTION:Offene Beratung der Kita-Sozialarbeit bei Kaffee und Tee\nfür Mütter und Väter von Kindern im Alter von 0-6 Jahren\, unabhängig vom Besuch einer Kita\nzu Themen wie z.B.  \n\nFreizeit und Kontakt\nBehörden und Anträgen\nAlltagssorgen und Austausch\n\nDienstags von 09:00 bis 11:00 Uhr im NFZ Bochum\, Hohe Eiche 20 \nAnsprechpartnerin \nAnke Bhatti \nStadt Bochum Jugendamt\n-Kita Sozialarbeit-\nTel: 0234 9109331\nmobil: 0152 54981520\ne-mail: ABhatti@bochum.de
URL:https://naturfreunde-langendreer.de/event/ansprech-bar/2026-01-13/
LOCATION:NaturFreundeZentrum\, Hohe Eiche 20\, Bochum\, 44892\, Germany
CATEGORIES:NaturFreundeZentrum
END:VEVENT
BEGIN:VEVENT
DTSTART;TZID=Europe/Berlin:20260113T190000
DTEND;TZID=Europe/Berlin:20260113T210000
DTSTAMP:20260425T143557
CREATED:20251112T181759Z
LAST-MODIFIED:20251112T181759Z
UID:10000756-1768330800-1768338000@naturfreunde-langendreer.de
SUMMARY:Friedeninitiative Bochum-Ost
DESCRIPTION:Wir sind entsetzt über die Leichtfertigkeit\, mit der Politiker eine riesige Aufrüstung betreiben. Sie reden Kriege herbei\, ohne ernsthaft über Verständigung und Verhandlungs­lösungen nachzudenken. Wir fürchten\, dass mit der Hochrüstung in Deutschland ein Krieg nicht verhindert\, sondern sogar wahrscheinlicher wird. Wir vergessen nicht\, was Krieg bedeutet: Tod\, Verletzung\, Zerstörung. Wir stellen uns entschieden gegen die zunehmende Militarisierung Deutschlands. Wir lehnen Aufrüstung\, Waffenexporte und Waffenlieferungen ab – in In- und Ausland. Stattdessen setzen wir uns für eine friedliche Außenpolitik ein\, die auf Abrüstung\, Diplomatie und internationaler Zusammenarbeit basiert. Wir verstehen uns als Teil der Friedensbewegung und streben die Zusammenarbeit mit allen an\, die sich gegen militärische Konfliktlösungen einsetzen. Die Militärausgaben sind eine riesige Verschwendung von Steuergeldern\, die den Rüstungsaktionären zugute kommen. Die Schulden\, die dafür aufgenommen werden\, muss die Allgemeinheit bezahlen. Schon heute sind die NATO-Staaten der russischen Armee zahlenmäßig und technologisch deutlich überlegen. Eine weitere Aufrüstung schafft nicht Sicherheit\, sondern die Voraussetzung für weitere Kriege.\nUnser Engagement ist untrennbar mit dem Antifaschismus verbunden. In der Tradition des Schwurs von Buchenwald bekennen wir uns zu den Worten:\n„Nie wieder Krieg! Nie wieder Faschismus!“\nWir treffen uns jeden zweiten Dienstag im Monat.
URL:https://naturfreunde-langendreer.de/event/friedeninitiative-bochum-ost/2026-01-13/
CATEGORIES:Frieden
ATTACH;FMTTYPE=image/jpeg:https://naturfreunde-langendreer.de/wp-content/uploads/2025/08/Logo-FI-Bochum-Ost.jpg
END:VEVENT
BEGIN:VEVENT
DTSTART;TZID=Europe/Berlin:20260116T180000
DTEND;TZID=Europe/Berlin:20260116T220000
DTSTAMP:20260425T143557
CREATED:20260112T053104Z
LAST-MODIFIED:20260112T053408Z
UID:10001447-1768586400-1768600800@naturfreunde-langendreer.de
SUMMARY:Hutkonzert: Lieder aus Irland und Schottland
DESCRIPTION:Ihr Bandname lässt es schon erahnen: auf dem Programm von „The Ballytobin Gathering“ steht keltische Musik.\nLieder aus Irland und Schottland erklingen neben bretonischen Tänzen. Darüber hinaus spielt die Gruppe\, die seit\n1994 zusammenspielt\, auch immer häufiger eigene Kompositionen. Spaß an der Musik und der kreative\, mitunter\nironische Umgang mit Melodie und Text stehen bei „The Ballytobin Gathering“ im Vordergrund. Ihr mehrstimmiger\nGesang und die ungewöhnliche Klangkombinationen von Posaune mit Dudelsack und Banjo setzen dabei\naußergewöhnliche Akzente. Bisher hat die Band zwei CDs veröffentlicht: WITTEN-DUBLIN-RETURN und \nSONGS & DANCES FROM STRANGEMOCKLER  \n„The Ballytobin Gathering“ – das sind Volker Westheider\, Iris und Frank Moschner\, die seit rund 35 Jahre lang zusammen\nMusik machen. In den letzten Jahren stießen noch Ulrike Schweitzer und Bernd Lohmann dazu. Der Bandname „Ballytobin“\nbezieht sich auf Ballytobin (County Kilkenny\, Irland). \nSongs:\nhttp://ballytobin-gathering.de/disk-chronologiehtml
URL:https://naturfreunde-langendreer.de/event/offener-treff-im-naturfreundezentrum-2-3/
CATEGORIES:NaturFreundeZentrum,Offener Treff
ATTACH;FMTTYPE=image/jpeg:https://naturfreunde-langendreer.de/wp-content/uploads/2026/01/TBG-Foto-Bochum-scaled.jpg
END:VEVENT
BEGIN:VEVENT
DTSTART;TZID=Europe/Berlin:20260120T090000
DTEND;TZID=Europe/Berlin:20260120T110000
DTSTAMP:20260425T143557
CREATED:20251022T131848Z
LAST-MODIFIED:20260125T143114Z
UID:10000731-1768899600-1768906800@naturfreunde-langendreer.de
SUMMARY:Ansprech-Bar
DESCRIPTION:Offene Beratung der Kita-Sozialarbeit bei Kaffee und Tee\nfür Mütter und Väter von Kindern im Alter von 0-6 Jahren\, unabhängig vom Besuch einer Kita\nzu Themen wie z.B.  \n\nFreizeit und Kontakt\nBehörden und Anträgen\nAlltagssorgen und Austausch\n\nDienstags von 09:00 bis 11:00 Uhr im NFZ Bochum\, Hohe Eiche 20 \nAnsprechpartnerin \nAnke Bhatti \nStadt Bochum Jugendamt\n-Kita Sozialarbeit-\nTel: 0234 9109331\nmobil: 0152 54981520\ne-mail: ABhatti@bochum.de
URL:https://naturfreunde-langendreer.de/event/ansprech-bar/2026-01-20/
LOCATION:NaturFreundeZentrum\, Hohe Eiche 20\, Bochum\, 44892\, Germany
CATEGORIES:NaturFreundeZentrum
END:VEVENT
BEGIN:VEVENT
DTSTART;TZID=Europe/Berlin:20260120T190000
DTEND;TZID=Europe/Berlin:20260120T213000
DTSTAMP:20260425T143557
CREATED:20250828T070847Z
LAST-MODIFIED:20260103T091039Z
UID:10001317-1768935600-1768944600@naturfreunde-langendreer.de
SUMMARY:Fantasy Pen&Paper
DESCRIPTION:Hast du schon einmal davon geträumt\, in die Rolle eines geschickten Diebes\, mächtigen Magiers\, tapferen Heilers oder mutigen Kriegers zu schlüpfen? Möchtest du als Elf durch die Wälder streifen\, als Zwerg dunkle Höhlen erkunden oder als Halbling listige Pläne schmieden? \nDann schließe dich unserer Runde an! \nPen & Paper Rollenspielabend\nJeden 3. Dienstag im Monat\nAb 19:00 Uhr\nim NFZ \nWir spielen ein spannendes Abenteuer basierend auf den Regeln von D&D\, AD&D und Pathfinder.
URL:https://naturfreunde-langendreer.de/event/fantasy-penpaper-8/2026-01-20/
LOCATION:NaturFreundeZentrum\, Hohe Eiche 20\, Bochum\, 44892\, Germany
CATEGORIES:NaturFreundeZentrum,Spieleabend
ATTACH;FMTTYPE=image/jpeg:https://naturfreunde-langendreer.de/wp-content/uploads/2025/05/Dices.jpg
END:VEVENT
BEGIN:VEVENT
DTSTART;TZID=Europe/Berlin:20260122T193000
DTEND;TZID=Europe/Berlin:20260122T213000
DTSTAMP:20260425T143557
CREATED:20251203T050206Z
LAST-MODIFIED:20260109T151154Z
UID:10001381-1769110200-1769117400@naturfreunde-langendreer.de
SUMMARY:Die Kosten der Aufrüstung: kein Geld für Soziales
DESCRIPTION:Trotz immenser Neuverschuldung spitzen sich die Finanzprobleme des Staates immer weiter zu. Finanzminister Klingbeil nennt Einsparbedarfe für den Bundeshaushalt von über 170 Mrd. Euro bis 2029. Bundeskanzler Merz nennt den „Sozialstaat\, wie wir ihn heute haben\, (…) nicht mehr finanzierbar“. Die Kapitalverbände schießen Trommelfeuer gegen angeblich zu hohe Lohnkosten und Sozialleistungen\, gegen Arbeitnehmerrechte und Streiks. Doch tatsächlich ist es die massive Hochrüstung und Unterstützung der Ukraine im Krieg gegen Russland\, die den Sozialstaat ruiniert und die Wirtschaft belastet. Nur wenn die Gewerkschaften und soziale Kräfte aktiv werden und gemeinsam mit der Friedensbewegung dagegen ankämpfen\, werden wir Kriegsvorbereitung\, die Zerstörung des Sozialstaats und den Klassenkampf von oben stoppen können. \nRalf Krämer\, Berlin\, arbeitet als Gewerkschaftssekretär im Bereich Wirtschaftspolitik und ist aktiv in den Initiativen „Nie wieder Krieg – Die Waffen nieder!“ und „Gewerkschaften gegen Aufrüstung und Krieg“  Website: https://www.ralfkraemer.de/
URL:https://naturfreunde-langendreer.de/event/die-kosten-der-aufruestung-kein-geld-fuer-soziales/
CATEGORIES:Diskussionsabend,Frieden,Politik
ATTACH;FMTTYPE=image/jpeg:https://naturfreunde-langendreer.de/wp-content/uploads/2025/12/DA-Kraemer-1.jpg
END:VEVENT
BEGIN:VEVENT
DTSTART;TZID=Europe/Berlin:20260123T180000
DTEND;TZID=Europe/Berlin:20260123T220000
DTSTAMP:20260425T143557
CREATED:20260111T071257Z
LAST-MODIFIED:20260112T161503Z
UID:10001448-1769191200-1769205600@naturfreunde-langendreer.de
SUMMARY:Widerständige Lieder aus dem Wittgensteiner Land
DESCRIPTION:Gruppenfoto der Band Schall & Rauch\nSie sind mal direkt und agitatorisch („Das Lied vom Aufmucken“)\, mal hintergründig („Rumpelstilzchen“) oder humorvoll („Dick und Doof in der Fabrik“) – Schall und Rauch aus Bad Berleburg werfen in ihren Liedern einen kritischen Blick auf die Welt und verleihen denen eine Stimme\, die häufig nicht gehört werden: Den Arbeiterinnen und Arbeitern\, den Abgehängten\, den Außenseitern. Dabei folgen sie dem marxschen Motto\, „die versteinerten Verhältnisse zum Tanzen zu zwingen\, indem man ihnen ihre eigene Melodie vorsingt.“ Ihr Repertoire umfasst Klassiker wie „Was wollen wir trinken“\, Coverversionen wie „Working Class Hero“ sowie Vertonungen von Gedichten Christian Morgensterns. Meistens singen sie dabei auf Deutsch\, manchmal Englisch\, gelegentlich auch im Wittgensteiner Platt. Durch Ihren Vortrag aber verleihen sie ihren Liedern eine unverwechselbare Note. \n Schall und Rauch\, das sind Friedhelm „Menne“ Fuchs (Gitarre und Gesang)\, Jochen Rosenkötter (Gesang und Percussion)\, René Ritter (Bass) und die geheimnisvolle ELA alias Manuela Pätzke (Gesang)  \nKonzert ab 19:30\, Der Eintritt ist frei\, Hut geht rum
URL:https://naturfreunde-langendreer.de/event/offener-treff-im-naturfreundezentrum-2-2/
CATEGORIES:NaturFreundeZentrum,Offener Treff
ATTACH;FMTTYPE=image/jpeg:https://naturfreunde-langendreer.de/wp-content/uploads/2026/01/Schall-und-Rauch-C-Schall-und-Rauch-Mittel.jpg
END:VEVENT
BEGIN:VEVENT
DTSTART;TZID=Europe/Berlin:20260125T100000
DTEND;TZID=Europe/Berlin:20260125T170000
DTSTAMP:20260425T143557
CREATED:20251210T080629Z
LAST-MODIFIED:20260102T134737Z
UID:10001386-1769335200-1769360400@naturfreunde-langendreer.de
SUMMARY:Wandern mit den NaturFreunden
DESCRIPTION:Gemeinsam brechen wir von Langendreer entweder mit Bus und Bahn oder zu Fuss auf und Wandern. Genaue Daten\, Ziele und Wege werden immer vorher bekannt gegeben. Pausen und Weglänge werden gemeinsam besprochen. Treffpunkt ist entweder das NFZ oder eine Haltestelle von Bus\, Straßen- oder S-Bahn.\nWir verstehen wandern als soziales Miteinander um gemeinsam Zeit zu verbringen und sich über vieles auszutauschen. Es gibt immer Informationen über die WhatsApp-Wandergruppe oder über den E-Mail-Verteiler der Wandergruppe. Wer also regelmäßig informiert werden möchte\, muss sich bitte mailden.
URL:https://naturfreunde-langendreer.de/event/wandern-mit-den-naturfreunden/2026-01-25/
CATEGORIES:Aktivitäten,Wandern
ATTACH;FMTTYPE=image/jpeg:https://naturfreunde-langendreer.de/wp-content/uploads/2025/12/2026-Wandern.jpeg
END:VEVENT
BEGIN:VEVENT
DTSTART;TZID=Europe/Berlin:20260127T090000
DTEND;TZID=Europe/Berlin:20260127T110000
DTSTAMP:20260425T143557
CREATED:20251022T131848Z
LAST-MODIFIED:20260125T143114Z
UID:10000732-1769504400-1769511600@naturfreunde-langendreer.de
SUMMARY:Ansprech-Bar
DESCRIPTION:Offene Beratung der Kita-Sozialarbeit bei Kaffee und Tee\nfür Mütter und Väter von Kindern im Alter von 0-6 Jahren\, unabhängig vom Besuch einer Kita\nzu Themen wie z.B.  \n\nFreizeit und Kontakt\nBehörden und Anträgen\nAlltagssorgen und Austausch\n\nDienstags von 09:00 bis 11:00 Uhr im NFZ Bochum\, Hohe Eiche 20 \nAnsprechpartnerin \nAnke Bhatti \nStadt Bochum Jugendamt\n-Kita Sozialarbeit-\nTel: 0234 9109331\nmobil: 0152 54981520\ne-mail: ABhatti@bochum.de
URL:https://naturfreunde-langendreer.de/event/ansprech-bar/2026-01-27/
LOCATION:NaturFreundeZentrum\, Hohe Eiche 20\, Bochum\, 44892\, Germany
CATEGORIES:NaturFreundeZentrum
END:VEVENT
BEGIN:VEVENT
DTSTART;TZID=Europe/Berlin:20260127T193000
DTEND;TZID=Europe/Berlin:20260127T210000
DTSTAMP:20260425T143557
CREATED:20251212T191322Z
LAST-MODIFIED:20260111T194127Z
UID:10001711-1769542200-1769547600@naturfreunde-langendreer.de
SUMMARY:Musikalischer Abend
DESCRIPTION:Einmal monatlich wird es bei uns musikalisch. Wer Lust hat\, mit anderen Musik zu machen\, kann mit seinem Instrument und Noten (falls vorhanden) einfach vorbeikommen und mitmachen. Wir sind lauter Laien\, die Lust darauf haben\, gemeinsam zu musizieren und probieren einfach etwas aus. Es ist bisher noch ziemlich chaotisch\, macht aber trotzdem Spaß. Die Teilnahme ist kostenlos. Getränke gibt es gegen Spende.
URL:https://naturfreunde-langendreer.de/event/musikalischer-abend-10-3/
CATEGORIES:Musik machen,NaturFreundeZentrum
ATTACH;FMTTYPE=image/jpeg:https://naturfreunde-langendreer.de/wp-content/uploads/2025/08/250923-Musikalischer-Abend.jpg
END:VEVENT
BEGIN:VEVENT
DTSTART;TZID=Europe/Berlin:20260129T163000
DTEND;TZID=Europe/Berlin:20260129T190000
DTSTAMP:20260425T143557
CREATED:20260122T170827Z
LAST-MODIFIED:20260122T172459Z
UID:10001846-1769704200-1769713200@naturfreunde-langendreer.de
SUMMARY:Klettern im Indoor-Klettergarten - Besuch in der Kletterkirche PaulA
DESCRIPTION:Wir wollen gemeinsam die Kletterkirche (https://www.paula-bochum.de/) ausprobieren. Alle Kinder mit Eltern und Jugendliche können mitkommen. Kosten übernehmen die NaturFreunde. Anmeldung ist notwendig.
URL:https://naturfreunde-langendreer.de/event/klettern-im-indoor-klettergarten-besuch-in-der-kletterkirch-paula/
ATTACH;FMTTYPE=image/jpeg:https://naturfreunde-langendreer.de/wp-content/uploads/2026/01/IMG_8070_bearb__msi___jpg-scaled.jpg
END:VEVENT
BEGIN:VEVENT
DTSTART;TZID=Europe/Berlin:20260129T193000
DTEND;TZID=Europe/Berlin:20260129T213000
DTSTAMP:20260425T143557
CREATED:20251130T115325Z
LAST-MODIFIED:20251130T115325Z
UID:10001379-1769715000-1769722200@naturfreunde-langendreer.de
SUMMARY:Kreativabend
DESCRIPTION:Einmali im Januar am 5. Donnerstag im Monat
URL:https://naturfreunde-langendreer.de/event/kreativabend-10/
CATEGORIES:Kreativgruppe
ATTACH;FMTTYPE=image/jpeg:https://naturfreunde-langendreer.de/wp-content/uploads/2025/08/250925-Kreativabend.jpg
END:VEVENT
BEGIN:VEVENT
DTSTART;TZID=Europe/Berlin:20260130T180000
DTEND;TZID=Europe/Berlin:20260130T220000
DTSTAMP:20260425T143557
CREATED:20260123T190953Z
LAST-MODIFIED:20260126T180017Z
UID:10001449-1769796000-1769810400@naturfreunde-langendreer.de
SUMMARY:Live Musik: The Nature Friends of High Oak 20
DESCRIPTION:Livemusik mit unserer hauseigenen Band – Premiere!\n18:00 Uhr Einlass – Konzertbeginn 19:30 Uhr\nJeden Freitag ab 18:00 öffnet das NaturFreundeZentrum sind Tür. Man kann Menschen treffen\, miteinander spielen\, Musik hören und\, und\, und. Manchmal gibt es Konzerte\, Lesungen\, Tastings oder anderes.
URL:https://naturfreunde-langendreer.de/event/offener-treff-im-naturfreundezentrum-2-5/
CATEGORIES:Hutkonzert,NaturFreundeZentrum,Offener Treff
ATTACH;FMTTYPE=image/jpeg:https://naturfreunde-langendreer.de/wp-content/uploads/2026/01/260130-Konzert-.jpeg
END:VEVENT
END:VCALENDAR