BEGIN:VCALENDAR
VERSION:2.0
PRODID:-//NaturFreunde Bochum Langendreer - ECPv6.15.20//NONSGML v1.0//EN
CALSCALE:GREGORIAN
METHOD:PUBLISH
X-ORIGINAL-URL:https://naturfreunde-langendreer.de
X-WR-CALDESC:Veranstaltungen für NaturFreunde Bochum Langendreer
REFRESH-INTERVAL;VALUE=DURATION:PT1H
X-Robots-Tag:noindex
X-PUBLISHED-TTL:PT1H
BEGIN:VTIMEZONE
TZID:Europe/Berlin
BEGIN:DAYLIGHT
TZOFFSETFROM:+0100
TZOFFSETTO:+0200
TZNAME:CEST
DTSTART:20250330T010000
END:DAYLIGHT
BEGIN:STANDARD
TZOFFSETFROM:+0200
TZOFFSETTO:+0100
TZNAME:CET
DTSTART:20251026T010000
END:STANDARD
BEGIN:DAYLIGHT
TZOFFSETFROM:+0100
TZOFFSETTO:+0200
TZNAME:CEST
DTSTART:20260329T010000
END:DAYLIGHT
BEGIN:STANDARD
TZOFFSETFROM:+0200
TZOFFSETTO:+0100
TZNAME:CET
DTSTART:20261025T010000
END:STANDARD
BEGIN:DAYLIGHT
TZOFFSETFROM:+0100
TZOFFSETTO:+0200
TZNAME:CEST
DTSTART:20270328T010000
END:DAYLIGHT
BEGIN:STANDARD
TZOFFSETFROM:+0200
TZOFFSETTO:+0100
TZNAME:CET
DTSTART:20271031T010000
END:STANDARD
END:VTIMEZONE
BEGIN:VEVENT
DTSTART;TZID=Europe/Berlin:20260106T090000
DTEND;TZID=Europe/Berlin:20260106T110000
DTSTAMP:20260424T102008
CREATED:20251209T084857Z
LAST-MODIFIED:20251209T084858Z
UID:10000729-1767690000-1767697200@naturfreunde-langendreer.de
SUMMARY:Ansprech-Bar
DESCRIPTION:Offene Beratung der Kita-Sozialarbeit bei Kaffee und Tee\nfür Mütter und Väter von Kindern im Alter von 0-6 Jahren\, unabhängig vom Besuch einer Kita\nzu Themen wie z.B.  \n\nFreizeit und Kontakt\nBehörden und Anträgen\nAlltagssorgen und Austausch\n\nDienstags von 09:00 bis 11:00 Uhr im NFZ Bochum\, Hohe Eiche 20 \nAnsprechpartnerin \nAnke Bhatti \nStadt Bochum Jugendamt\n-Kita Sozialarbeit-\nTel: 0234 9109331\nmobil: 0152 54981520\ne-mail: ABhatti@bochum
URL:https://naturfreunde-langendreer.de/event/ansprech-bar-8/
LOCATION:NaturFreundeZentrum\, Hohe Eiche 20\, Bochum\, 44892\, Germany
CATEGORIES:NaturFreundeZentrum
END:VEVENT
BEGIN:VEVENT
DTSTART;TZID=Europe/Berlin:20260108T193000
DTEND;TZID=Europe/Berlin:20260108T213000
DTSTAMP:20260424T102008
CREATED:20251125T164022Z
LAST-MODIFIED:20251125T164022Z
UID:10001316-1767900600-1767907800@naturfreunde-langendreer.de
SUMMARY:Vorstand der NaturFreunde Langendreer
DESCRIPTION:Wir planen unsere Vereinsaktivitäten. Wir kümmern uns um unsere Kinder- und Jugendaktivitäten. Außerdem diskutieren und entscheiden wir über das NaturFreundeZentrum und unser NaturFreundeHaus Stimmstamm.
URL:https://naturfreunde-langendreer.de/event/vorstand-der-naturfreunde-langendreer/
CATEGORIES:Vorstand
ATTACH;FMTTYPE=image/jpeg:https://naturfreunde-langendreer.de/wp-content/uploads/2025/01/Logo_NF_Langendreer.jpg
END:VEVENT
BEGIN:VEVENT
DTSTART;TZID=Europe/Berlin:20260113T090000
DTEND;TZID=Europe/Berlin:20260113T110000
DTSTAMP:20260424T102008
CREATED:20251022T131848Z
LAST-MODIFIED:20260125T143114Z
UID:10000730-1768294800-1768302000@naturfreunde-langendreer.de
SUMMARY:Ansprech-Bar
DESCRIPTION:Offene Beratung der Kita-Sozialarbeit bei Kaffee und Tee\nfür Mütter und Väter von Kindern im Alter von 0-6 Jahren\, unabhängig vom Besuch einer Kita\nzu Themen wie z.B.  \n\nFreizeit und Kontakt\nBehörden und Anträgen\nAlltagssorgen und Austausch\n\nDienstags von 09:00 bis 11:00 Uhr im NFZ Bochum\, Hohe Eiche 20 \nAnsprechpartnerin \nAnke Bhatti \nStadt Bochum Jugendamt\n-Kita Sozialarbeit-\nTel: 0234 9109331\nmobil: 0152 54981520\ne-mail: ABhatti@bochum.de
URL:https://naturfreunde-langendreer.de/event/ansprech-bar/2026-01-13/
LOCATION:NaturFreundeZentrum\, Hohe Eiche 20\, Bochum\, 44892\, Germany
CATEGORIES:NaturFreundeZentrum
END:VEVENT
BEGIN:VEVENT
DTSTART;TZID=Europe/Berlin:20260120T090000
DTEND;TZID=Europe/Berlin:20260120T110000
DTSTAMP:20260424T102008
CREATED:20251022T131848Z
LAST-MODIFIED:20260125T143114Z
UID:10000731-1768899600-1768906800@naturfreunde-langendreer.de
SUMMARY:Ansprech-Bar
DESCRIPTION:Offene Beratung der Kita-Sozialarbeit bei Kaffee und Tee\nfür Mütter und Väter von Kindern im Alter von 0-6 Jahren\, unabhängig vom Besuch einer Kita\nzu Themen wie z.B.  \n\nFreizeit und Kontakt\nBehörden und Anträgen\nAlltagssorgen und Austausch\n\nDienstags von 09:00 bis 11:00 Uhr im NFZ Bochum\, Hohe Eiche 20 \nAnsprechpartnerin \nAnke Bhatti \nStadt Bochum Jugendamt\n-Kita Sozialarbeit-\nTel: 0234 9109331\nmobil: 0152 54981520\ne-mail: ABhatti@bochum.de
URL:https://naturfreunde-langendreer.de/event/ansprech-bar/2026-01-20/
LOCATION:NaturFreundeZentrum\, Hohe Eiche 20\, Bochum\, 44892\, Germany
CATEGORIES:NaturFreundeZentrum
END:VEVENT
BEGIN:VEVENT
DTSTART;TZID=Europe/Berlin:20260127T090000
DTEND;TZID=Europe/Berlin:20260127T110000
DTSTAMP:20260424T102008
CREATED:20251022T131848Z
LAST-MODIFIED:20260125T143114Z
UID:10000732-1769504400-1769511600@naturfreunde-langendreer.de
SUMMARY:Ansprech-Bar
DESCRIPTION:Offene Beratung der Kita-Sozialarbeit bei Kaffee und Tee\nfür Mütter und Väter von Kindern im Alter von 0-6 Jahren\, unabhängig vom Besuch einer Kita\nzu Themen wie z.B.  \n\nFreizeit und Kontakt\nBehörden und Anträgen\nAlltagssorgen und Austausch\n\nDienstags von 09:00 bis 11:00 Uhr im NFZ Bochum\, Hohe Eiche 20 \nAnsprechpartnerin \nAnke Bhatti \nStadt Bochum Jugendamt\n-Kita Sozialarbeit-\nTel: 0234 9109331\nmobil: 0152 54981520\ne-mail: ABhatti@bochum.de
URL:https://naturfreunde-langendreer.de/event/ansprech-bar/2026-01-27/
LOCATION:NaturFreundeZentrum\, Hohe Eiche 20\, Bochum\, 44892\, Germany
CATEGORIES:NaturFreundeZentrum
END:VEVENT
BEGIN:VEVENT
DTSTART;TZID=Europe/Berlin:20260129T163000
DTEND;TZID=Europe/Berlin:20260129T190000
DTSTAMP:20260424T102008
CREATED:20260122T170827Z
LAST-MODIFIED:20260122T172459Z
UID:10001846-1769704200-1769713200@naturfreunde-langendreer.de
SUMMARY:Klettern im Indoor-Klettergarten - Besuch in der Kletterkirche PaulA
DESCRIPTION:Wir wollen gemeinsam die Kletterkirche (https://www.paula-bochum.de/) ausprobieren. Alle Kinder mit Eltern und Jugendliche können mitkommen. Kosten übernehmen die NaturFreunde. Anmeldung ist notwendig.
URL:https://naturfreunde-langendreer.de/event/klettern-im-indoor-klettergarten-besuch-in-der-kletterkirch-paula/
ATTACH;FMTTYPE=image/jpeg:https://naturfreunde-langendreer.de/wp-content/uploads/2026/01/IMG_8070_bearb__msi___jpg-scaled.jpg
END:VEVENT
END:VCALENDAR