BEGIN:VCALENDAR
VERSION:2.0
PRODID:-//NaturFreunde Bochum Langendreer - ECPv6.15.20//NONSGML v1.0//EN
CALSCALE:GREGORIAN
METHOD:PUBLISH
X-ORIGINAL-URL:https://naturfreunde-langendreer.de
X-WR-CALDESC:Veranstaltungen für NaturFreunde Bochum Langendreer
REFRESH-INTERVAL;VALUE=DURATION:PT1H
X-Robots-Tag:noindex
X-PUBLISHED-TTL:PT1H
BEGIN:VTIMEZONE
TZID:Europe/Berlin
BEGIN:DAYLIGHT
TZOFFSETFROM:+0100
TZOFFSETTO:+0200
TZNAME:CEST
DTSTART:20250330T010000
END:DAYLIGHT
BEGIN:STANDARD
TZOFFSETFROM:+0200
TZOFFSETTO:+0100
TZNAME:CET
DTSTART:20251026T010000
END:STANDARD
BEGIN:DAYLIGHT
TZOFFSETFROM:+0100
TZOFFSETTO:+0200
TZNAME:CEST
DTSTART:20260329T010000
END:DAYLIGHT
BEGIN:STANDARD
TZOFFSETFROM:+0200
TZOFFSETTO:+0100
TZNAME:CET
DTSTART:20261025T010000
END:STANDARD
BEGIN:DAYLIGHT
TZOFFSETFROM:+0100
TZOFFSETTO:+0200
TZNAME:CEST
DTSTART:20270328T010000
END:DAYLIGHT
BEGIN:STANDARD
TZOFFSETFROM:+0200
TZOFFSETTO:+0100
TZNAME:CET
DTSTART:20271031T010000
END:STANDARD
END:VTIMEZONE
BEGIN:VEVENT
DTSTART;TZID=Europe/Berlin:20260203T090000
DTEND;TZID=Europe/Berlin:20260203T110000
DTSTAMP:20260422T012200
CREATED:20251022T131848Z
LAST-MODIFIED:20260125T143114Z
UID:10000733-1770109200-1770116400@naturfreunde-langendreer.de
SUMMARY:Ansprech-Bar
DESCRIPTION:Offene Beratung der Kita-Sozialarbeit bei Kaffee und Tee\nfür Mütter und Väter von Kindern im Alter von 0-6 Jahren\, unabhängig vom Besuch einer Kita\nzu Themen wie z.B.  \n\nFreizeit und Kontakt\nBehörden und Anträgen\nAlltagssorgen und Austausch\n\nDienstags von 09:00 bis 11:00 Uhr im NFZ Bochum\, Hohe Eiche 20 \nAnsprechpartnerin \nAnke Bhatti \nStadt Bochum Jugendamt\n-Kita Sozialarbeit-\nTel: 0234 9109331\nmobil: 0152 54981520\ne-mail: ABhatti@bochum.de
URL:https://naturfreunde-langendreer.de/event/ansprech-bar/2026-02-03/
LOCATION:NaturFreundeZentrum\, Hohe Eiche 20\, Bochum\, 44892\, Germany
CATEGORIES:NaturFreundeZentrum
END:VEVENT
BEGIN:VEVENT
DTSTART;TZID=Europe/Berlin:20260210T090000
DTEND;TZID=Europe/Berlin:20260210T110000
DTSTAMP:20260422T012200
CREATED:20251022T131848Z
LAST-MODIFIED:20260125T143114Z
UID:10000734-1770714000-1770721200@naturfreunde-langendreer.de
SUMMARY:Ansprech-Bar
DESCRIPTION:Offene Beratung der Kita-Sozialarbeit bei Kaffee und Tee\nfür Mütter und Väter von Kindern im Alter von 0-6 Jahren\, unabhängig vom Besuch einer Kita\nzu Themen wie z.B.  \n\nFreizeit und Kontakt\nBehörden und Anträgen\nAlltagssorgen und Austausch\n\nDienstags von 09:00 bis 11:00 Uhr im NFZ Bochum\, Hohe Eiche 20 \nAnsprechpartnerin \nAnke Bhatti \nStadt Bochum Jugendamt\n-Kita Sozialarbeit-\nTel: 0234 9109331\nmobil: 0152 54981520\ne-mail: ABhatti@bochum.de
URL:https://naturfreunde-langendreer.de/event/ansprech-bar/2026-02-10/
LOCATION:NaturFreundeZentrum\, Hohe Eiche 20\, Bochum\, 44892\, Germany
CATEGORIES:NaturFreundeZentrum
END:VEVENT
BEGIN:VEVENT
DTSTART;TZID=Europe/Berlin:20260217T090000
DTEND;TZID=Europe/Berlin:20260217T110000
DTSTAMP:20260422T012200
CREATED:20251022T131848Z
LAST-MODIFIED:20260125T143114Z
UID:10000735-1771318800-1771326000@naturfreunde-langendreer.de
SUMMARY:Ansprech-Bar
DESCRIPTION:Offene Beratung der Kita-Sozialarbeit bei Kaffee und Tee\nfür Mütter und Väter von Kindern im Alter von 0-6 Jahren\, unabhängig vom Besuch einer Kita\nzu Themen wie z.B.  \n\nFreizeit und Kontakt\nBehörden und Anträgen\nAlltagssorgen und Austausch\n\nDienstags von 09:00 bis 11:00 Uhr im NFZ Bochum\, Hohe Eiche 20 \nAnsprechpartnerin \nAnke Bhatti \nStadt Bochum Jugendamt\n-Kita Sozialarbeit-\nTel: 0234 9109331\nmobil: 0152 54981520\ne-mail: ABhatti@bochum.de
URL:https://naturfreunde-langendreer.de/event/ansprech-bar/2026-02-17/
LOCATION:NaturFreundeZentrum\, Hohe Eiche 20\, Bochum\, 44892\, Germany
CATEGORIES:NaturFreundeZentrum
END:VEVENT
BEGIN:VEVENT
DTSTART;TZID=Europe/Berlin:20260220T180000
DTEND;TZID=Europe/Berlin:20260222T130000
DTSTAMP:20260422T012200
CREATED:20251203T045425Z
LAST-MODIFIED:20260114T120837Z
UID:10001380-1771610400-1771765200@naturfreunde-langendreer.de
SUMMARY:Winterfreizeit am NaturFreundeHaus Stimmstamm
DESCRIPTION:Wandern\, Ski fahren oder Rodeln – je nach Lust und Schneelage Mit Lift macht rodeln noch mehr Spaß. Eine Wanderung durch den verschneiten Arnsberger Wald ist etwas für Auge und Seele. Abends sitzen wir gesellig zusammen und spielen worauf wir Lust haben. Anmeldung: 2026 Anmeldung Winterwochenende\nFür Nichtmitglieder kostet die Teilnahme 60 €. Kinder und Jugendliche\, sowie Mitglieder der NaturFreunde erhalten einen Kostennachlass. (Siehe Anmeldung)
URL:https://naturfreunde-langendreer.de/event/winterfreizeit-am-naturfreundehaus-stimmstamm/
LOCATION:Naturfreundehaus Stimmstamm\, Naturfreundehaus Stimmstamm\, Meschede
ATTACH;FMTTYPE=image/jpeg:https://naturfreunde-langendreer.de/wp-content/uploads/2025/12/260220-Winterfreizeit-2.jpg
END:VEVENT
BEGIN:VEVENT
DTSTART;TZID=Europe/Berlin:20260224T090000
DTEND;TZID=Europe/Berlin:20260224T110000
DTSTAMP:20260422T012200
CREATED:20251022T131848Z
LAST-MODIFIED:20260125T143114Z
UID:10000736-1771923600-1771930800@naturfreunde-langendreer.de
SUMMARY:Ansprech-Bar
DESCRIPTION:Offene Beratung der Kita-Sozialarbeit bei Kaffee und Tee\nfür Mütter und Väter von Kindern im Alter von 0-6 Jahren\, unabhängig vom Besuch einer Kita\nzu Themen wie z.B.  \n\nFreizeit und Kontakt\nBehörden und Anträgen\nAlltagssorgen und Austausch\n\nDienstags von 09:00 bis 11:00 Uhr im NFZ Bochum\, Hohe Eiche 20 \nAnsprechpartnerin \nAnke Bhatti \nStadt Bochum Jugendamt\n-Kita Sozialarbeit-\nTel: 0234 9109331\nmobil: 0152 54981520\ne-mail: ABhatti@bochum.de
URL:https://naturfreunde-langendreer.de/event/ansprech-bar/2026-02-24/
LOCATION:NaturFreundeZentrum\, Hohe Eiche 20\, Bochum\, 44892\, Germany
CATEGORIES:NaturFreundeZentrum
END:VEVENT
END:VCALENDAR