BEGIN:VCALENDAR
VERSION:2.0
PRODID:-//NaturFreunde Bochum Langendreer - ECPv6.15.20//NONSGML v1.0//EN
CALSCALE:GREGORIAN
METHOD:PUBLISH
X-ORIGINAL-URL:https://naturfreunde-langendreer.de
X-WR-CALDESC:Veranstaltungen für NaturFreunde Bochum Langendreer
REFRESH-INTERVAL;VALUE=DURATION:PT1H
X-Robots-Tag:noindex
X-PUBLISHED-TTL:PT1H
BEGIN:VTIMEZONE
TZID:Europe/Berlin
BEGIN:DAYLIGHT
TZOFFSETFROM:+0100
TZOFFSETTO:+0200
TZNAME:CEST
DTSTART:20250330T010000
END:DAYLIGHT
BEGIN:STANDARD
TZOFFSETFROM:+0200
TZOFFSETTO:+0100
TZNAME:CET
DTSTART:20251026T010000
END:STANDARD
BEGIN:DAYLIGHT
TZOFFSETFROM:+0100
TZOFFSETTO:+0200
TZNAME:CEST
DTSTART:20260329T010000
END:DAYLIGHT
BEGIN:STANDARD
TZOFFSETFROM:+0200
TZOFFSETTO:+0100
TZNAME:CET
DTSTART:20261025T010000
END:STANDARD
BEGIN:DAYLIGHT
TZOFFSETFROM:+0100
TZOFFSETTO:+0200
TZNAME:CEST
DTSTART:20270328T010000
END:DAYLIGHT
BEGIN:STANDARD
TZOFFSETFROM:+0200
TZOFFSETTO:+0100
TZNAME:CET
DTSTART:20271031T010000
END:STANDARD
END:VTIMEZONE
BEGIN:VEVENT
DTSTART;TZID=Europe/Berlin:20260702T193000
DTEND;TZID=Europe/Berlin:20260702T220000
DTSTAMP:20260421T200840
CREATED:20251112T185803Z
LAST-MODIFIED:20251125T163717Z
UID:10000882-1783020600-1783029600@naturfreunde-langendreer.de
SUMMARY:Vorstandssitzung der NaturFreunde Bochum-Langendreer
DESCRIPTION:Wir planen unsere Vereinsaktivitäten. Wir kümmern uns um unsere Kinder- und Jugendaktivitäten. Außerdem diskutieren und entscheiden wir über das NaturFreundeZentrum und unser NaturFreundeHaus Stimmstamm.
URL:https://naturfreunde-langendreer.de/event/vorstandssitzung-der-naturfreunde-bochum-langendreer/2026-07-02/
CATEGORIES:Vorstand,Vorstandssitzung
ATTACH;FMTTYPE=image/jpeg:https://naturfreunde-langendreer.de/wp-content/uploads/2025/01/Logo_NF_Langendreer.jpg
END:VEVENT
BEGIN:VEVENT
DTSTART;TZID=Europe/Berlin:20260703T180000
DTEND;TZID=Europe/Berlin:20260703T220000
DTSTAMP:20260421T200840
CREATED:20251210T082309Z
LAST-MODIFIED:20260328T174030Z
UID:10001471-1783101600-1783116000@naturfreunde-langendreer.de
SUMMARY:Offener Treff im NaturFreundeZentrum
DESCRIPTION:Jeden Freitag ab 18:00 öffnet das NaturFreundeZentrum sind Tür. Man kann Menschen treffen\, miteinander spielen\, Musik hören und\, und\, und. Manchmal gibt es Konzerte\, Lesungen\, Tastings oder anderes.
URL:https://naturfreunde-langendreer.de/event/offener-treff-im-naturfreundezentrum-2/2026-07-03/
CATEGORIES:NaturFreundeZentrum,Offener Treff
ATTACH;FMTTYPE=image/jpeg:https://naturfreunde-langendreer.de/wp-content/uploads/2025/10/DA-Offener-Treff-1.jpg
END:VEVENT
BEGIN:VEVENT
DTSTART;TZID=Europe/Berlin:20260707T183000
DTEND;TZID=Europe/Berlin:20260707T200000
DTSTAMP:20260421T200840
CREATED:20251221T175345Z
LAST-MODIFIED:20260111T194429Z
UID:10001835-1783449000-1783454400@naturfreunde-langendreer.de
SUMMARY:Kleidertausch 2026
DESCRIPTION:Der Kleidertausch steht auch in 2026 wieder an! Von 18:30-20:00 Uhr kann dort jeden ersten Dienstag im Monat\, außer in den Schuferien\, weiter Kleidung getauscht werden. Und das ganz ohne schlechtes Konsum-Gewissen! Denn ihr wisst ja\, Nachhaltigkeit in der Mode ist keine Entscheidung\, sondern eine Notwendigkeit! Bringt und nehmt mit was ihr wollt. Ihr könnt uns helfen\, indem ihr mitgebrachte Sachen gut vorsortiert! Was übrig bleibt und noch gut ist\, geht an die Bochumer Tafel. Kommt unbedingt vorbei\, wir freuen uns auf euch!
URL:https://naturfreunde-langendreer.de/event/kleidertausch-2026/2026-07-07/
LOCATION:NaturFreundeZentrum\, Hohe Eiche 20\, Bochum\, 44892\, Germany
CATEGORIES:Kleidertausch,NaturFreundeZentrum
ATTACH;FMTTYPE=image/jpeg:https://naturfreunde-langendreer.de/wp-content/uploads/2025/12/Kleidertausch_2026.jpg
END:VEVENT
BEGIN:VEVENT
DTSTART;TZID=Europe/Berlin:20260709T190000
DTEND;TZID=Europe/Berlin:20260709T213000
DTSTAMP:20260421T200840
CREATED:20260403T150007Z
LAST-MODIFIED:20260403T150045Z
UID:10002150-1783623600-1783632600@naturfreunde-langendreer.de
SUMMARY:Spieleabend -Restart
DESCRIPTION:Spieleabend im NaturFreundeZentrum – Wer macht mit? Ein bisschen Zeit mit gemeinsamen Spielen verbringen. – Wir versuchen den Spieleabend wieder neu im NFZ zu etablieren. Wer macht mit?
URL:https://naturfreunde-langendreer.de/event/spieleabend-restart/2026-07-09/
LOCATION:NaturFreundeZentrum\, Hohe Eiche 20\, Bochum\, 44892\, Germany
ATTACH;FMTTYPE=image/jpeg:https://naturfreunde-langendreer.de/wp-content/uploads/2025/10/DA-Spieleabend-2.jpg
END:VEVENT
BEGIN:VEVENT
DTSTART;TZID=Europe/Berlin:20260710T180000
DTEND;TZID=Europe/Berlin:20260710T220000
DTSTAMP:20260421T200840
CREATED:20260418T151738Z
LAST-MODIFIED:20260418T151738Z
UID:10001472-1783706400-1783720800@naturfreunde-langendreer.de
SUMMARY:Hutkonzert im Offenen Treff: Lieder - Geschwister der Revolution
DESCRIPTION:Geschwister der Revolution\nmit Thomas Hagenhofer\, Sänger\nFranz-Josef Degenhardt sang einst von den Liedern als „Brüder der Revolution“. Dieses Motto bestimmt auch das musikalische Wirken von Thomas Hagenhofer. Eher auf Demos und Kundgebungen als im Saal begleitet er seit Jahrzehnten die Kämpfe unserer Zeit – für Frieden und eine Zukunft ohne Kapitalismus und Ausbeutung. Sein Liedprogramm ist ein Mix aus Friedens- und politischen Liedern vom Spanischen Bürgerkrieg bis zum Kampf gegen die Atomwaffen in Büchel. \n18:00 Uhr Einlass – 19:30 Uhr Beginn \nJeden Freitag ab 18:00 öffnet das NaturFreundeZentrum sind Tür. Man kann Menschen treffen\, miteinander spielen\, Musik hören und\, und\, und. Manchmal gibt es Konzerte\, Lesungen\, Tastings oder anderes.
URL:https://naturfreunde-langendreer.de/event/offener-treff-im-naturfreundezentrum-2-11/
CATEGORIES:Antifaschismus,Frieden,Hutkonzert,NaturFreundeZentrum,Offener Treff
ATTACH;FMTTYPE=image/jpeg:https://naturfreunde-langendreer.de/wp-content/uploads/2025/12/260710-Hagenhofer.jpg
END:VEVENT
BEGIN:VEVENT
DTSTART;TZID=Europe/Berlin:20260711T100000
DTEND;TZID=Europe/Berlin:20260711T180000
DTSTAMP:20260421T200840
CREATED:20260201T121233Z
LAST-MODIFIED:20260201T134934Z
UID:10002102-1783764000-1783792800@naturfreunde-langendreer.de
SUMMARY:Kanu-Tagestour
DESCRIPTION:Lust Naturerlebnis mit Bewegung auf dem Wasser zu verbinden? Jeder kann teilnehmen\, sofern er oder sie schwimmen kann. Wir fahren mit vereinseigenen Kanadier. Schwimmwesten\, Paddel und die übrige Grundausrüstung sind vorhanden. (Fahrrad-)Helme und Kleidung (schnelltrocknend oder wasserdicht) muss selber mitgebracht werden. Die Touren finden auf unterschiedlichen Fließgewässern statt. Eine Anmeldung ist unbedingt notwendig.\nBei Gewittern oder anderen Ereignissen werden kurzfristig die angemeldeten Teilnehmer informieren.\nDen genauen Treffpunkt und konkrete Uhrzeit teilen wir den angemeldeten Teilnehmern mit. Ende der Veranstaltung ist meist schwer vorhersagbar. \nallgemeine Infos und die Anmeldung finden Sie hier:\nhttps://naturfreunde-langendreer.de/aktivitaeten/kanutouren/
URL:https://naturfreunde-langendreer.de/event/kanu-tagestour/2026-07-11/
CATEGORIES:Kanutour
ATTACH;FMTTYPE=image/jpeg:https://naturfreunde-langendreer.de/wp-content/uploads/2026/02/2026-eintaegige-Kanutouren.jpeg
END:VEVENT
BEGIN:VEVENT
DTSTART;TZID=Europe/Berlin:20260714T190000
DTEND;TZID=Europe/Berlin:20260714T210000
DTSTAMP:20260421T200840
CREATED:20251112T181759Z
LAST-MODIFIED:20251112T181759Z
UID:10000762-1784055600-1784062800@naturfreunde-langendreer.de
SUMMARY:Friedeninitiative Bochum-Ost
DESCRIPTION:Wir sind entsetzt über die Leichtfertigkeit\, mit der Politiker eine riesige Aufrüstung betreiben. Sie reden Kriege herbei\, ohne ernsthaft über Verständigung und Verhandlungs­lösungen nachzudenken. Wir fürchten\, dass mit der Hochrüstung in Deutschland ein Krieg nicht verhindert\, sondern sogar wahrscheinlicher wird. Wir vergessen nicht\, was Krieg bedeutet: Tod\, Verletzung\, Zerstörung. Wir stellen uns entschieden gegen die zunehmende Militarisierung Deutschlands. Wir lehnen Aufrüstung\, Waffenexporte und Waffenlieferungen ab – in In- und Ausland. Stattdessen setzen wir uns für eine friedliche Außenpolitik ein\, die auf Abrüstung\, Diplomatie und internationaler Zusammenarbeit basiert. Wir verstehen uns als Teil der Friedensbewegung und streben die Zusammenarbeit mit allen an\, die sich gegen militärische Konfliktlösungen einsetzen. Die Militärausgaben sind eine riesige Verschwendung von Steuergeldern\, die den Rüstungsaktionären zugute kommen. Die Schulden\, die dafür aufgenommen werden\, muss die Allgemeinheit bezahlen. Schon heute sind die NATO-Staaten der russischen Armee zahlenmäßig und technologisch deutlich überlegen. Eine weitere Aufrüstung schafft nicht Sicherheit\, sondern die Voraussetzung für weitere Kriege.\nUnser Engagement ist untrennbar mit dem Antifaschismus verbunden. In der Tradition des Schwurs von Buchenwald bekennen wir uns zu den Worten:\n„Nie wieder Krieg! Nie wieder Faschismus!“\nWir treffen uns jeden zweiten Dienstag im Monat.
URL:https://naturfreunde-langendreer.de/event/friedeninitiative-bochum-ost/2026-07-14/
CATEGORIES:Frieden
ATTACH;FMTTYPE=image/jpeg:https://naturfreunde-langendreer.de/wp-content/uploads/2025/08/Logo-FI-Bochum-Ost.jpg
END:VEVENT
BEGIN:VEVENT
DTSTART;TZID=Europe/Berlin:20260717T180000
DTEND;TZID=Europe/Berlin:20260717T220000
DTSTAMP:20260421T200840
CREATED:20251210T082309Z
LAST-MODIFIED:20260328T174030Z
UID:10001473-1784311200-1784325600@naturfreunde-langendreer.de
SUMMARY:Offener Treff im NaturFreundeZentrum
DESCRIPTION:Jeden Freitag ab 18:00 öffnet das NaturFreundeZentrum sind Tür. Man kann Menschen treffen\, miteinander spielen\, Musik hören und\, und\, und. Manchmal gibt es Konzerte\, Lesungen\, Tastings oder anderes.
URL:https://naturfreunde-langendreer.de/event/offener-treff-im-naturfreundezentrum-2/2026-07-17/
CATEGORIES:NaturFreundeZentrum,Offener Treff
ATTACH;FMTTYPE=image/jpeg:https://naturfreunde-langendreer.de/wp-content/uploads/2025/10/DA-Offener-Treff-1.jpg
END:VEVENT
BEGIN:VEVENT
DTSTART;TZID=Europe/Berlin:20260718T000000
DTEND;TZID=Europe/Berlin:20260724T235959
DTSTAMP:20260421T200840
CREATED:20260309T152926Z
LAST-MODIFIED:20260309T152926Z
UID:10002126-1784332800-1784937599@naturfreunde-langendreer.de
SUMMARY:Sommerfreizeit im Hohen Venn (Belgien)
DESCRIPTION:Wir fahren in das Hochmoorgebiet „Hohes Venn“ und übernachten in preiswerten Mehrbettzimmern im charmanten Naturfreundehaus „Herberge d’Arimont“. Es gibt dort viel zu entdecken: Die tollen Wanderwege quer durch die Moorgegend\, plätschernde Bäche\, Burgen\, Talsperren\, belgische Spezialitäten\, ein Ausflug nach Lüttich. Auch für Sprachinteressierte ist es eine Reise wert. In der Region wird französisch gesprochen\, unsere Gastgeberinnen sprechen flämisch und englisch. Die Anreise kann jede und jeder selbst gestalten. Mit dem Auto sind es rund 200 km ab Langendreer. Empfehlenswert ist die Fahrt mit dem Zug bis Aachen und dann eine knusprige Radtour durch das Venn oder den beliebten Venn-Radweg.
URL:https://naturfreunde-langendreer.de/event/sommerfreizeit-im-hohen-venn-belgien/
LOCATION:Hoher Venn\, eupen\, 4700\, Belgium
CATEGORIES:Freizeiten,Sommerfreizeit
ATTACH;FMTTYPE=image/jpeg:https://naturfreunde-langendreer.de/wp-content/uploads/2026/03/PHOTO-2026-03-01-09-07-13.jpeg
END:VEVENT
BEGIN:VEVENT
DTSTART;TZID=Europe/Berlin:20260718T080000
DTEND;TZID=Europe/Berlin:20260718T170000
DTSTAMP:20260421T200840
CREATED:20260125T142330Z
LAST-MODIFIED:20260125T142330Z
UID:10001853-1784361600-1784394000@naturfreunde-langendreer.de
SUMMARY:Waldspaziergänge
DESCRIPTION:Wir gehen samstagsnachmittags für 2 Stunden in und um Langendreer in den Wald und schauen\, welche Pilze und andere Naturwunder uns dort erwarten. \nKostenfreies Angebot\, Menschen unter 12 Jahren in Begleitung Erwachsener\, bitte keine Hunde \nAnmeldung unter carola.mallek@naturfreunde-langendreer.de \nTreffpunkt und Uhrzeit wird nach Anmeldung versandt
URL:https://naturfreunde-langendreer.de/event/waldspaziergaenge/2026-07-18/
CATEGORIES:Aktivitäten,Garten und Pflanzen,Wandern
ATTACH;FMTTYPE=image/jpeg:https://naturfreunde-langendreer.de/wp-content/uploads/2026/01/Bild.jpeg
END:VEVENT
BEGIN:VEVENT
DTSTART;TZID=Europe/Berlin:20260721T190000
DTEND;TZID=Europe/Berlin:20260721T213000
DTSTAMP:20260421T200840
CREATED:20250828T070847Z
LAST-MODIFIED:20260103T091039Z
UID:10001323-1784660400-1784669400@naturfreunde-langendreer.de
SUMMARY:Fantasy Pen&Paper
DESCRIPTION:Hast du schon einmal davon geträumt\, in die Rolle eines geschickten Diebes\, mächtigen Magiers\, tapferen Heilers oder mutigen Kriegers zu schlüpfen? Möchtest du als Elf durch die Wälder streifen\, als Zwerg dunkle Höhlen erkunden oder als Halbling listige Pläne schmieden? \nDann schließe dich unserer Runde an! \nPen & Paper Rollenspielabend\nJeden 3. Dienstag im Monat\nAb 19:00 Uhr\nim NFZ \nWir spielen ein spannendes Abenteuer basierend auf den Regeln von D&D\, AD&D und Pathfinder.
URL:https://naturfreunde-langendreer.de/event/fantasy-penpaper-8/2026-07-21/
LOCATION:NaturFreundeZentrum\, Hohe Eiche 20\, Bochum\, 44892\, Germany
CATEGORIES:NaturFreundeZentrum,Spieleabend
ATTACH;FMTTYPE=image/jpeg:https://naturfreunde-langendreer.de/wp-content/uploads/2025/05/Dices.jpg
END:VEVENT
BEGIN:VEVENT
DTSTART;TZID=Europe/Berlin:20260723T193000
DTEND;TZID=Europe/Berlin:20260723T213000
DTSTAMP:20260421T200840
CREATED:20251029T185909Z
LAST-MODIFIED:20251113T192906Z
UID:10001201-1784835000-1784842200@naturfreunde-langendreer.de
SUMMARY:Kreativabend
DESCRIPTION:Wir treffen uns jeden 4. Donnerstag mit wechselnden Angeboten.
URL:https://naturfreunde-langendreer.de/event/kreativabend-9/2026-07-23/
CATEGORIES:Kreativgruppe,NaturFreundeZentrum
ATTACH;FMTTYPE=image/jpeg:https://naturfreunde-langendreer.de/wp-content/uploads/2025/03/Kreativabend.jpg
END:VEVENT
BEGIN:VEVENT
DTSTART;TZID=Europe/Berlin:20260724T180000
DTEND;TZID=Europe/Berlin:20260724T220000
DTSTAMP:20260421T200840
CREATED:20251210T082309Z
LAST-MODIFIED:20260328T174030Z
UID:10001474-1784916000-1784930400@naturfreunde-langendreer.de
SUMMARY:Offener Treff im NaturFreundeZentrum
DESCRIPTION:Jeden Freitag ab 18:00 öffnet das NaturFreundeZentrum sind Tür. Man kann Menschen treffen\, miteinander spielen\, Musik hören und\, und\, und. Manchmal gibt es Konzerte\, Lesungen\, Tastings oder anderes.
URL:https://naturfreunde-langendreer.de/event/offener-treff-im-naturfreundezentrum-2/2026-07-24/
CATEGORIES:NaturFreundeZentrum,Offener Treff
ATTACH;FMTTYPE=image/jpeg:https://naturfreunde-langendreer.de/wp-content/uploads/2025/10/DA-Offener-Treff-1.jpg
END:VEVENT
BEGIN:VEVENT
DTSTART;TZID=Europe/Berlin:20260726T100000
DTEND;TZID=Europe/Berlin:20260726T170000
DTSTAMP:20260421T200840
CREATED:20251210T080629Z
LAST-MODIFIED:20260102T134737Z
UID:10001392-1785060000-1785085200@naturfreunde-langendreer.de
SUMMARY:Wandern mit den NaturFreunden
DESCRIPTION:Gemeinsam brechen wir von Langendreer entweder mit Bus und Bahn oder zu Fuss auf und Wandern. Genaue Daten\, Ziele und Wege werden immer vorher bekannt gegeben. Pausen und Weglänge werden gemeinsam besprochen. Treffpunkt ist entweder das NFZ oder eine Haltestelle von Bus\, Straßen- oder S-Bahn.\nWir verstehen wandern als soziales Miteinander um gemeinsam Zeit zu verbringen und sich über vieles auszutauschen. Es gibt immer Informationen über die WhatsApp-Wandergruppe oder über den E-Mail-Verteiler der Wandergruppe. Wer also regelmäßig informiert werden möchte\, muss sich bitte mailden.
URL:https://naturfreunde-langendreer.de/event/wandern-mit-den-naturfreunden/2026-07-26/
CATEGORIES:Aktivitäten,Wandern
ATTACH;FMTTYPE=image/jpeg:https://naturfreunde-langendreer.de/wp-content/uploads/2025/12/2026-Wandern.jpeg
END:VEVENT
BEGIN:VEVENT
DTSTART;TZID=Europe/Berlin:20260731T180000
DTEND;TZID=Europe/Berlin:20260731T220000
DTSTAMP:20260421T200840
CREATED:20251210T082309Z
LAST-MODIFIED:20260328T174030Z
UID:10001475-1785520800-1785535200@naturfreunde-langendreer.de
SUMMARY:Offener Treff im NaturFreundeZentrum
DESCRIPTION:Jeden Freitag ab 18:00 öffnet das NaturFreundeZentrum sind Tür. Man kann Menschen treffen\, miteinander spielen\, Musik hören und\, und\, und. Manchmal gibt es Konzerte\, Lesungen\, Tastings oder anderes.
URL:https://naturfreunde-langendreer.de/event/offener-treff-im-naturfreundezentrum-2/2026-07-31/
CATEGORIES:NaturFreundeZentrum,Offener Treff
ATTACH;FMTTYPE=image/jpeg:https://naturfreunde-langendreer.de/wp-content/uploads/2025/10/DA-Offener-Treff-1.jpg
END:VEVENT
END:VCALENDAR