BEGIN:VCALENDAR
VERSION:2.0
PRODID:-//NaturFreunde Bochum Langendreer - ECPv6.15.20//NONSGML v1.0//EN
CALSCALE:GREGORIAN
METHOD:PUBLISH
X-ORIGINAL-URL:https://naturfreunde-langendreer.de
X-WR-CALDESC:Veranstaltungen für NaturFreunde Bochum Langendreer
REFRESH-INTERVAL;VALUE=DURATION:PT1H
X-Robots-Tag:noindex
X-PUBLISHED-TTL:PT1H
BEGIN:VTIMEZONE
TZID:Europe/Berlin
BEGIN:DAYLIGHT
TZOFFSETFROM:+0100
TZOFFSETTO:+0200
TZNAME:CEST
DTSTART:20260329T010000
END:DAYLIGHT
BEGIN:STANDARD
TZOFFSETFROM:+0200
TZOFFSETTO:+0100
TZNAME:CET
DTSTART:20261025T010000
END:STANDARD
BEGIN:DAYLIGHT
TZOFFSETFROM:+0100
TZOFFSETTO:+0200
TZNAME:CEST
DTSTART:20270328T010000
END:DAYLIGHT
BEGIN:STANDARD
TZOFFSETFROM:+0200
TZOFFSETTO:+0100
TZNAME:CET
DTSTART:20271031T010000
END:STANDARD
BEGIN:DAYLIGHT
TZOFFSETFROM:+0100
TZOFFSETTO:+0200
TZNAME:CEST
DTSTART:20280326T010000
END:DAYLIGHT
BEGIN:STANDARD
TZOFFSETFROM:+0200
TZOFFSETTO:+0100
TZNAME:CET
DTSTART:20281029T010000
END:STANDARD
BEGIN:DAYLIGHT
TZOFFSETFROM:+0100
TZOFFSETTO:+0200
TZNAME:CEST
DTSTART:20290325T010000
END:DAYLIGHT
BEGIN:STANDARD
TZOFFSETFROM:+0200
TZOFFSETTO:+0100
TZNAME:CET
DTSTART:20291028T010000
END:STANDARD
BEGIN:DAYLIGHT
TZOFFSETFROM:+0100
TZOFFSETTO:+0200
TZNAME:CEST
DTSTART:20300331T010000
END:DAYLIGHT
BEGIN:STANDARD
TZOFFSETFROM:+0200
TZOFFSETTO:+0100
TZNAME:CET
DTSTART:20301027T010000
END:STANDARD
END:VTIMEZONE
BEGIN:VEVENT
DTSTART;TZID=Europe/Berlin:20270527T193000
DTEND;TZID=Europe/Berlin:20270527T213000
DTSTAMP:20260425T125129
CREATED:20251029T185909Z
LAST-MODIFIED:20251113T192906Z
UID:10001211-1811446200-1811453400@naturfreunde-langendreer.de
SUMMARY:Kreativabend
DESCRIPTION:Wir treffen uns jeden 4. Donnerstag mit wechselnden Angeboten.
URL:https://naturfreunde-langendreer.de/event/kreativabend-9/2027-05-27/
CATEGORIES:Kreativgruppe,NaturFreundeZentrum
ATTACH;FMTTYPE=image/jpeg:https://naturfreunde-langendreer.de/wp-content/uploads/2025/03/Kreativabend.jpg
END:VEVENT
BEGIN:VEVENT
DTSTART;TZID=Europe/Berlin:20270624T193000
DTEND;TZID=Europe/Berlin:20270624T213000
DTSTAMP:20260425T125129
CREATED:20251029T185909Z
LAST-MODIFIED:20251113T192906Z
UID:10001212-1813865400-1813872600@naturfreunde-langendreer.de
SUMMARY:Kreativabend
DESCRIPTION:Wir treffen uns jeden 4. Donnerstag mit wechselnden Angeboten.
URL:https://naturfreunde-langendreer.de/event/kreativabend-9/2027-06-24/
CATEGORIES:Kreativgruppe,NaturFreundeZentrum
ATTACH;FMTTYPE=image/jpeg:https://naturfreunde-langendreer.de/wp-content/uploads/2025/03/Kreativabend.jpg
END:VEVENT
BEGIN:VEVENT
DTSTART;TZID=Europe/Berlin:20270722T193000
DTEND;TZID=Europe/Berlin:20270722T213000
DTSTAMP:20260425T125129
CREATED:20251029T185909Z
LAST-MODIFIED:20251113T192906Z
UID:10001213-1816284600-1816291800@naturfreunde-langendreer.de
SUMMARY:Kreativabend
DESCRIPTION:Wir treffen uns jeden 4. Donnerstag mit wechselnden Angeboten.
URL:https://naturfreunde-langendreer.de/event/kreativabend-9/2027-07-22/
CATEGORIES:Kreativgruppe,NaturFreundeZentrum
ATTACH;FMTTYPE=image/jpeg:https://naturfreunde-langendreer.de/wp-content/uploads/2025/03/Kreativabend.jpg
END:VEVENT
BEGIN:VEVENT
DTSTART;TZID=Europe/Berlin:20270826T193000
DTEND;TZID=Europe/Berlin:20270826T213000
DTSTAMP:20260425T125129
CREATED:20251029T185909Z
LAST-MODIFIED:20251113T192906Z
UID:10001214-1819308600-1819315800@naturfreunde-langendreer.de
SUMMARY:Kreativabend
DESCRIPTION:Wir treffen uns jeden 4. Donnerstag mit wechselnden Angeboten.
URL:https://naturfreunde-langendreer.de/event/kreativabend-9/2027-08-26/
CATEGORIES:Kreativgruppe,NaturFreundeZentrum
ATTACH;FMTTYPE=image/jpeg:https://naturfreunde-langendreer.de/wp-content/uploads/2025/03/Kreativabend.jpg
END:VEVENT
BEGIN:VEVENT
DTSTART;TZID=Europe/Berlin:20270923T193000
DTEND;TZID=Europe/Berlin:20270923T213000
DTSTAMP:20260425T125129
CREATED:20251029T185909Z
LAST-MODIFIED:20251113T192906Z
UID:10001215-1821727800-1821735000@naturfreunde-langendreer.de
SUMMARY:Kreativabend
DESCRIPTION:Wir treffen uns jeden 4. Donnerstag mit wechselnden Angeboten.
URL:https://naturfreunde-langendreer.de/event/kreativabend-9/2027-09-23/
CATEGORIES:Kreativgruppe,NaturFreundeZentrum
ATTACH;FMTTYPE=image/jpeg:https://naturfreunde-langendreer.de/wp-content/uploads/2025/03/Kreativabend.jpg
END:VEVENT
BEGIN:VEVENT
DTSTART;TZID=Europe/Berlin:20271028T193000
DTEND;TZID=Europe/Berlin:20271028T213000
DTSTAMP:20260425T125129
CREATED:20251029T185909Z
LAST-MODIFIED:20251113T192906Z
UID:10001216-1824751800-1824759000@naturfreunde-langendreer.de
SUMMARY:Kreativabend
DESCRIPTION:Wir treffen uns jeden 4. Donnerstag mit wechselnden Angeboten.
URL:https://naturfreunde-langendreer.de/event/kreativabend-9/2027-10-28/
CATEGORIES:Kreativgruppe,NaturFreundeZentrum
ATTACH;FMTTYPE=image/jpeg:https://naturfreunde-langendreer.de/wp-content/uploads/2025/03/Kreativabend.jpg
END:VEVENT
BEGIN:VEVENT
DTSTART;TZID=Europe/Berlin:20271125T193000
DTEND;TZID=Europe/Berlin:20271125T213000
DTSTAMP:20260425T125129
CREATED:20251029T185909Z
LAST-MODIFIED:20251113T192906Z
UID:10001217-1827171000-1827178200@naturfreunde-langendreer.de
SUMMARY:Kreativabend
DESCRIPTION:Wir treffen uns jeden 4. Donnerstag mit wechselnden Angeboten.
URL:https://naturfreunde-langendreer.de/event/kreativabend-9/2027-11-25/
CATEGORIES:Kreativgruppe,NaturFreundeZentrum
ATTACH;FMTTYPE=image/jpeg:https://naturfreunde-langendreer.de/wp-content/uploads/2025/03/Kreativabend.jpg
END:VEVENT
BEGIN:VEVENT
DTSTART;TZID=Europe/Berlin:20271223T193000
DTEND;TZID=Europe/Berlin:20271223T213000
DTSTAMP:20260425T125129
CREATED:20251029T185909Z
LAST-MODIFIED:20251113T192906Z
UID:10001218-1829590200-1829597400@naturfreunde-langendreer.de
SUMMARY:Kreativabend
DESCRIPTION:Wir treffen uns jeden 4. Donnerstag mit wechselnden Angeboten.
URL:https://naturfreunde-langendreer.de/event/kreativabend-9/2027-12-23/
CATEGORIES:Kreativgruppe,NaturFreundeZentrum
ATTACH;FMTTYPE=image/jpeg:https://naturfreunde-langendreer.de/wp-content/uploads/2025/03/Kreativabend.jpg
END:VEVENT
BEGIN:VEVENT
DTSTART;TZID=Europe/Berlin:20280127T193000
DTEND;TZID=Europe/Berlin:20280127T213000
DTSTAMP:20260425T125129
CREATED:20251029T185909Z
LAST-MODIFIED:20251113T192906Z
UID:10001219-1832614200-1832621400@naturfreunde-langendreer.de
SUMMARY:Kreativabend
DESCRIPTION:Wir treffen uns jeden 4. Donnerstag mit wechselnden Angeboten.
URL:https://naturfreunde-langendreer.de/event/kreativabend-9/2028-01-27/
CATEGORIES:Kreativgruppe,NaturFreundeZentrum
ATTACH;FMTTYPE=image/jpeg:https://naturfreunde-langendreer.de/wp-content/uploads/2025/03/Kreativabend.jpg
END:VEVENT
BEGIN:VEVENT
DTSTART;TZID=Europe/Berlin:20280224T193000
DTEND;TZID=Europe/Berlin:20280224T213000
DTSTAMP:20260425T125129
CREATED:20251029T185909Z
LAST-MODIFIED:20251113T192906Z
UID:10001220-1835033400-1835040600@naturfreunde-langendreer.de
SUMMARY:Kreativabend
DESCRIPTION:Wir treffen uns jeden 4. Donnerstag mit wechselnden Angeboten.
URL:https://naturfreunde-langendreer.de/event/kreativabend-9/2028-02-24/
CATEGORIES:Kreativgruppe,NaturFreundeZentrum
ATTACH;FMTTYPE=image/jpeg:https://naturfreunde-langendreer.de/wp-content/uploads/2025/03/Kreativabend.jpg
END:VEVENT
BEGIN:VEVENT
DTSTART;TZID=Europe/Berlin:20280323T193000
DTEND;TZID=Europe/Berlin:20280323T213000
DTSTAMP:20260425T125129
CREATED:20251029T185909Z
LAST-MODIFIED:20251113T192906Z
UID:10001221-1837452600-1837459800@naturfreunde-langendreer.de
SUMMARY:Kreativabend
DESCRIPTION:Wir treffen uns jeden 4. Donnerstag mit wechselnden Angeboten.
URL:https://naturfreunde-langendreer.de/event/kreativabend-9/2028-03-23/
CATEGORIES:Kreativgruppe,NaturFreundeZentrum
ATTACH;FMTTYPE=image/jpeg:https://naturfreunde-langendreer.de/wp-content/uploads/2025/03/Kreativabend.jpg
END:VEVENT
BEGIN:VEVENT
DTSTART;TZID=Europe/Berlin:20280427T193000
DTEND;TZID=Europe/Berlin:20280427T213000
DTSTAMP:20260425T125129
CREATED:20251029T185909Z
LAST-MODIFIED:20251113T192906Z
UID:10001222-1840476600-1840483800@naturfreunde-langendreer.de
SUMMARY:Kreativabend
DESCRIPTION:Wir treffen uns jeden 4. Donnerstag mit wechselnden Angeboten.
URL:https://naturfreunde-langendreer.de/event/kreativabend-9/2028-04-27/
CATEGORIES:Kreativgruppe,NaturFreundeZentrum
ATTACH;FMTTYPE=image/jpeg:https://naturfreunde-langendreer.de/wp-content/uploads/2025/03/Kreativabend.jpg
END:VEVENT
BEGIN:VEVENT
DTSTART;TZID=Europe/Berlin:20280525T193000
DTEND;TZID=Europe/Berlin:20280525T213000
DTSTAMP:20260425T125129
CREATED:20251029T185909Z
LAST-MODIFIED:20251113T192906Z
UID:10001223-1842895800-1842903000@naturfreunde-langendreer.de
SUMMARY:Kreativabend
DESCRIPTION:Wir treffen uns jeden 4. Donnerstag mit wechselnden Angeboten.
URL:https://naturfreunde-langendreer.de/event/kreativabend-9/2028-05-25/
CATEGORIES:Kreativgruppe,NaturFreundeZentrum
ATTACH;FMTTYPE=image/jpeg:https://naturfreunde-langendreer.de/wp-content/uploads/2025/03/Kreativabend.jpg
END:VEVENT
BEGIN:VEVENT
DTSTART;TZID=Europe/Berlin:20280622T193000
DTEND;TZID=Europe/Berlin:20280622T213000
DTSTAMP:20260425T125129
CREATED:20251029T185909Z
LAST-MODIFIED:20251113T192906Z
UID:10001224-1845315000-1845322200@naturfreunde-langendreer.de
SUMMARY:Kreativabend
DESCRIPTION:Wir treffen uns jeden 4. Donnerstag mit wechselnden Angeboten.
URL:https://naturfreunde-langendreer.de/event/kreativabend-9/2028-06-22/
CATEGORIES:Kreativgruppe,NaturFreundeZentrum
ATTACH;FMTTYPE=image/jpeg:https://naturfreunde-langendreer.de/wp-content/uploads/2025/03/Kreativabend.jpg
END:VEVENT
BEGIN:VEVENT
DTSTART;TZID=Europe/Berlin:20280727T193000
DTEND;TZID=Europe/Berlin:20280727T213000
DTSTAMP:20260425T125129
CREATED:20251029T185909Z
LAST-MODIFIED:20251113T192906Z
UID:10001225-1848339000-1848346200@naturfreunde-langendreer.de
SUMMARY:Kreativabend
DESCRIPTION:Wir treffen uns jeden 4. Donnerstag mit wechselnden Angeboten.
URL:https://naturfreunde-langendreer.de/event/kreativabend-9/2028-07-27/
CATEGORIES:Kreativgruppe,NaturFreundeZentrum
ATTACH;FMTTYPE=image/jpeg:https://naturfreunde-langendreer.de/wp-content/uploads/2025/03/Kreativabend.jpg
END:VEVENT
BEGIN:VEVENT
DTSTART;TZID=Europe/Berlin:20280824T193000
DTEND;TZID=Europe/Berlin:20280824T213000
DTSTAMP:20260425T125129
CREATED:20251029T185909Z
LAST-MODIFIED:20251113T192906Z
UID:10001226-1850758200-1850765400@naturfreunde-langendreer.de
SUMMARY:Kreativabend
DESCRIPTION:Wir treffen uns jeden 4. Donnerstag mit wechselnden Angeboten.
URL:https://naturfreunde-langendreer.de/event/kreativabend-9/2028-08-24/
CATEGORIES:Kreativgruppe,NaturFreundeZentrum
ATTACH;FMTTYPE=image/jpeg:https://naturfreunde-langendreer.de/wp-content/uploads/2025/03/Kreativabend.jpg
END:VEVENT
BEGIN:VEVENT
DTSTART;TZID=Europe/Berlin:20280928T193000
DTEND;TZID=Europe/Berlin:20280928T213000
DTSTAMP:20260425T125129
CREATED:20251029T185909Z
LAST-MODIFIED:20251113T192906Z
UID:10001227-1853782200-1853789400@naturfreunde-langendreer.de
SUMMARY:Kreativabend
DESCRIPTION:Wir treffen uns jeden 4. Donnerstag mit wechselnden Angeboten.
URL:https://naturfreunde-langendreer.de/event/kreativabend-9/2028-09-28/
CATEGORIES:Kreativgruppe,NaturFreundeZentrum
ATTACH;FMTTYPE=image/jpeg:https://naturfreunde-langendreer.de/wp-content/uploads/2025/03/Kreativabend.jpg
END:VEVENT
BEGIN:VEVENT
DTSTART;TZID=Europe/Berlin:20281026T193000
DTEND;TZID=Europe/Berlin:20281026T213000
DTSTAMP:20260425T125129
CREATED:20251029T185909Z
LAST-MODIFIED:20251113T192906Z
UID:10001228-1856201400-1856208600@naturfreunde-langendreer.de
SUMMARY:Kreativabend
DESCRIPTION:Wir treffen uns jeden 4. Donnerstag mit wechselnden Angeboten.
URL:https://naturfreunde-langendreer.de/event/kreativabend-9/2028-10-26/
CATEGORIES:Kreativgruppe,NaturFreundeZentrum
ATTACH;FMTTYPE=image/jpeg:https://naturfreunde-langendreer.de/wp-content/uploads/2025/03/Kreativabend.jpg
END:VEVENT
BEGIN:VEVENT
DTSTART;TZID=Europe/Berlin:20281123T193000
DTEND;TZID=Europe/Berlin:20281123T213000
DTSTAMP:20260425T125129
CREATED:20251029T185909Z
LAST-MODIFIED:20251113T192906Z
UID:10001229-1858620600-1858627800@naturfreunde-langendreer.de
SUMMARY:Kreativabend
DESCRIPTION:Wir treffen uns jeden 4. Donnerstag mit wechselnden Angeboten.
URL:https://naturfreunde-langendreer.de/event/kreativabend-9/2028-11-23/
CATEGORIES:Kreativgruppe,NaturFreundeZentrum
ATTACH;FMTTYPE=image/jpeg:https://naturfreunde-langendreer.de/wp-content/uploads/2025/03/Kreativabend.jpg
END:VEVENT
BEGIN:VEVENT
DTSTART;TZID=Europe/Berlin:20281228T193000
DTEND;TZID=Europe/Berlin:20281228T213000
DTSTAMP:20260425T125129
CREATED:20251029T185909Z
LAST-MODIFIED:20251113T192906Z
UID:10001230-1861644600-1861651800@naturfreunde-langendreer.de
SUMMARY:Kreativabend
DESCRIPTION:Wir treffen uns jeden 4. Donnerstag mit wechselnden Angeboten.
URL:https://naturfreunde-langendreer.de/event/kreativabend-9/2028-12-28/
CATEGORIES:Kreativgruppe,NaturFreundeZentrum
ATTACH;FMTTYPE=image/jpeg:https://naturfreunde-langendreer.de/wp-content/uploads/2025/03/Kreativabend.jpg
END:VEVENT
BEGIN:VEVENT
DTSTART;TZID=Europe/Berlin:20290125T193000
DTEND;TZID=Europe/Berlin:20290125T213000
DTSTAMP:20260425T125129
CREATED:20251029T185909Z
LAST-MODIFIED:20251113T192906Z
UID:10001231-1864063800-1864071000@naturfreunde-langendreer.de
SUMMARY:Kreativabend
DESCRIPTION:Wir treffen uns jeden 4. Donnerstag mit wechselnden Angeboten.
URL:https://naturfreunde-langendreer.de/event/kreativabend-9/2029-01-25/
CATEGORIES:Kreativgruppe,NaturFreundeZentrum
ATTACH;FMTTYPE=image/jpeg:https://naturfreunde-langendreer.de/wp-content/uploads/2025/03/Kreativabend.jpg
END:VEVENT
BEGIN:VEVENT
DTSTART;TZID=Europe/Berlin:20290222T193000
DTEND;TZID=Europe/Berlin:20290222T213000
DTSTAMP:20260425T125129
CREATED:20251029T185909Z
LAST-MODIFIED:20251113T192906Z
UID:10001232-1866483000-1866490200@naturfreunde-langendreer.de
SUMMARY:Kreativabend
DESCRIPTION:Wir treffen uns jeden 4. Donnerstag mit wechselnden Angeboten.
URL:https://naturfreunde-langendreer.de/event/kreativabend-9/2029-02-22/
CATEGORIES:Kreativgruppe,NaturFreundeZentrum
ATTACH;FMTTYPE=image/jpeg:https://naturfreunde-langendreer.de/wp-content/uploads/2025/03/Kreativabend.jpg
END:VEVENT
BEGIN:VEVENT
DTSTART;TZID=Europe/Berlin:20290322T193000
DTEND;TZID=Europe/Berlin:20290322T213000
DTSTAMP:20260425T125129
CREATED:20251029T185909Z
LAST-MODIFIED:20251113T192906Z
UID:10001233-1868902200-1868909400@naturfreunde-langendreer.de
SUMMARY:Kreativabend
DESCRIPTION:Wir treffen uns jeden 4. Donnerstag mit wechselnden Angeboten.
URL:https://naturfreunde-langendreer.de/event/kreativabend-9/2029-03-22/
CATEGORIES:Kreativgruppe,NaturFreundeZentrum
ATTACH;FMTTYPE=image/jpeg:https://naturfreunde-langendreer.de/wp-content/uploads/2025/03/Kreativabend.jpg
END:VEVENT
BEGIN:VEVENT
DTSTART;TZID=Europe/Berlin:20290426T193000
DTEND;TZID=Europe/Berlin:20290426T213000
DTSTAMP:20260425T125129
CREATED:20251029T185909Z
LAST-MODIFIED:20251113T192906Z
UID:10001234-1871926200-1871933400@naturfreunde-langendreer.de
SUMMARY:Kreativabend
DESCRIPTION:Wir treffen uns jeden 4. Donnerstag mit wechselnden Angeboten.
URL:https://naturfreunde-langendreer.de/event/kreativabend-9/2029-04-26/
CATEGORIES:Kreativgruppe,NaturFreundeZentrum
ATTACH;FMTTYPE=image/jpeg:https://naturfreunde-langendreer.de/wp-content/uploads/2025/03/Kreativabend.jpg
END:VEVENT
BEGIN:VEVENT
DTSTART;TZID=Europe/Berlin:20290524T193000
DTEND;TZID=Europe/Berlin:20290524T213000
DTSTAMP:20260425T125129
CREATED:20251029T185909Z
LAST-MODIFIED:20251113T192906Z
UID:10001235-1874345400-1874352600@naturfreunde-langendreer.de
SUMMARY:Kreativabend
DESCRIPTION:Wir treffen uns jeden 4. Donnerstag mit wechselnden Angeboten.
URL:https://naturfreunde-langendreer.de/event/kreativabend-9/2029-05-24/
CATEGORIES:Kreativgruppe,NaturFreundeZentrum
ATTACH;FMTTYPE=image/jpeg:https://naturfreunde-langendreer.de/wp-content/uploads/2025/03/Kreativabend.jpg
END:VEVENT
BEGIN:VEVENT
DTSTART;TZID=Europe/Berlin:20290628T193000
DTEND;TZID=Europe/Berlin:20290628T213000
DTSTAMP:20260425T125129
CREATED:20251029T185909Z
LAST-MODIFIED:20251113T192906Z
UID:10001236-1877369400-1877376600@naturfreunde-langendreer.de
SUMMARY:Kreativabend
DESCRIPTION:Wir treffen uns jeden 4. Donnerstag mit wechselnden Angeboten.
URL:https://naturfreunde-langendreer.de/event/kreativabend-9/2029-06-28/
CATEGORIES:Kreativgruppe,NaturFreundeZentrum
ATTACH;FMTTYPE=image/jpeg:https://naturfreunde-langendreer.de/wp-content/uploads/2025/03/Kreativabend.jpg
END:VEVENT
BEGIN:VEVENT
DTSTART;TZID=Europe/Berlin:20290726T193000
DTEND;TZID=Europe/Berlin:20290726T213000
DTSTAMP:20260425T125129
CREATED:20251029T185909Z
LAST-MODIFIED:20251113T192906Z
UID:10001237-1879788600-1879795800@naturfreunde-langendreer.de
SUMMARY:Kreativabend
DESCRIPTION:Wir treffen uns jeden 4. Donnerstag mit wechselnden Angeboten.
URL:https://naturfreunde-langendreer.de/event/kreativabend-9/2029-07-26/
CATEGORIES:Kreativgruppe,NaturFreundeZentrum
ATTACH;FMTTYPE=image/jpeg:https://naturfreunde-langendreer.de/wp-content/uploads/2025/03/Kreativabend.jpg
END:VEVENT
BEGIN:VEVENT
DTSTART;TZID=Europe/Berlin:20290823T193000
DTEND;TZID=Europe/Berlin:20290823T213000
DTSTAMP:20260425T125129
CREATED:20251029T185909Z
LAST-MODIFIED:20251113T192906Z
UID:10001238-1882207800-1882215000@naturfreunde-langendreer.de
SUMMARY:Kreativabend
DESCRIPTION:Wir treffen uns jeden 4. Donnerstag mit wechselnden Angeboten.
URL:https://naturfreunde-langendreer.de/event/kreativabend-9/2029-08-23/
CATEGORIES:Kreativgruppe,NaturFreundeZentrum
ATTACH;FMTTYPE=image/jpeg:https://naturfreunde-langendreer.de/wp-content/uploads/2025/03/Kreativabend.jpg
END:VEVENT
BEGIN:VEVENT
DTSTART;TZID=Europe/Berlin:20290927T193000
DTEND;TZID=Europe/Berlin:20290927T213000
DTSTAMP:20260425T125129
CREATED:20251029T185909Z
LAST-MODIFIED:20251113T192906Z
UID:10001239-1885231800-1885239000@naturfreunde-langendreer.de
SUMMARY:Kreativabend
DESCRIPTION:Wir treffen uns jeden 4. Donnerstag mit wechselnden Angeboten.
URL:https://naturfreunde-langendreer.de/event/kreativabend-9/2029-09-27/
CATEGORIES:Kreativgruppe,NaturFreundeZentrum
ATTACH;FMTTYPE=image/jpeg:https://naturfreunde-langendreer.de/wp-content/uploads/2025/03/Kreativabend.jpg
END:VEVENT
BEGIN:VEVENT
DTSTART;TZID=Europe/Berlin:20291025T193000
DTEND;TZID=Europe/Berlin:20291025T213000
DTSTAMP:20260425T125129
CREATED:20251029T185909Z
LAST-MODIFIED:20251113T192906Z
UID:10001240-1887651000-1887658200@naturfreunde-langendreer.de
SUMMARY:Kreativabend
DESCRIPTION:Wir treffen uns jeden 4. Donnerstag mit wechselnden Angeboten.
URL:https://naturfreunde-langendreer.de/event/kreativabend-9/2029-10-25/
CATEGORIES:Kreativgruppe,NaturFreundeZentrum
ATTACH;FMTTYPE=image/jpeg:https://naturfreunde-langendreer.de/wp-content/uploads/2025/03/Kreativabend.jpg
END:VEVENT
END:VCALENDAR