BEGIN:VCALENDAR
VERSION:2.0
PRODID:-//NaturFreunde Bochum Langendreer - ECPv6.15.20//NONSGML v1.0//EN
CALSCALE:GREGORIAN
METHOD:PUBLISH
X-ORIGINAL-URL:https://naturfreunde-langendreer.de
X-WR-CALDESC:Veranstaltungen für NaturFreunde Bochum Langendreer
REFRESH-INTERVAL;VALUE=DURATION:PT1H
X-Robots-Tag:noindex
X-PUBLISHED-TTL:PT1H
BEGIN:VTIMEZONE
TZID:Europe/Berlin
BEGIN:DAYLIGHT
TZOFFSETFROM:+0100
TZOFFSETTO:+0200
TZNAME:CEST
DTSTART:20250330T010000
END:DAYLIGHT
BEGIN:STANDARD
TZOFFSETFROM:+0200
TZOFFSETTO:+0100
TZNAME:CET
DTSTART:20251026T010000
END:STANDARD
BEGIN:DAYLIGHT
TZOFFSETFROM:+0100
TZOFFSETTO:+0200
TZNAME:CEST
DTSTART:20260329T010000
END:DAYLIGHT
BEGIN:STANDARD
TZOFFSETFROM:+0200
TZOFFSETTO:+0100
TZNAME:CET
DTSTART:20261025T010000
END:STANDARD
BEGIN:DAYLIGHT
TZOFFSETFROM:+0100
TZOFFSETTO:+0200
TZNAME:CEST
DTSTART:20270328T010000
END:DAYLIGHT
BEGIN:STANDARD
TZOFFSETFROM:+0200
TZOFFSETTO:+0100
TZNAME:CET
DTSTART:20271031T010000
END:STANDARD
END:VTIMEZONE
BEGIN:VEVENT
DTSTART;TZID=Europe/Berlin:20260127T193000
DTEND;TZID=Europe/Berlin:20260127T210000
DTSTAMP:20260425T132603
CREATED:20251212T191322Z
LAST-MODIFIED:20260111T194127Z
UID:10001711-1769542200-1769547600@naturfreunde-langendreer.de
SUMMARY:Musikalischer Abend
DESCRIPTION:Einmal monatlich wird es bei uns musikalisch. Wer Lust hat\, mit anderen Musik zu machen\, kann mit seinem Instrument und Noten (falls vorhanden) einfach vorbeikommen und mitmachen. Wir sind lauter Laien\, die Lust darauf haben\, gemeinsam zu musizieren und probieren einfach etwas aus. Es ist bisher noch ziemlich chaotisch\, macht aber trotzdem Spaß. Die Teilnahme ist kostenlos. Getränke gibt es gegen Spende.
URL:https://naturfreunde-langendreer.de/event/musikalischer-abend-10-3/
CATEGORIES:Musik machen,NaturFreundeZentrum
ATTACH;FMTTYPE=image/jpeg:https://naturfreunde-langendreer.de/wp-content/uploads/2025/08/250923-Musikalischer-Abend.jpg
END:VEVENT
END:VCALENDAR