BEGIN:VCALENDAR
VERSION:2.0
PRODID:-//NaturFreunde Bochum Langendreer - ECPv6.15.20//NONSGML v1.0//EN
CALSCALE:GREGORIAN
METHOD:PUBLISH
X-ORIGINAL-URL:https://naturfreunde-langendreer.de
X-WR-CALDESC:Veranstaltungen für NaturFreunde Bochum Langendreer
REFRESH-INTERVAL;VALUE=DURATION:PT1H
X-Robots-Tag:noindex
X-PUBLISHED-TTL:PT1H
BEGIN:VTIMEZONE
TZID:Europe/Berlin
BEGIN:DAYLIGHT
TZOFFSETFROM:+0100
TZOFFSETTO:+0200
TZNAME:CEST
DTSTART:20240331T010000
END:DAYLIGHT
BEGIN:STANDARD
TZOFFSETFROM:+0200
TZOFFSETTO:+0100
TZNAME:CET
DTSTART:20241027T010000
END:STANDARD
BEGIN:DAYLIGHT
TZOFFSETFROM:+0100
TZOFFSETTO:+0200
TZNAME:CEST
DTSTART:20250330T010000
END:DAYLIGHT
BEGIN:STANDARD
TZOFFSETFROM:+0200
TZOFFSETTO:+0100
TZNAME:CET
DTSTART:20251026T010000
END:STANDARD
BEGIN:DAYLIGHT
TZOFFSETFROM:+0100
TZOFFSETTO:+0200
TZNAME:CEST
DTSTART:20260329T010000
END:DAYLIGHT
BEGIN:STANDARD
TZOFFSETFROM:+0200
TZOFFSETTO:+0100
TZNAME:CET
DTSTART:20261025T010000
END:STANDARD
END:VTIMEZONE
BEGIN:VEVENT
DTSTART;TZID=Europe/Berlin:20251017T180000
DTEND;TZID=Europe/Berlin:20251017T220000
DTSTAMP:20260422T013201
CREATED:20250930T192806Z
LAST-MODIFIED:20250930T192806Z
UID:10000703-1760724000-1760738400@naturfreunde-langendreer.de
SUMMARY:Zimmerpflanzentausch mit Musik
DESCRIPTION:Im Rahmen des Offenen Treffs findet am 17.10.2025 bei uns im Naturfreund:innenzentrum ein geselliger Zimmerpflanzentausch statt. Ausserdem legen wir gute Musik auf! Bringt wüchsige Einblätter\, ungeliebte Palmen\, stachelige Kakteen\, hungrige Carnivoren\, blütenlose Orchideen… damit Alle ein neues zu Hause finden! Du musst nichts zum Tauschen mitbringen. Es dürfen gern auch Pflanzen gegen Spende mitgenommen werden. Der Erlös kommt dem Erhalt unseres Zentrums zu Gute.\nAuch Nichttauscher:innen sind herzlich Willkommen <3\nEs gibt verschiedene Gründe\, warum Zimmerpflanzen aus dem Handel nicht so cool sein können: Pestizidbelastung\, Raubbau\, hoher Energieverbrauch\, Ausbeutung der Produzent:innen…\nWer mehr zum Thema wissen möchte:\nhttps://www.zdf.de/video/dokus/planet-e-106/planet-e-vorsicht-zimmerpflanzen-100
URL:https://naturfreunde-langendreer.de/event/zimmerpflanzentausch-mit-musik/
LOCATION:NaturFreundeZentrum\, Hohe Eiche 20\, Bochum\, NRW\, 44892\, Germany
CATEGORIES:Garten und Pflanzen,Offener Treff
ATTACH;FMTTYPE=image/jpeg:https://naturfreunde-langendreer.de/wp-content/uploads/2025/09/sharepic_Zimmerpflanzentausch_NFZ.jpg
END:VEVENT
END:VCALENDAR