BEGIN:VCALENDAR
VERSION:2.0
PRODID:-//NaturFreunde Bochum Langendreer - ECPv6.15.20//NONSGML v1.0//EN
CALSCALE:GREGORIAN
METHOD:PUBLISH
X-ORIGINAL-URL:https://naturfreunde-langendreer.de
X-WR-CALDESC:Veranstaltungen für NaturFreunde Bochum Langendreer
REFRESH-INTERVAL;VALUE=DURATION:PT1H
X-Robots-Tag:noindex
X-PUBLISHED-TTL:PT1H
BEGIN:VTIMEZONE
TZID:Europe/Berlin
BEGIN:DAYLIGHT
TZOFFSETFROM:+0100
TZOFFSETTO:+0200
TZNAME:CEST
DTSTART:20250330T010000
END:DAYLIGHT
BEGIN:STANDARD
TZOFFSETFROM:+0200
TZOFFSETTO:+0100
TZNAME:CET
DTSTART:20251026T010000
END:STANDARD
BEGIN:DAYLIGHT
TZOFFSETFROM:+0100
TZOFFSETTO:+0200
TZNAME:CEST
DTSTART:20260329T010000
END:DAYLIGHT
BEGIN:STANDARD
TZOFFSETFROM:+0200
TZOFFSETTO:+0100
TZNAME:CET
DTSTART:20261025T010000
END:STANDARD
BEGIN:DAYLIGHT
TZOFFSETFROM:+0100
TZOFFSETTO:+0200
TZNAME:CEST
DTSTART:20270328T010000
END:DAYLIGHT
BEGIN:STANDARD
TZOFFSETFROM:+0200
TZOFFSETTO:+0100
TZNAME:CET
DTSTART:20271031T010000
END:STANDARD
END:VTIMEZONE
BEGIN:VEVENT
DTSTART;TZID=Europe/Berlin:20260222T100000
DTEND;TZID=Europe/Berlin:20260222T170000
DTSTAMP:20260422T004840
CREATED:20260221T071519Z
LAST-MODIFIED:20260221T071520Z
UID:10001387-1771754400-1771779600@naturfreunde-langendreer.de
SUMMARY:Wandern mit den NaturFreunden
DESCRIPTION:AKTUELLE ABSAGE: \nLiebe Wanderfreundinnen und Wanderfreunde\, \nfür Sonntag ist Dauerregen angekündigt\, deshalb muss unsere Wanderung leider ausfallen. Wir werden die genannte Wanderroute dann am nächsten\nregulären Termin erwandern\, am 22. März. \nLiebe Grüße und Berg frei\nWolfgang Quere \n  \nGemeinsam brechen wir von Langendreer entweder mit Bus und Bahn oder zu Fuss auf und Wandern. Genaue Daten\, Ziele und Wege werden immer vorher bekannt gegeben. Pausen und Weglänge werden gemeinsam besprochen. Treffpunkt ist entweder das NFZ oder eine Haltestelle von Bus\, Straßen- oder S-Bahn.\nWir verstehen wandern als soziales Miteinander um gemeinsam Zeit zu verbringen und sich über vieles auszutauschen. Es gibt immer Informationen über die WhatsApp-Wandergruppe oder über den E-Mail-Verteiler der Wandergruppe. Wer also regelmäßig informiert werden möchte\, muss sich bitte mailden.
URL:https://naturfreunde-langendreer.de/event/wandern-mit-den-naturfreunden-2/
CATEGORIES:Aktivitäten,Wandern
ATTACH;FMTTYPE=image/jpeg:https://naturfreunde-langendreer.de/wp-content/uploads/2025/12/2026-Wandern.jpeg
END:VEVENT
END:VCALENDAR